BEGIN:VCALENDAR
VERSION:2.0
PRODID:-//magpie - ECPv6.15.20//NONSGML v1.0//EN
CALSCALE:GREGORIAN
METHOD:PUBLISH
X-WR-CALNAME:magpie
X-ORIGINAL-URL:https://magpie.ae
X-WR-CALDESC:Events for magpie
REFRESH-INTERVAL;VALUE=DURATION:PT1H
X-Robots-Tag:noindex
X-PUBLISHED-TTL:PT1H
BEGIN:VTIMEZONE
TZID:Asia/Dubai
BEGIN:STANDARD
TZOFFSETFROM:+0400
TZOFFSETTO:+0400
TZNAME:+04
DTSTART:20220101T000000
END:STANDARD
END:VTIMEZONE
BEGIN:VEVENT
DTSTART;TZID=Asia/Dubai:20260411T170000
DTEND;TZID=Asia/Dubai:20260411T210000
DTSTAMP:20260421T224109
CREATED:20260407T172245Z
LAST-MODIFIED:20260408T080217Z
UID:10013602-1775926800-1775941200@magpie.ae
SUMMARY:Move\, pause\, return: gathering
DESCRIPTION:The culmination of Gallery Isabelle’s 20th anniversary 20-day exhibition welcomes artists\, contributors\, and friends (the full exhibition\, during which one work has been unveiled each day\, remains on view until 28 May). Those involved: \nArtists: Hassan Sharif\, Bahman Jalali\, Mohammed Kazem\, Mohamed Ahmed Ibrahim\, Bita Fayyazi\, Lara Baladi\, Fereydoun Ave\, Haleh Redjaian\, Shaikha Al Mazrou\, Nargess Hashemi\, Manal Al Dowayan\, Hoda Tawakol\, Vikram Divecha\, Raed Yassin\, Lubna Chowdhary\, Alia Zaal\, Rami Farook\, Sarah Brahim\, Mohammad Alfaraj\, Jumairy \nWriters: Duygu Demir\, Osemudiamen Ekore\, Rémi Homs\, Rotana Shaker\, Yalda Bidshahri\, Hafsa Al Khudairy\, Lucas Morin\, Iaroslav Volovod\, Gaith Abdulla\, Ashkan Zahraei\, Aram Alajaj\, Ahmad Makia\, Salem Alsuwaidi\, Ruba Al-Sweel\, Indranjan Banerjee\, Munira Al Sayegh\, Abdulla Aljanahi\, Sara Bin Safwan\, Zainab Hasoon\, Rahel Aima \n 
URL:https://magpie.ae/event/move-pause-return-gathering/
LOCATION:Gallery Isabelle\, Unit 17\, Alserkal Avenue\, Dubai\, United Arab Emirates
CATEGORIES:Art,Networking
GEO:25.1431157;55.2246127
X-APPLE-STRUCTURED-LOCATION;VALUE=URI;X-ADDRESS=Gallery Isabelle Unit 17 Alserkal Avenue Dubai United Arab Emirates;X-APPLE-RADIUS=500;X-TITLE=Unit 17\, Alserkal Avenue:geo:55.2246127,25.1431157
END:VEVENT
BEGIN:VEVENT
DTSTART;TZID=Asia/Dubai:20240613T173000
DTEND;TZID=Asia/Dubai:20240613T220000
DTSTAMP:20260421T224109
CREATED:20240611T095844Z
LAST-MODIFIED:20240612T085412Z
UID:10009571-1718299800-1718316000@magpie.ae
SUMMARY:Karama Arts Club: Summer Social / How to thrive as a DJ
DESCRIPTION:The intelligent networking session for creative peers is back after a lengthy hiatus (“we have been busy with the ongoing application to become an official non-profit social club … We are thrilled to finally be making progress\, and we hope to get the good news over the summer. Once approved\, we will be the first of its kind in Dubai”). \nKAC has booked two rooms in Casa Latina\, one for the bar (“a chance to mix\, mingle and catch up with Dubai’s creative crème de la crème to a backdrop of quality tunes from our member DJs”) and one for the panel session. The topic this time is making it as a DJ; we’re promised that seasoned pros will share their secrets on how to get started and then how to thrive as a full-timer on the wheels of steel / Ableton. \nThe (semi) formal bit of the evening includes the introduction of new board members and advance info on next season. The panel session starts around 7.30\, with the private bar and ‘members social’ from 6.30 (the DJ panel will be in the next room\, so you can choose to do either or both). At 10pm\, the Bassmati party takes over with free entry for Karama Arts Club guests. \nAccess to the Club’s evenings is free\, but you have to be a member … and membership is free\, too\, but you have to be nominated by an existing club member since this “ensures the sound\, organic growth of a trusted community”. \n  \n 
URL:https://magpie.ae/event/karama-arts-club-how-to-thrive-as-a-dj/
LOCATION:Casa Latina\, Sheikh Zayed Road\, Dubai\, United Arab Emirates
CATEGORIES:Networking,Panel discussion,Photography
GEO:25.1088449;55.1832891
X-APPLE-STRUCTURED-LOCATION;VALUE=URI;X-ADDRESS=Casa Latina Sheikh Zayed Road Dubai United Arab Emirates;X-APPLE-RADIUS=500;X-TITLE=Sheikh Zayed Road:geo:55.1832891,25.1088449
END:VEVENT
BEGIN:VEVENT
DTSTART;TZID=Asia/Dubai:20240128T173000
DTEND;TZID=Asia/Dubai:20240128T220000
DTSTAMP:20260421T224109
CREATED:20231121T103327Z
LAST-MODIFIED:20231206T114216Z
UID:10006928-1706463000-1706479200@magpie.ae
SUMMARY:Karama Arts Club: In the UAE Frame – Photography
DESCRIPTION:The intelligent networking session for creative peers continues its ‘Arts Unfiltered’ panel series\, this time delving into photography in the UAE. “We aim to cover a broad range of topics\, then open up to the floor to hear your questions … whether you’re an established UAE photographer\, a passionate hobbyist\, or someone simply curious about picking up a camera”. \nThe panel session starts around 7.30\, with a private bar from 5.30. \nAccess to the Club’s evenings is free\, sort of\, but (a) you have to be a member … and membership is free\, too\, but you have to be nominated by an existing club member since this “ensures the sound\, organic growth of a trusted community”; and (b) the venue requires a minimum F&B spend in advance. These packages start at AED 50 for an alcoholic drink\, AED 60 for three non-alcoholic; food will be available. \n 
URL:https://magpie.ae/event/karama-arts-club-in-the-uae-frame-photography/
LOCATION:25hours Hotel Dubai One Central\, Trade Center Street\, Dubai
CATEGORIES:Networking,Panel discussion,Photography
GEO:25.2188322;55.2840813
X-APPLE-STRUCTURED-LOCATION;VALUE=URI;X-ADDRESS=25hours Hotel Dubai One Central Trade Center Street Dubai;X-APPLE-RADIUS=500;X-TITLE=Trade Center Street:geo:55.2840813,25.2188322
END:VEVENT
BEGIN:VEVENT
DTSTART;TZID=Asia/Dubai:20231022T173000
DTEND;TZID=Asia/Dubai:20231022T230000
DTSTAMP:20260421T224109
CREATED:20231002T151620Z
LAST-MODIFIED:20231018T152737Z
UID:10005645-1697995800-1698015600@magpie.ae
SUMMARY:Karama Arts Club: Local Matters – The Making of a Music Scene
DESCRIPTION:The intelligent networking session for creative peers is back after its summer break with an extended evening session – a social (with private bar) for members and guests (5.30 to 8.30) followed by the meat of the evening\, a panel discussion on the music scene locally. Panellists will “get right back to basics to dissect the current climate and present practical solutions to work towards a thriving local music scene” including “how the relentless pursuit of imported acts has overshadowed the potential of local talent and stunted the growth of a vibrant homegrown music scene”. \nThe panel: \n\nCharl Chaka Dubai-based creative\, artist\, and DJ who’s had a hugely influential role in shaping the local music scene since 2004. He’s responsible for INFUSION magazine\, too\nRima Rached Founder of Third Eye Crew and the Electric Days events (now rebranded as Vibe Series). Rima’s talent for spotting emerging artists has contributed to global dance music’s growth in the Middle East\nJayesh Veralkar Another of the top movers n shakers in Dubai’s alternate music scene. Part of the Dolby Middle East & Africa team\, founder of Vinyl Souk DXB\, co-founder of and a resident selector at Honeycomb Hi-Fi\nKaram Toubba A producer at Phenomena Productions\, creators of the Last Seen Live platform for local musicians. He’s played in bands since 2004\, was Music Director for Decibel DXB\, curates MiZa Community Radio\, and DJs himself\n\nTarik Omar moderates. His chops include Bahrain’s FarmFest\, establishing community arts space Malja in collaboration with Red Bull\, working with MUTEK’s DigiLab in Dubai\, and a day job as AV Coordinator at the Sharjah Art Foundation. \nThat should run from 8.30 to around 9.45pm\, and afterwards the private bar is open till 11. Incidentally\, KAC has stuck a new label on its panel sessions – the ‘Arts Unfiltered Series’\, which better describes the vibe they want to nurture. \nAccess to the Club’s evenings is free\, sort of\, but (a) you have to be a member … and membership is free\, too\, but you have to be nominated by an existing club member since this “ensures the sound\, organic growth of a trusted community”; and (b) the venue requires a minimum F&B spend in advance. These packages start at AED 75 for three soft drinks or AED 110 for two alcoholic drinks. But hey you were going to buy a drink anyhow\, right?
URL:https://magpie.ae/event/karama-arts-club-local-matters-the-making-of-a-music-scene/
LOCATION:25hours Hotel Dubai One Central\, Trade Center Street\, Dubai
CATEGORIES:Music,Networking,Panel discussion
GEO:25.2188322;55.2840813
X-APPLE-STRUCTURED-LOCATION;VALUE=URI;X-ADDRESS=25hours Hotel Dubai One Central Trade Center Street Dubai;X-APPLE-RADIUS=500;X-TITLE=Trade Center Street:geo:55.2840813,25.2188322
END:VEVENT
END:VCALENDAR