BEGIN:VCALENDAR
VERSION:2.0
PRODID:-//magpie - ECPv6.15.20//NONSGML v1.0//EN
CALSCALE:GREGORIAN
METHOD:PUBLISH
X-ORIGINAL-URL:https://magpie.ae
X-WR-CALDESC:Events for magpie
REFRESH-INTERVAL;VALUE=DURATION:PT1H
X-Robots-Tag:noindex
X-PUBLISHED-TTL:PT1H
BEGIN:VTIMEZONE
TZID:Asia/Dubai
BEGIN:STANDARD
TZOFFSETFROM:+0400
TZOFFSETTO:+0400
TZNAME:+04
DTSTART:20240101T000000
END:STANDARD
END:VTIMEZONE
BEGIN:VEVENT
DTSTART;VALUE=DATE:20251206
DTEND;VALUE=DATE:20251207
DTSTAMP:20260423T155510
CREATED:20251125T175153Z
LAST-MODIFIED:20251125T175153Z
UID:10013086-1764979200-1765065599@magpie.ae
SUMMARY:The Elf in the Gulf
DESCRIPTION:Seasonal musical theatre fun for all the family (but mainly the kids). It’s a continuation of the world created by Collab Company last year with a troupe of singers\, dancers and actors; this time five rookie elves must complete their training at the Christmas Academy and Department of Elvish Training (CADET) in pursuit of their sole mission: to bring joy to families across the UAE. We’re promised interactive\, family-friendly storytelling with lots of laughs\, songs\, and holiday magic in a cosy picnic-style theatre setting (bring a picnic and cushions). \nThere are shows on 6 and 7 December at 11am\, 2pm and 6pm; it’s at South View School in Dubailand. Tickets are AED 75 for kids\, AED 100 for adults\, or AED 300 AED for a Family & Friends four-pack (we assume that’s basically two adults and two kids).
URL:https://magpie.ae/event/the-elf-in-the-gulf/
LOCATION:South View School\, Remraam\, Al Thammam\, Dubai
CATEGORIES:Family/kids,Musical
GEO:25.0049135;55.2494006
X-APPLE-STRUCTURED-LOCATION;VALUE=URI;X-ADDRESS=South View School Remraam Al Thammam Dubai;X-APPLE-RADIUS=500;X-TITLE=Remraam\, Al Thammam:geo:55.2494006,25.0049135
END:VEVENT
END:VCALENDAR