BEGIN:VCALENDAR
VERSION:2.0
PRODID:-//magpie - ECPv6.15.20//NONSGML v1.0//EN
CALSCALE:GREGORIAN
METHOD:PUBLISH
X-ORIGINAL-URL:https://magpie.ae
X-WR-CALDESC:Events for magpie
REFRESH-INTERVAL;VALUE=DURATION:PT1H
X-Robots-Tag:noindex
X-PUBLISHED-TTL:PT1H
BEGIN:VTIMEZONE
TZID:Asia/Dubai
BEGIN:STANDARD
TZOFFSETFROM:+0400
TZOFFSETTO:+0400
TZNAME:+04
DTSTART:20240101T000000
END:STANDARD
END:VTIMEZONE
BEGIN:VEVENT
DTSTART;TZID=Asia/Dubai:20251211T110000
DTEND;TZID=Asia/Dubai:20251211T123000
DTSTAMP:20260423T153704
CREATED:20251204T104840Z
LAST-MODIFIED:20251204T104840Z
UID:10013127-1765450800-1765456200@magpie.ae
SUMMARY:The Story of Art Lecture: It’s All in the Details – the Dutch Golden Age
DESCRIPTION:Bassam Freiha Art Foundation continues its monthly lecture series led by Dr Michaela Watrelot\, BFAF Curator and Director of Exhibitions. This it’s the artistic flourishing of 17th-century Netherlands\, where prosperity and everyday life found new visual meaning – think Rembrandt’s introspective self-portraits and Vermeer’s serene domestic interiors. Still lifes\, genre scenes\, and cityscapes reveal a society reshaping the purpose of art\, offering a deeper understanding of how beauty emerged from observation\, detail\, and the rhythms of daily life.
URL:https://magpie.ae/event/the-story-of-art-lecture-its-all-in-the-details-the-dutch-golden-age/
LOCATION:Bassam Freiha Art Foundation\, Cultural District Saadiyat Island\, Abu Dhabi
CATEGORIES:Art,Lecture
ATTACH;FMTTYPE=image/webp:https://magpie.ae/wp-content/uploads/2025/12/night_watch.webp
GEO:24.5335392;54.4095952
X-APPLE-STRUCTURED-LOCATION;VALUE=URI;X-ADDRESS=Bassam Freiha Art Foundation Cultural District Saadiyat Island Abu Dhabi;X-APPLE-RADIUS=500;X-TITLE=Cultural District Saadiyat Island:geo:54.4095952,24.5335392
END:VEVENT
END:VCALENDAR