BEGIN:VCALENDAR
VERSION:2.0
PRODID:-//magpie - ECPv6.15.20//NONSGML v1.0//EN
CALSCALE:GREGORIAN
METHOD:PUBLISH
X-ORIGINAL-URL:https://magpie.ae
X-WR-CALDESC:Events for magpie
REFRESH-INTERVAL;VALUE=DURATION:PT1H
X-Robots-Tag:noindex
X-PUBLISHED-TTL:PT1H
BEGIN:VTIMEZONE
TZID:Asia/Dubai
BEGIN:STANDARD
TZOFFSETFROM:+0400
TZOFFSETTO:+0400
TZNAME:+04
DTSTART:20240101T000000
END:STANDARD
END:VTIMEZONE
BEGIN:VEVENT
DTSTART;TZID=Asia/Dubai:20251206T223000
DTEND;TZID=Asia/Dubai:20251206T233000
DTSTAMP:20260422T145009
CREATED:20251203T125414Z
LAST-MODIFIED:20251203T134357Z
UID:10013121-1765060200-1765063800@magpie.ae
SUMMARY:Dubai Opera Jazz Studio: Rami Attallah
DESCRIPTION:Late-evening jazz with a 360o sound system and the always impressive Rami Attalah – founder of The Music Hub in Egypt\, main man of the Rami Attallah Group\, main pianist and conductor of Cairo Steps & the Los Compadres Latin Jazz Group … We hear he’ll have special guests to this gig\, singer Andrea Flórez from the Dubai Opera Big Band and ace saxman Artur Garcia . The door price includes one drink\, too.
URL:https://magpie.ae/event/dubai-opera-jazz-studio-rami-attallah/
LOCATION:Dubai Opera Studio\, Downtown Dubai\, Dubai
CATEGORIES:Jazz
ATTACH;FMTTYPE=image/webp:https://magpie.ae/wp-content/uploads/2025/12/rami.webp
GEO:25.1949849;55.2784141
X-APPLE-STRUCTURED-LOCATION;VALUE=URI;X-ADDRESS=Dubai Opera Studio Downtown Dubai Dubai;X-APPLE-RADIUS=500;X-TITLE=Downtown Dubai:geo:55.2784141,25.1949849
END:VEVENT
END:VCALENDAR