BEGIN:VCALENDAR
VERSION:2.0
PRODID:-//magpie - ECPv6.15.20//NONSGML v1.0//EN
CALSCALE:GREGORIAN
METHOD:PUBLISH
X-ORIGINAL-URL:https://magpie.ae
X-WR-CALDESC:Events for magpie
REFRESH-INTERVAL;VALUE=DURATION:PT1H
X-Robots-Tag:noindex
X-PUBLISHED-TTL:PT1H
BEGIN:VTIMEZONE
TZID:Asia/Dubai
BEGIN:STANDARD
TZOFFSETFROM:+0400
TZOFFSETTO:+0400
TZNAME:+04
DTSTART:20250101T000000
END:STANDARD
END:VTIMEZONE
BEGIN:VEVENT
DTSTART;TZID=Asia/Dubai:20260405T160000
DTEND;TZID=Asia/Dubai:20260405T190000
DTSTAMP:20260423T165055
CREATED:20260401T121311Z
LAST-MODIFIED:20260401T121311Z
UID:10013575-1775404800-1775415600@magpie.ae
SUMMARY:Mountain Boy: dir Zainab Shaheen (2024)
DESCRIPTION:A special screening of Zainab Shaheen’s debut feature\, a coming-of-age story that doubles as a love letter to the landscapes of the UAE. Suhail is a young Emirati with autism\, living alone in the Fujairah mountains after his father shuns him. There he is at one with nature and has a kindness that infiltrates those who engage with him. When he crosses paths with a child caught in a storm\, it prompts him to set off on an unexpected an Arabian saluki in search of his mother’s family. On his travels toward Abu Dhabi the strangers he meets become friends … \nThe screening will be followed by a Q&A with director Zainab Shaheen\, writer Michelle Ziolkowski\, and actor Naser Almessabi. \nRegistration is free (and does not require a museum ticket) with seats allocated on a first-come\, first-served basis.
URL:https://magpie.ae/event/mountain-boy-dir-zainab-shaheen-2024-2/
LOCATION:Etihad Museum\, 1 Jumeirah St\, Dubai
CATEGORIES:Film
ATTACH;FMTTYPE=image/webp:https://magpie.ae/wp-content/uploads/2026/02/mountain-boy.webp
GEO:25.241356;55.269841
X-APPLE-STRUCTURED-LOCATION;VALUE=URI;X-ADDRESS=Etihad Museum 1 Jumeirah St Dubai;X-APPLE-RADIUS=500;X-TITLE=1 Jumeirah St:geo:55.269841,25.241356
END:VEVENT
END:VCALENDAR