BEGIN:VCALENDAR
VERSION:2.0
PRODID:-//magpie - ECPv6.15.20//NONSGML v1.0//EN
CALSCALE:GREGORIAN
METHOD:PUBLISH
X-ORIGINAL-URL:https://magpie.ae
X-WR-CALDESC:Events for magpie
REFRESH-INTERVAL;VALUE=DURATION:PT1H
X-Robots-Tag:noindex
X-PUBLISHED-TTL:PT1H
BEGIN:VTIMEZONE
TZID:Asia/Dubai
BEGIN:STANDARD
TZOFFSETFROM:+0400
TZOFFSETTO:+0400
TZNAME:+04
DTSTART:20250101T000000
END:STANDARD
END:VTIMEZONE
BEGIN:VEVENT
DTSTART;TZID=Asia/Dubai:20260304T213000
DTEND;TZID=Asia/Dubai:20260304T230000
DTSTAMP:20260423T153201
CREATED:20260217T162309Z
LAST-MODIFIED:20260303T173946Z
UID:10013449-1772659800-1772665200@magpie.ae
SUMMARY:POSTPONED The Voice of Hind Rajab: dir Kaouther Ben Hania (2025)
DESCRIPTION:Tunisian director Kaouther Ben Hania has created a docudrama that reconstructs the horrifying true story of five-year-old Hind Rajab as she is bombarded by the Israeli army in Gaza in 2024. Rajab survived the original assault by the IDF\, which killed six family members and two paramedics\, and she stayed on the phone for hours to the Palestine Red Crescent Society desperately begging for help. Rajab’s heart-wrenching voice is real; the film fictionally reconstructing the drama of the emergency responders in their call centre office. \nThis is a powerful film\, greeted with a 23-minute standing ovation when shown at the Venice Film Festival last autumn. It also begs a few questions about whether the mix of fiction and fact is at all exploitative; but you can make your own minds up about that … Very highly recommended\, \nIt is presented here by the NYUAD Film and New Media Program and screening as part of the CinemaNA series of contemporary Arab cinema.
URL:https://magpie.ae/event/the-voice-of-hind-rajab-dir-kaouther-ben-hania-2025/
LOCATION:The Arts Center @ NYUAD\, NYUAD Campus\, Saadiyat Island\, Abu Dhabi\, United Arab Emirates
CATEGORIES:Film
ATTACH;FMTTYPE=image/webp:https://magpie.ae/wp-content/uploads/2026/02/hind-rajab.webp
GEO:24.5238948;54.4345558
X-APPLE-STRUCTURED-LOCATION;VALUE=URI;X-ADDRESS=The Arts Center @ NYUAD NYUAD Campus Saadiyat Island Abu Dhabi United Arab Emirates;X-APPLE-RADIUS=500;X-TITLE=NYUAD Campus\, Saadiyat Island:geo:54.4345558,24.5238948
END:VEVENT
END:VCALENDAR