BEGIN:VCALENDAR
VERSION:2.0
PRODID:-//magpie - ECPv6.15.20//NONSGML v1.0//EN
CALSCALE:GREGORIAN
METHOD:PUBLISH
X-WR-CALNAME:magpie
X-ORIGINAL-URL:https://magpie.ae
X-WR-CALDESC:Events for magpie
REFRESH-INTERVAL;VALUE=DURATION:PT1H
X-Robots-Tag:noindex
X-PUBLISHED-TTL:PT1H
BEGIN:VTIMEZONE
TZID:Asia/Dubai
BEGIN:STANDARD
TZOFFSETFROM:+0400
TZOFFSETTO:+0400
TZNAME:+04
DTSTART:20250101T000000
END:STANDARD
END:VTIMEZONE
BEGIN:VEVENT
DTSTART;VALUE=DATE:20260418
DTEND;VALUE=DATE:20260419
DTSTAMP:20260425T023123
CREATED:20260417T103614Z
LAST-MODIFIED:20260417T105216Z
UID:10013636-1776470400-1776556799@magpie.ae
SUMMARY:Alserkal Art Month: weekend 1
DESCRIPTION:Alserkal Avenue’s Art Month (18 April to 19 May) includes a raft of individual events\, mostly at the weekends\, alongside the usual gallery opening hours – most of those we have listed separately in the Agenda. Here’s the schedule for the first Saturday: \n2-8pm The Yard WORKSHOP Wear Your Words\nLive screen printing throughout the afternoon and evening – bring a T-shirt or tote bag to be printed with a text by Shilpa Gupta\, directly referencing her light-text sculpture Still A Sky We Hold\, also located in The Yard and launching for the opening of Alserkal Art Month \n4pm Common Room CONVERSATION Subtle Sites of Power\nKevin Jones talks with Green Art Gallery artists Alla Abdunabi and Fatma Al Ali\, illuminating both their engagement with material and their taste for dismantling the logic of empire \n6pm The Yard PERFORMANCE ADIGA Music Band\nDubai-based Sudanese three-piece group that brings traditional Sudanese rhythms into the modern era \n  \n  \n 
URL:https://magpie.ae/event/alserkal-art-month-weekend-1/
LOCATION:Alserkal Avenue\, Al Quoz 1\, Dubai
CATEGORIES:Art,Festival
GEO:25.168395;55.2563077
X-APPLE-STRUCTURED-LOCATION;VALUE=URI;X-ADDRESS=Alserkal Avenue Al Quoz 1 Dubai;X-APPLE-RADIUS=500;X-TITLE=Al Quoz 1:geo:55.2563077,25.168395
END:VEVENT
BEGIN:VEVENT
DTSTART;TZID=Asia/Dubai:20260418T120000
DTEND;TZID=Asia/Dubai:20260418T200000
DTSTAMP:20260425T023123
CREATED:20260417T142150Z
LAST-MODIFIED:20260417T142150Z
UID:10013639-1776513600-1776542400@magpie.ae
SUMMARY:Final Draft
DESCRIPTION:This interesting-looking event by the Ripple Collective\, a group of multidisciplinary designers and design-led retailers based in Abu Dhabi\, has been running for four years now with little fanfare. It offers a day of “the things we love most: good people\, good design\, good ideas and the potential impact of putting them all together”. So it’s not your usual design festival\, either in scale or content; but it does look like a good chance to meet and share. It’s free (preregister here) and it will be a small group – which should be for the better\, providing opportunities to interact and engage. \nThere are a couple of concurrent sessions to chose from; note that some sessions have limited spaces and so need preregistration – we’ve indicated those. The schedule: \n12.00 – 12.50pm Slash Sessions: The Impossible Spaghetti\nA “fun and informative workshop” that “will work towards the impossible”: defining something that is simultaneously true and untrue … Slash\, incidentally\, is the strategic design studio at the heart of the Ripple Collective. RSVP here  \n1.00 – 1.50pm Base Session: Adventures in AI\nRipple folk talk about their design approach to AI and what happens when it goes wrong. A live build session will put it to the test. \n1.00 – 1.50pm Fount Workshop: Doll Lab\nA “messy but manageable creative session” inspired by Alexander Girard’s Vitra dolls\, scrap wood and colour to excite your inner child (and your actual child too if you want). Fount is a “curated concept store” that’s part of Ripple … RSVP here  \n1.00 – 2.50pm Sadu Workshop: Craft in Action\nAn introductory to traditional Emirati/Bedouin Sadu hand-weaving. RSVP here  \n2.00 – 2.50pm Talk: Shaikha Al Ketbi – Common Grounds\nVisual artist Al Ketbi unpacks her four years in Japan – how it inspired her art\, her work on the UAE Pavilion at the Osaka Expo\, what cross-cultural creativity means in practice \n3.00 – 3.50pm UncleNado’s Listening Lounge\nA session for your ears and your eyes: the connection between good music and good album cover design \n3.00 – 3.50pm Slash Sessions: Spill the Chai\nBrewing karak has more to say about who we are than you’d think. This workshop is a space to listen\, to brew\, and to leave with something that stays longer than the taste … RSVP here  \n4.00 – 4.50pm Talk: Mohamed Dardiri – The Design/Making Battle \nBringing design to life – the link between designing something and then actually making it \n4.00 – 4.50pm Fabrica Workshop: Block Printing with Muge\nMake prints\, print prints\, admire your prints (Fabrica is the industrial design and craftsmanship studio in the Ripple orbit). RSVP here  \n5.00 – 5.50pm Talk: Music meets Design with Pho & Teenage Engineering\nBehind the sound and design of Teenage Engineering\, “one of the world’s coolest audio brands” \n5.00 – 5.50pm Fabrica Workshop: Block Printing with Muge\nAnother session as above. RSVP here  \n6.00 – 6.30pm break \n6.30 – 7.15pm Talk: Is This Emirati? with Saleh (La Petite)\nA conversation on contemporary Emirati design\, the culture that inspires it\, the expression it takes and the magic needed to bring it to life \n7.20-8.00pm Main Talk: The Long Way Home with Nuno Abreu\nA talk from the main man of Slash\, the design studio at the heart of Ripple\, on building a contemporary design scene through scarcity\, beauty\, and the perspective gained from distance
URL:https://magpie.ae/event/final-draft/
LOCATION:ERTH\, Khor Al Maqta Al Khaleej Al Arabi Road\, Abu Dhabi
CATEGORIES:Design,Festival
GEO:24.4042548;54.4835144
X-APPLE-STRUCTURED-LOCATION;VALUE=URI;X-ADDRESS=ERTH Khor Al Maqta Al Khaleej Al Arabi Road Abu Dhabi;X-APPLE-RADIUS=500;X-TITLE=Khor Al Maqta Al Khaleej Al Arabi Road:geo:54.4835144,24.4042548
END:VEVENT
END:VCALENDAR