BEGIN:VCALENDAR
VERSION:2.0
PRODID:-//magpie - ECPv6.15.20//NONSGML v1.0//EN
CALSCALE:GREGORIAN
METHOD:PUBLISH
X-WR-CALNAME:magpie
X-ORIGINAL-URL:https://magpie.ae
X-WR-CALDESC:Events for magpie
REFRESH-INTERVAL;VALUE=DURATION:PT1H
X-Robots-Tag:noindex
X-PUBLISHED-TTL:PT1H
BEGIN:VTIMEZONE
TZID:Asia/Dubai
BEGIN:STANDARD
TZOFFSETFROM:+0400
TZOFFSETTO:+0400
TZNAME:+04
DTSTART:20250101T000000
END:STANDARD
END:VTIMEZONE
BEGIN:VEVENT
DTSTART;TZID=Asia/Dubai:20260320T190000
DTEND;TZID=Asia/Dubai:20260320T203000
DTSTAMP:20260422T093327
CREATED:20241023T074403Z
LAST-MODIFIED:20260224T153151Z
UID:10010751-1774033200-1774038600@magpie.ae
SUMMARY:The Red Turtle: dir Michaela Dudoka De Wita (2016)
DESCRIPTION:An animated fantasy drama with no dialogue that tells the story of a man shipwrecked on an uninhabited island. His attempts to escape are foiled by what turns out to be a giant red hawksbill sea turtle; she turns into a red-haired woman\, they reconcile\, and they live together on the island … Suspended between reality and a dream\, this poetic story is a meditation on beauty\, nature and the stages of human life. An Oscar nominee and an award-winner from Cannes\, the film was a co-production of legendary Studio Ghibli and a number of French production companies. \nHighly recommended. Screens in support of the Abu Dhabi Sea Turtle Rehabilitation Project in collaboration with The National Aquarium and the Environment Agency. \n 
URL:https://magpie.ae/event/the-red-turtle-dir-michaela-dudoka-de-wita-2016/
LOCATION:Louvre Abu Dhabi\, Saadiyat Island\, Abu Dhabi
CATEGORIES:Environment,Film
ATTACH;FMTTYPE=image/webp:https://magpie.ae/wp-content/uploads/2024/10/Red-Turtle.webp
GEO:24.5302924;54.4451578
X-APPLE-STRUCTURED-LOCATION;VALUE=URI;X-ADDRESS=Louvre Abu Dhabi Saadiyat Island Abu Dhabi;X-APPLE-RADIUS=500;X-TITLE=Saadiyat Island:geo:54.4451578,24.5302924
END:VEVENT
END:VCALENDAR