BEGIN:VCALENDAR
VERSION:2.0
PRODID:-//magpie - ECPv6.15.20//NONSGML v1.0//EN
CALSCALE:GREGORIAN
METHOD:PUBLISH
X-ORIGINAL-URL:https://magpie.ae
X-WR-CALDESC:Events for magpie
REFRESH-INTERVAL;VALUE=DURATION:PT1H
X-Robots-Tag:noindex
X-PUBLISHED-TTL:PT1H
BEGIN:VTIMEZONE
TZID:Asia/Dubai
BEGIN:STANDARD
TZOFFSETFROM:+0400
TZOFFSETTO:+0400
TZNAME:+04
DTSTART:20240101T000000
END:STANDARD
END:VTIMEZONE
BEGIN:VEVENT
DTSTART;TZID=Asia/Dubai:20250620T170000
DTEND;TZID=Asia/Dubai:20250620T190000
DTSTAMP:20260422T150324
CREATED:20250609T094139Z
LAST-MODIFIED:20250609T094139Z
UID:10012498-1750438800-1750446000@magpie.ae
SUMMARY:Layered Dialogues: Society as Medium – In/Visible City
DESCRIPTION:Another in the series of panel discussions based around the Layered Medium: We Are in Open Circuits exhibition at this venue (runs to 30 June and is well worth seeing). Artist Minouk Lim talks with Wael Al Awar\, Principal architect and founding partner of hop studio waiwai\, discuss the hidden infrastructures of the city – both material and social – that orchestrate urban life and social relations. How does infrastructure operate as both geopolitical script and social choreography? How do these systems emerge from\, and reinforce\, particular forms of social organisation? \nConceiving the city as a layered topography of speculative\, real\, and imagined mediums\, ranging from master plans to maintenance routines\, the discussion focuses on Gulf urbanism and the cultural logic embedded in its invisible systems. This should deliver some fascinating insights …
URL:https://magpie.ae/event/layered-dialogues-society-as-medium-in-visible-city/
LOCATION:Manarat al Saadiyat\, Abu Dhabi\, United Arab Emirates
CATEGORIES:Conversation
END:VEVENT
END:VCALENDAR