BEGIN:VCALENDAR
VERSION:2.0
PRODID:-//magpie - ECPv6.15.20//NONSGML v1.0//EN
CALSCALE:GREGORIAN
METHOD:PUBLISH
X-WR-CALNAME:magpie
X-ORIGINAL-URL:https://magpie.ae
X-WR-CALDESC:Events for magpie
REFRESH-INTERVAL;VALUE=DURATION:PT1H
X-Robots-Tag:noindex
X-PUBLISHED-TTL:PT1H
BEGIN:VTIMEZONE
TZID:Asia/Dubai
BEGIN:STANDARD
TZOFFSETFROM:+0400
TZOFFSETTO:+0400
TZNAME:+04
DTSTART:20240101T000000
END:STANDARD
END:VTIMEZONE
BEGIN:VEVENT
DTSTART;TZID=Asia/Dubai:20250614T170000
DTEND;TZID=Asia/Dubai:20250614T190000
DTSTAMP:20260422T052011
CREATED:20250609T093713Z
LAST-MODIFIED:20250611T152314Z
UID:10012497-1749920400-1749927600@magpie.ae
SUMMARY:Layered Dialogues: Society as Medium
DESCRIPTION:Subtitled ‘Objects as Anchors: Material\, Narrative\, and Memory’\, this panel discussion riffs on the recently-opened Layered Medium: We Are in Open Circuits exhibition at this venue (runs to 30 June and is well worth seeing). \nAs the blurb puts it: “Objects persist across time and space\, becoming focal points around which communities\, identities\, and histories take shape. From traditional crafts and ritual items to incidental domestic bric-a-brac\, objects can anchor deeply personal or collective narratives … [The] subjective interdependence of material\, memory\, and narrative means that\, while objects might travel\, their precise meanings do not always move with them: what is sincerely felt in one place or time does not necessarily translate …”\n‍\nArtists Rand Abdul Jabbar and Sojung Jun are in conversation with Tina Sherwell\, Associate Arts Professor at NYUAD and co-director of the MFA programme there. \n 
URL:https://magpie.ae/event/layered-dialogues-society-as-medium/
LOCATION:Manarat al Saadiyat\, Abu Dhabi\, United Arab Emirates
CATEGORIES:Conversation
END:VEVENT
END:VCALENDAR