BEGIN:VCALENDAR
VERSION:2.0
PRODID:-//magpie - ECPv6.15.20//NONSGML v1.0//EN
CALSCALE:GREGORIAN
METHOD:PUBLISH
X-ORIGINAL-URL:https://magpie.ae
X-WR-CALDESC:Events for magpie
REFRESH-INTERVAL;VALUE=DURATION:PT1H
X-Robots-Tag:noindex
X-PUBLISHED-TTL:PT1H
BEGIN:VTIMEZONE
TZID:Asia/Dubai
BEGIN:STANDARD
TZOFFSETFROM:+0400
TZOFFSETTO:+0400
TZNAME:+04
DTSTART:20240101T000000
END:STANDARD
END:VTIMEZONE
BEGIN:VEVENT
DTSTART;TZID=Asia/Dubai:20250315T210000
DTEND;TZID=Asia/Dubai:20250315T220000
DTSTAMP:20260422T132155
CREATED:20250303T095739Z
LAST-MODIFIED:20250303T095921Z
UID:10011756-1742072400-1742076000@magpie.ae
SUMMARY:Artist talk: Athar Jaber
DESCRIPTION:Barjeel Art Foundation founder and noted cultural commentator Sultan Sooud Al Qassemi talks with Athar Jaber about the artist’s practice\, life\, and thoughts. Athar Jaber’s first solo show at Ayyam Gallery\, titled Vestiges\, is midway through its run (to 1 April); building on the classical notion of the mind trapped within the body\, Athar’s interesting exhibition uses the body as a metaphor for socio-political dynamics – the human form becomes a means to address power dynamics\, social structures\, and the human condition.
URL:https://magpie.ae/event/artist-talk-athar-jaber/
LOCATION:Ayyam Gallery\, B11\, Alserkal Avenue\, Dubai\, United Arab Emirates
CATEGORIES:Art,Conversation
GEO:25.1431157;55.2246127
X-APPLE-STRUCTURED-LOCATION;VALUE=URI;X-ADDRESS=Ayyam Gallery B11 Alserkal Avenue Dubai United Arab Emirates;X-APPLE-RADIUS=500;X-TITLE=B11\, Alserkal Avenue:geo:55.2246127,25.1431157
END:VEVENT
END:VCALENDAR