BEGIN:VCALENDAR
VERSION:2.0
PRODID:-//magpie - ECPv6.15.20//NONSGML v1.0//EN
CALSCALE:GREGORIAN
METHOD:PUBLISH
X-WR-CALNAME:magpie
X-ORIGINAL-URL:https://magpie.ae
X-WR-CALDESC:Events for magpie
REFRESH-INTERVAL;VALUE=DURATION:PT1H
X-Robots-Tag:noindex
X-PUBLISHED-TTL:PT1H
BEGIN:VTIMEZONE
TZID:Asia/Dubai
BEGIN:STANDARD
TZOFFSETFROM:+0400
TZOFFSETTO:+0400
TZNAME:+04
DTSTART:20230101T000000
END:STANDARD
END:VTIMEZONE
BEGIN:VEVENT
DTSTART;TZID=Asia/Dubai:20241122T160000
DTEND;TZID=Asia/Dubai:20241122T163000
DTSTAMP:20260425T051435
CREATED:20241119T175324Z
LAST-MODIFIED:20241119T175358Z
UID:10010938-1732291200-1732293000@magpie.ae
SUMMARY:Public Art Abu Dhabi Biennial: Sociocultural Contexts and Public Art
DESCRIPTION:This panel involves artists whose work connects us within cities. Bjørnstjerne Christiansen (SUPERFLEX) speaks about interspecies relationships and gathering spaces for humans and other species; Afra Al Dhaheri explains how her work fosters sensory engagement\, promoting balance amid modern life’s overstimulation. \nSpeakers: \nAfra Al Dhaheri\nBjørnstjerne Christiansen (SUPERFLEX)\nModerator: Mariet Westermann\, Director and CEO\, Solomon R. Guggenheim Museum and Foundation
URL:https://magpie.ae/event/public-art-abu-dhabi-biennial-sociocultural-contexts-and-public-art/
LOCATION:Manarat al Saadiyat\, Abu Dhabi\, United Arab Emirates
CATEGORIES:Art,Conversation
END:VEVENT
BEGIN:VEVENT
DTSTART;TZID=Asia/Dubai:20241122T191500
DTEND;TZID=Asia/Dubai:20241122T220000
DTSTAMP:20260425T051435
CREATED:20241119T172959Z
LAST-MODIFIED:20241119T173735Z
UID:10010933-1732302900-1732312800@magpie.ae
SUMMARY:Public Art Abu Dhabi Biennial: Tania Candiani’s Nomadic Stage
DESCRIPTION:Tania Candiani’s contribution to the Public Art Abu Dhabi Biennial features an inflatable mobile stage that moves across the city\, transforming urban spaces into hubs for collective exchange and endowing these spaces with renewed significance. The performers for this live music show are … \n7.15pm Bait Al Oud (oud solo)\n8.20pm Hindustani classical: two singers with musicians playing tabla\, keyboard\, and violin\n9.20pm Qawsaan \nWe’re not certain of the location\, but it’s probably at her site on the Corniche opposite the Urban Park. \n 
URL:https://magpie.ae/event/public-art-abu-dhabi-biennial-tania-candianis-nomadic-stage/
CATEGORIES:Art,Conversation
END:VEVENT
END:VCALENDAR