BEGIN:VCALENDAR
VERSION:2.0
PRODID:-//magpie - ECPv6.15.20//NONSGML v1.0//EN
CALSCALE:GREGORIAN
METHOD:PUBLISH
X-WR-CALNAME:magpie
X-ORIGINAL-URL:https://magpie.ae
X-WR-CALDESC:Events for magpie
REFRESH-INTERVAL;VALUE=DURATION:PT1H
X-Robots-Tag:noindex
X-PUBLISHED-TTL:PT1H
BEGIN:VTIMEZONE
TZID:Asia/Dubai
BEGIN:STANDARD
TZOFFSETFROM:+0400
TZOFFSETTO:+0400
TZNAME:+04
DTSTART:20240101T000000
END:STANDARD
END:VTIMEZONE
BEGIN:VEVENT
DTSTART;TZID=Asia/Dubai:20250417T103000
DTEND;TZID=Asia/Dubai:20250417T113000
DTSTAMP:20260422T065541
CREATED:20250326T171935Z
LAST-MODIFIED:20250326T172924Z
UID:10011820-1744885800-1744889400@magpie.ae
SUMMARY:The Power of Words: When Humour Meets Visual Culture
DESCRIPTION:A conversation with around Thomas Lélu’s current Zidoun-Bossuyt show Calm Down It’s Just Art exploring the impact of language and humour in contemporary art\, and how it resonates within an international cultural context like that of the UAE. \nThe panel: \nThomas Lélu artist\nSalem Alshamsi artist\, lawyer and lecturer at Sorbonne Abu Dhabi\nJudith Benhamou art writer\nStéphanie Salha director\, Institut Français Des Émirats Arabes Unis \nRSVP to leslie@zidoun-bossuyt.com.
URL:https://magpie.ae/event/the-power-of-words-when-humor-meets-visual-culture/
LOCATION:Zidoun-Bossuyt Gallery\, 796 Jumeirah Street\, Dubai
CATEGORIES:Art,Conversation
GEO:25.1490062;55.1980251
X-APPLE-STRUCTURED-LOCATION;VALUE=URI;X-ADDRESS=Zidoun-Bossuyt Gallery 796 Jumeirah Street Dubai;X-APPLE-RADIUS=500;X-TITLE=796 Jumeirah Street:geo:55.1980251,25.1490062
END:VEVENT
END:VCALENDAR