BEGIN:VCALENDAR
VERSION:2.0
PRODID:-//magpie - ECPv6.15.20//NONSGML v1.0//EN
CALSCALE:GREGORIAN
METHOD:PUBLISH
X-ORIGINAL-URL:https://magpie.ae
X-WR-CALDESC:Events for magpie
REFRESH-INTERVAL;VALUE=DURATION:PT1H
X-Robots-Tag:noindex
X-PUBLISHED-TTL:PT1H
BEGIN:VTIMEZONE
TZID:Asia/Dubai
BEGIN:STANDARD
TZOFFSETFROM:+0400
TZOFFSETTO:+0400
TZNAME:+04
DTSTART:20250101T000000
END:STANDARD
END:VTIMEZONE
BEGIN:VEVENT
DTSTART;TZID=Asia/Dubai:20260503T200000
DTEND;TZID=Asia/Dubai:20260503T220000
DTSTAMP:20260423T015950
CREATED:20260227T140231Z
LAST-MODIFIED:20260227T140920Z
UID:10013494-1777838400-1777845600@magpie.ae
SUMMARY:Denis Matsuev
DESCRIPTION:One of the outstanding pianists of the 21st century is back in Dubai with a concert that is sure to showcase his virtuosity (the orchestra gets second billing\, for instance – it’s the Academy of Russian Music Symphony Orchestra under the baton of Ivan Nikiforchin). Star of the show will surely be Rachmaninoff’s Piano Concerto No.2\, an icon of Romantic expression; Matsuev has deservedly become associated with sensitive and creative interpretations of the composer’s work\, and indeed for many years he has collaborated with the Sergei Rachmaninov Foundation – latterly as its artistic director. \nMatsuev is also an accomplished jazz pianist\, and the evening also features a section titled ‘SymphoJazz’. We think this is the ongoing project of the Ivanov brothers\, pianist Mikhail and Andrey on double bass; Andrey is guesting in Dubai\, and as it happens regularly plays in a jazz trio with Matsuev. As the name implies\, SymphoJazz is a blend of classical orchestral elements with jazz improvisation (Matsuev has in the past played jazz variations on Rachmaninoff …) He’ll be joined for this by additional guest soloists Borislav Strulev (cello)\, Ekaterina Mochalova (domra\, the long-necked Russian lute)\, and David Tkebuchava (drums).
URL:https://magpie.ae/event/denis-matsuev-2/
LOCATION:Dubai Opera
CATEGORIES:Concert
ATTACH;FMTTYPE=image/webp:https://magpie.ae/wp-content/uploads/2026/02/matsuev.webp
GEO:25.1928528;55.2789648
END:VEVENT
BEGIN:VEVENT
DTSTART;TZID=Asia/Dubai:20260523T200000
DTEND;TZID=Asia/Dubai:20260523T220000
DTSTAMP:20260423T015950
CREATED:20260421T122447Z
LAST-MODIFIED:20260421T122447Z
UID:10013655-1779566400-1779573600@magpie.ae
SUMMARY:Lulu Santos
DESCRIPTION:With more than four decades of music-making behind him\, Lulu Santos has a catalogue of iconic Brazilian hits that continues to resonate with audiences through sincerity\, melody\, and timeless songwriting – songs such as Tempos Modernos\, Toda Forma de Amor\, and Assim Caminha a Humanidade. In concert\, we’re promised “a live experience shaped by emotion\, melody\, and the unmistakable warmth that has defined his music  …”
URL:https://magpie.ae/event/lulu-santos/
LOCATION:Dubai Opera
CATEGORIES:Concert
ATTACH;FMTTYPE=image/webp:https://magpie.ae/wp-content/uploads/2026/04/lulu-santos.webp
GEO:25.1928528;55.2789648
END:VEVENT
END:VCALENDAR