BEGIN:VCALENDAR
VERSION:2.0
PRODID:-//magpie - ECPv6.15.20//NONSGML v1.0//EN
CALSCALE:GREGORIAN
METHOD:PUBLISH
X-ORIGINAL-URL:https://magpie.ae
X-WR-CALDESC:Events for magpie
REFRESH-INTERVAL;VALUE=DURATION:PT1H
X-Robots-Tag:noindex
X-PUBLISHED-TTL:PT1H
BEGIN:VTIMEZONE
TZID:Asia/Dubai
BEGIN:STANDARD
TZOFFSETFROM:+0400
TZOFFSETTO:+0400
TZNAME:+04
DTSTART:20240101T000000
END:STANDARD
END:VTIMEZONE
BEGIN:VEVENT
DTSTART;TZID=Asia/Dubai:20251216T200000
DTEND;TZID=Asia/Dubai:20251216T233000
DTSTAMP:20260424T032849
CREATED:20251203T111741Z
LAST-MODIFIED:20251203T111741Z
UID:10013109-1765915200-1765927800@magpie.ae
SUMMARY:The Comedy Lab @ Easy Tiger
DESCRIPTION:MadCat’s standup team at its regular stop in the Easy Tiger bar in Abu Dhabi’s Al Ain Palace. The door price of AED 99 includes two drinks …
URL:https://magpie.ae/event/the-comedy-lab-easy-tiger-9/
LOCATION:Al Ain Palace Hotel\, Corniche Road\, Abu Dhabi
CATEGORIES:Comedy
GEO:24.4991661;54.3699819
X-APPLE-STRUCTURED-LOCATION;VALUE=URI;X-ADDRESS=Al Ain Palace Hotel Corniche Road Abu Dhabi;X-APPLE-RADIUS=500;X-TITLE=Corniche Road:geo:54.3699819,24.4991661
END:VEVENT
BEGIN:VEVENT
DTSTART;TZID=Asia/Dubai:20251218T200000
DTEND;TZID=Asia/Dubai:20251218T223000
DTSTAMP:20260424T032849
CREATED:20251203T112304Z
LAST-MODIFIED:20251203T112304Z
UID:10013113-1766088000-1766097000@magpie.ae
SUMMARY:The Comedy Lab
DESCRIPTION:MadCat Comedy’s regular stop in Silicon Oasis promises “insane laughs every week”. The door price of AED 99 includes two drinks.
URL:https://magpie.ae/event/the-comedy-lab-6/
LOCATION:Radisson Red\, Dubai Digital Park\, Dubai Silicon Oasis\, Dubai
CATEGORIES:Comedy
GEO:25.1210122;55.3761574
X-APPLE-STRUCTURED-LOCATION;VALUE=URI;X-ADDRESS=Radisson Red Dubai Digital Park Dubai Silicon Oasis Dubai;X-APPLE-RADIUS=500;X-TITLE=Dubai Digital Park\, Dubai Silicon Oasis:geo:55.3761574,25.1210122
END:VEVENT
BEGIN:VEVENT
DTSTART;TZID=Asia/Dubai:20251219T200000
DTEND;TZID=Asia/Dubai:20251219T233000
DTSTAMP:20260424T032849
CREATED:20251203T110831Z
LAST-MODIFIED:20251203T110831Z
UID:10013103-1766174400-1766187000@magpie.ae
SUMMARY:Politically Incorrect Comedy
DESCRIPTION:MadCat Comedy’s regular standup night at Xandros in Signature 1 Hotel\, TECOM. The cover charge of AED 80 includes one drink.
URL:https://magpie.ae/event/politically-incorrect-comedy-17/
LOCATION:Xandros\, Singature 1 Hotel\, Barsha Heights\, Dubai
CATEGORIES:Comedy
GEO:25.0965195;55.1738621
X-APPLE-STRUCTURED-LOCATION;VALUE=URI;X-ADDRESS=Xandros Singature 1 Hotel Barsha Heights Dubai;X-APPLE-RADIUS=500;X-TITLE=Singature 1 Hotel\, Barsha Heights:geo:55.1738621,25.0965195
END:VEVENT
BEGIN:VEVENT
DTSTART;TZID=Asia/Dubai:20251220T200000
DTEND;TZID=Asia/Dubai:20251220T233000
DTSTAMP:20260424T032849
CREATED:20251203T112630Z
LAST-MODIFIED:20251203T112630Z
UID:10013116-1766260800-1766273400@magpie.ae
SUMMARY:Joke Hub
DESCRIPTION:A regular MadCat Comedy night – “Dubai’s wildest comedy show on Saturday” (sic). The cover charge of AED 99 includes two F&B coupons.
URL:https://magpie.ae/event/joke-hub-13/
LOCATION:Canopy by Hilton Dubai Al Seef\, Al Seef Street\, Umm Hurair 1\, Dubai
CATEGORIES:Comedy
GEO:25.2558677;55.310187
X-APPLE-STRUCTURED-LOCATION;VALUE=URI;X-ADDRESS=Canopy by Hilton Dubai Al Seef Al Seef Street Umm Hurair 1 Dubai;X-APPLE-RADIUS=500;X-TITLE=Al Seef Street\, Umm Hurair 1:geo:55.310187,25.2558677
END:VEVENT
BEGIN:VEVENT
DTSTART;TZID=Asia/Dubai:20251221T190000
DTEND;TZID=Asia/Dubai:20251221T223000
DTSTAMP:20260424T032849
CREATED:20250920T063918Z
LAST-MODIFIED:20251209T132345Z
UID:10012735-1766343600-1766356200@magpie.ae
SUMMARY:Sunday Night Comedy
DESCRIPTION:The weekly sandup night at Social Distrikt from Dubomedy\, top dogs on the Dubai comedy scene. We’re promised “an evening of Big Laughs\, Live Music\, a Killer Line-up and Great Vibes” … It’s free but there’s a minimum spend of one drink or food item per person.
URL:https://magpie.ae/event/sunday-night-comedy/
LOCATION:Social Distrikt\, The Pointe\, Palm Jumeirah\, Dubai
CATEGORIES:Comedy
GEO:25.1268007;55.1219323
X-APPLE-STRUCTURED-LOCATION;VALUE=URI;X-ADDRESS=Social Distrikt The Pointe Palm Jumeirah Dubai;X-APPLE-RADIUS=500;X-TITLE=The Pointe\, Palm Jumeirah:geo:55.1219323,25.1268007
END:VEVENT
BEGIN:VEVENT
DTSTART;TZID=Asia/Dubai:20251223T200000
DTEND;TZID=Asia/Dubai:20251223T233000
DTSTAMP:20260424T032849
CREATED:20251203T111849Z
LAST-MODIFIED:20251203T111849Z
UID:10013110-1766520000-1766532600@magpie.ae
SUMMARY:The Comedy Lab @ Easy Tiger
DESCRIPTION:MadCat’s standup team at its regular stop in the Easy Tiger bar in Abu Dhabi’s Al Ain Palace. The door price of AED 99 includes two drinks …
URL:https://magpie.ae/event/the-comedy-lab-easy-tiger-10/
LOCATION:Al Ain Palace Hotel\, Corniche Road\, Abu Dhabi
CATEGORIES:Comedy
GEO:24.4991661;54.3699819
X-APPLE-STRUCTURED-LOCATION;VALUE=URI;X-ADDRESS=Al Ain Palace Hotel Corniche Road Abu Dhabi;X-APPLE-RADIUS=500;X-TITLE=Corniche Road:geo:54.3699819,24.4991661
END:VEVENT
BEGIN:VEVENT
DTSTART;TZID=Asia/Dubai:20251225T200000
DTEND;TZID=Asia/Dubai:20251225T223000
DTSTAMP:20260424T032849
CREATED:20251203T112425Z
LAST-MODIFIED:20251203T112425Z
UID:10013114-1766692800-1766701800@magpie.ae
SUMMARY:The Comedy Lab
DESCRIPTION:MadCat Comedy’s regular stop in Silicon Oasis promises “insane laughs every week”. Given the date\, we’d expect something a bit special … The door price of AED 99 includes two drinks.
URL:https://magpie.ae/event/the-comedy-lab-7/
LOCATION:Radisson Red\, Dubai Digital Park\, Dubai Silicon Oasis\, Dubai
CATEGORIES:Comedy
GEO:25.1210122;55.3761574
X-APPLE-STRUCTURED-LOCATION;VALUE=URI;X-ADDRESS=Radisson Red Dubai Digital Park Dubai Silicon Oasis Dubai;X-APPLE-RADIUS=500;X-TITLE=Dubai Digital Park\, Dubai Silicon Oasis:geo:55.3761574,25.1210122
END:VEVENT
BEGIN:VEVENT
DTSTART;TZID=Asia/Dubai:20251226T200000
DTEND;TZID=Asia/Dubai:20251226T233000
DTSTAMP:20260424T032849
CREATED:20251203T110949Z
LAST-MODIFIED:20251203T111025Z
UID:10013105-1766779200-1766791800@magpie.ae
SUMMARY:Politically Incorrect Comedy
DESCRIPTION:MadCat Comedy’s regular standup night at Xandros in Signature 1 Hotel\, TECOM. The cover charge of AED 80 includes one drink.
URL:https://magpie.ae/event/politically-incorrect-comedy-18/
LOCATION:Xandros\, Singature 1 Hotel\, Barsha Heights\, Dubai
CATEGORIES:Comedy
GEO:25.0965195;55.1738621
X-APPLE-STRUCTURED-LOCATION;VALUE=URI;X-ADDRESS=Xandros Singature 1 Hotel Barsha Heights Dubai;X-APPLE-RADIUS=500;X-TITLE=Singature 1 Hotel\, Barsha Heights:geo:55.1738621,25.0965195
END:VEVENT
BEGIN:VEVENT
DTSTART;TZID=Asia/Dubai:20251227T200000
DTEND;TZID=Asia/Dubai:20251227T233000
DTSTAMP:20260424T032849
CREATED:20251203T112711Z
LAST-MODIFIED:20251203T112711Z
UID:10013117-1766865600-1766878200@magpie.ae
SUMMARY:Joke Hub
DESCRIPTION:A regular MadCat Comedy night – “Dubai’s wildest comedy show on Saturday” (sic). The cover charge of AED 99 includes two F&B coupons.
URL:https://magpie.ae/event/joke-hub-14/
LOCATION:Canopy by Hilton Dubai Al Seef\, Al Seef Street\, Umm Hurair 1\, Dubai
CATEGORIES:Comedy
GEO:25.2558677;55.310187
X-APPLE-STRUCTURED-LOCATION;VALUE=URI;X-ADDRESS=Canopy by Hilton Dubai Al Seef Al Seef Street Umm Hurair 1 Dubai;X-APPLE-RADIUS=500;X-TITLE=Al Seef Street\, Umm Hurair 1:geo:55.310187,25.2558677
END:VEVENT
BEGIN:VEVENT
DTSTART;TZID=Asia/Dubai:20251230T200000
DTEND;TZID=Asia/Dubai:20251230T233000
DTSTAMP:20260424T032849
CREATED:20251203T111933Z
LAST-MODIFIED:20251203T111933Z
UID:10013111-1767124800-1767137400@magpie.ae
SUMMARY:The Comedy Lab @ Easy Tiger
DESCRIPTION:MadCat’s standup team at its regular stop in the Easy Tiger bar in Abu Dhabi’s Al Ain Palace. The door price of AED 99 includes two drinks …
URL:https://magpie.ae/event/the-comedy-lab-easy-tiger-11/
LOCATION:Al Ain Palace Hotel\, Corniche Road\, Abu Dhabi
CATEGORIES:Comedy
GEO:24.4991661;54.3699819
X-APPLE-STRUCTURED-LOCATION;VALUE=URI;X-ADDRESS=Al Ain Palace Hotel Corniche Road Abu Dhabi;X-APPLE-RADIUS=500;X-TITLE=Corniche Road:geo:54.3699819,24.4991661
END:VEVENT
BEGIN:VEVENT
DTSTART;TZID=Asia/Dubai:20260106T200000
DTEND;TZID=Asia/Dubai:20260106T233000
DTSTAMP:20260424T032849
CREATED:20260102T113835Z
LAST-MODIFIED:20260102T113835Z
UID:10013196-1767729600-1767742200@magpie.ae
SUMMARY:The Comedy Lab @ Easy Tiger
DESCRIPTION:MadCat’s standup team at its regular stop in the Easy Tiger bar in Abu Dhabi’s Al Ain Palace. The door price of AED 99 includes two drinks …
URL:https://magpie.ae/event/the-comedy-lab-easy-tiger-12/
LOCATION:Al Ain Palace Hotel\, Corniche Road\, Abu Dhabi
CATEGORIES:Comedy
GEO:24.4991661;54.3699819
X-APPLE-STRUCTURED-LOCATION;VALUE=URI;X-ADDRESS=Al Ain Palace Hotel Corniche Road Abu Dhabi;X-APPLE-RADIUS=500;X-TITLE=Corniche Road:geo:54.3699819,24.4991661
END:VEVENT
BEGIN:VEVENT
DTSTART;TZID=Asia/Dubai:20260108T200000
DTEND;TZID=Asia/Dubai:20260108T223000
DTSTAMP:20260424T032849
CREATED:20260102T114328Z
LAST-MODIFIED:20260102T114328Z
UID:10013201-1767902400-1767911400@magpie.ae
SUMMARY:The Comedy Lab
DESCRIPTION:MadCat Comedy’s regular stop in Silicon Oasis promises “insane laughs every week”. The door price of AED 99 includes two drinks.
URL:https://magpie.ae/event/the-comedy-lab-8/
LOCATION:Radisson Red\, Dubai Digital Park\, Dubai Silicon Oasis\, Dubai
CATEGORIES:Comedy
GEO:25.1210122;55.3761574
X-APPLE-STRUCTURED-LOCATION;VALUE=URI;X-ADDRESS=Radisson Red Dubai Digital Park Dubai Silicon Oasis Dubai;X-APPLE-RADIUS=500;X-TITLE=Dubai Digital Park\, Dubai Silicon Oasis:geo:55.3761574,25.1210122
END:VEVENT
BEGIN:VEVENT
DTSTART;TZID=Asia/Dubai:20260109T200000
DTEND;TZID=Asia/Dubai:20260109T233000
DTSTAMP:20260424T032849
CREATED:20260102T113025Z
LAST-MODIFIED:20260102T113025Z
UID:10013104-1767988800-1768001400@magpie.ae
SUMMARY:Politically Incorrect Comedy
DESCRIPTION:MadCat Comedy’s regular standup night at Xandros in Signature 1 Hotel\, TECOM. The cover charge of AED 80 includes one drink.
URL:https://magpie.ae/event/politically-incorrect-comedy-19/
LOCATION:Xandros\, Singature 1 Hotel\, Barsha Heights\, Dubai
CATEGORIES:Comedy
GEO:25.0965195;55.1738621
X-APPLE-STRUCTURED-LOCATION;VALUE=URI;X-ADDRESS=Xandros Singature 1 Hotel Barsha Heights Dubai;X-APPLE-RADIUS=500;X-TITLE=Singature 1 Hotel\, Barsha Heights:geo:55.1738621,25.0965195
END:VEVENT
BEGIN:VEVENT
DTSTART;TZID=Asia/Dubai:20260110T200000
DTEND;TZID=Asia/Dubai:20260110T233000
DTSTAMP:20260424T032849
CREATED:20260102T114727Z
LAST-MODIFIED:20260102T114727Z
UID:10013205-1768075200-1768087800@magpie.ae
SUMMARY:Joke Hub
DESCRIPTION:A regular MadCat Comedy night – “Dubai’s wildest comedy show on Saturday” (sic). The cover charge of AED 99 includes two F&B coupons.
URL:https://magpie.ae/event/joke-hub-15/
LOCATION:Canopy by Hilton Dubai Al Seef\, Al Seef Street\, Umm Hurair 1\, Dubai
CATEGORIES:Comedy
GEO:25.2558677;55.310187
X-APPLE-STRUCTURED-LOCATION;VALUE=URI;X-ADDRESS=Canopy by Hilton Dubai Al Seef Al Seef Street Umm Hurair 1 Dubai;X-APPLE-RADIUS=500;X-TITLE=Al Seef Street\, Umm Hurair 1:geo:55.310187,25.2558677
END:VEVENT
BEGIN:VEVENT
DTSTART;TZID=Asia/Dubai:20260111T190000
DTEND;TZID=Asia/Dubai:20260111T223000
DTSTAMP:20260424T032849
CREATED:20260101T091231Z
LAST-MODIFIED:20260101T091231Z
UID:10013176-1768158000-1768170600@magpie.ae
SUMMARY:Sunday Night Comedy
DESCRIPTION:Dubomedy’s standup night at Social Distrikt returns. This has become a bit of a fixture: good vibes\, good comedy\, and “you never know who will pop in”. Recommended. \nIt’s free\, but it’s getting popular\, so pre-booking is recommended to get a seat. And there’s a minimum spend of one drink or food item (which you were probably going to get anyhow).
URL:https://magpie.ae/event/sunday-night-comedy-3/
LOCATION:Social Distrikt\, The Pointe\, Palm Jumeirah\, Dubai
CATEGORIES:Comedy
GEO:25.1268007;55.1219323
X-APPLE-STRUCTURED-LOCATION;VALUE=URI;X-ADDRESS=Social Distrikt The Pointe Palm Jumeirah Dubai;X-APPLE-RADIUS=500;X-TITLE=The Pointe\, Palm Jumeirah:geo:55.1219323,25.1268007
END:VEVENT
BEGIN:VEVENT
DTSTART;TZID=Asia/Dubai:20260113T200000
DTEND;TZID=Asia/Dubai:20260113T233000
DTSTAMP:20260424T032849
CREATED:20260102T113951Z
LAST-MODIFIED:20260102T113951Z
UID:10013197-1768334400-1768347000@magpie.ae
SUMMARY:The Comedy Lab @ Easy Tiger
DESCRIPTION:MadCat’s standup team at its regular stop in the Easy Tiger bar in Abu Dhabi’s Al Ain Palace. The door price of AED 99 includes two drinks …
URL:https://magpie.ae/event/the-comedy-lab-easy-tiger-13/
LOCATION:Al Ain Palace Hotel\, Corniche Road\, Abu Dhabi
CATEGORIES:Comedy
GEO:24.4991661;54.3699819
X-APPLE-STRUCTURED-LOCATION;VALUE=URI;X-ADDRESS=Al Ain Palace Hotel Corniche Road Abu Dhabi;X-APPLE-RADIUS=500;X-TITLE=Corniche Road:geo:54.3699819,24.4991661
END:VEVENT
BEGIN:VEVENT
DTSTART;TZID=Asia/Dubai:20260115T200000
DTEND;TZID=Asia/Dubai:20260115T223000
DTSTAMP:20260424T032849
CREATED:20260102T114428Z
LAST-MODIFIED:20260102T114428Z
UID:10013202-1768507200-1768516200@magpie.ae
SUMMARY:The Comedy Lab
DESCRIPTION:MadCat Comedy’s regular stop in Silicon Oasis promises “insane laughs every week”. The door price of AED 99 includes two drinks.
URL:https://magpie.ae/event/the-comedy-lab-9/
LOCATION:Radisson Red\, Dubai Digital Park\, Dubai Silicon Oasis\, Dubai
CATEGORIES:Comedy
GEO:25.1210122;55.3761574
X-APPLE-STRUCTURED-LOCATION;VALUE=URI;X-ADDRESS=Radisson Red Dubai Digital Park Dubai Silicon Oasis Dubai;X-APPLE-RADIUS=500;X-TITLE=Dubai Digital Park\, Dubai Silicon Oasis:geo:55.3761574,25.1210122
END:VEVENT
BEGIN:VEVENT
DTSTART;TZID=Asia/Dubai:20260115T200000
DTEND;TZID=Asia/Dubai:20260115T223000
DTSTAMP:20260424T032849
CREATED:20260113T093209Z
LAST-MODIFIED:20260113T093209Z
UID:10013264-1768507200-1768516200@magpie.ae
SUMMARY:The Laughter Factory Premium Comedy Club
DESCRIPTION:The November Laughter Factory tour. The acts: \nEmmanuel Sonubi big man\, big smile\, big fun. A big hit too when he was here a year ago. Highly recommended \nSaanya Abbas razor-sharp Dubai-based comedian with over half a million fans on her social platforms. We loved her 2025 Edinburgh Fringe gig Hellarious \nLarry Dean gay Scottish stand-up. Very\, very funny about himself and his life. He also has a good joke about Abu Dhabi airport security … \nThe rest of the schedule: \n16 Jan Radisson DAMAC Hills\n17 Jan Dukes The Palm \n 
URL:https://magpie.ae/event/the-laughter-factory-premium-comedy-club-75/
LOCATION:The Bay\, Al Hamra Golf Club\, Al Hamra\, Ras Al Khaimah
CATEGORIES:Comedy
GEO:25.689375;55.7875436
X-APPLE-STRUCTURED-LOCATION;VALUE=URI;X-ADDRESS=The Bay Al Hamra Golf Club Al Hamra Ras Al Khaimah;X-APPLE-RADIUS=500;X-TITLE=Al Hamra:geo:55.7875436,25.689375
END:VEVENT
BEGIN:VEVENT
DTSTART;TZID=Asia/Dubai:20260116T200000
DTEND;TZID=Asia/Dubai:20260116T233000
DTSTAMP:20260424T032849
CREATED:20260102T113140Z
LAST-MODIFIED:20260102T113140Z
UID:10013192-1768593600-1768606200@magpie.ae
SUMMARY:Politically Incorrect Comedy
DESCRIPTION:MadCat Comedy’s regular standup night at Xandros in Signature 1 Hotel\, TECOM. The cover charge of AED 80 includes one drink.
URL:https://magpie.ae/event/politically-incorrect-comedy-20/
LOCATION:Xandros\, Singature 1 Hotel\, Barsha Heights\, Dubai
CATEGORIES:Comedy
GEO:25.0965195;55.1738621
X-APPLE-STRUCTURED-LOCATION;VALUE=URI;X-ADDRESS=Xandros Singature 1 Hotel Barsha Heights Dubai;X-APPLE-RADIUS=500;X-TITLE=Singature 1 Hotel\, Barsha Heights:geo:55.1738621,25.0965195
END:VEVENT
BEGIN:VEVENT
DTSTART;TZID=Asia/Dubai:20260116T203000
DTEND;TZID=Asia/Dubai:20260116T230000
DTSTAMP:20260424T032849
CREATED:20260113T093337Z
LAST-MODIFIED:20260113T093337Z
UID:10013265-1768595400-1768604400@magpie.ae
SUMMARY:The Laughter Factory Premium Comedy Club
DESCRIPTION:The penultimate stop for the November Laughter Factory tour. The acts: \nEmmanuel Sonubi big man\, big smile\, big fun. A big hit too when he was here a year ago. Highly recommended \nSaanya Abbas razor-sharp Dubai-based comedian with over half a million fans on her social platforms. We loved her 2025 Edinburgh Fringe gig Hellarious \nLarry Dean gay Scottish stand-up. Very\, very funny about himself and his life. He also has a good joke about Abu Dhabi airport security … \nThe final date is tomorrow (17 Jan) at Dukes The Palm. \n 
URL:https://magpie.ae/event/the-laughter-factory-premium-comedy-club-76/
LOCATION:Radisson DAMAC Hills\, Hessa Street Dubailand\, Dubai
CATEGORIES:Comedy
GEO:25.0593526;55.2214882
X-APPLE-STRUCTURED-LOCATION;VALUE=URI;X-ADDRESS=Radisson DAMAC Hills Hessa Street Dubailand Dubai;X-APPLE-RADIUS=500;X-TITLE=Hessa Street Dubailand:geo:55.2214882,25.0593526
END:VEVENT
BEGIN:VEVENT
DTSTART;TZID=Asia/Dubai:20260117T203000
DTEND;TZID=Asia/Dubai:20260117T230000
DTSTAMP:20260424T032849
CREATED:20260113T093438Z
LAST-MODIFIED:20260113T093438Z
UID:10013266-1768681800-1768690800@magpie.ae
SUMMARY:The Laughter Factory Premium Comedy Club
DESCRIPTION:The final gig for the November Laughter Factory tour. The acts: \nEmmanuel Sonubi big man\, big smile\, big fun. A big hit too when he was here a year ago. Highly recommended \nSaanya Abbas razor-sharp Dubai-based comedian with over half a million fans on her social platforms. We loved her 2025 Edinburgh Fringe gig Hellarious \nLarry Dean gay Scottish stand-up. Very\, very funny about himself and his life. He also has a good joke about Abu Dhabi airport security … \n 
URL:https://magpie.ae/event/the-laughter-factory-premium-comedy-club-77/
LOCATION:Dukes The Palm\, Palm Dubai\, Dubai
CATEGORIES:Comedy
GEO:25.1124317;55.138978
X-APPLE-STRUCTURED-LOCATION;VALUE=URI;X-ADDRESS=Dukes The Palm Palm Dubai Dubai;X-APPLE-RADIUS=500;X-TITLE=Palm Dubai:geo:55.138978,25.1124317
END:VEVENT
BEGIN:VEVENT
DTSTART;TZID=Asia/Dubai:20260117T210000
DTEND;TZID=Asia/Dubai:20260117T234500
DTSTAMP:20260424T032849
CREATED:20260102T115416Z
LAST-MODIFIED:20260102T121238Z
UID:10013208-1768683600-1768693500@magpie.ae
SUMMARY:Miqdaad D: Failed Successfully
DESCRIPTION:A standup special by MadCat Comedy’s main man\, Miqdaad Dohadwala: life advice for how to live your 20s\, from a guy who did everything wrong. We think the regular MadCat comedy night deal applies\, meaning a cover charge of AED 99 that includes two F&B coupons.
URL:https://magpie.ae/event/miqdaad-d-failed-successfully/
LOCATION:Canopy by Hilton Dubai Al Seef\, Al Seef Street\, Umm Hurair 1\, Dubai
CATEGORIES:Comedy
ATTACH;FMTTYPE=image/webp:https://magpie.ae/wp-content/uploads/2026/01/miqdaad_dohadwala_1920-orig1695273594.webp
GEO:25.2558677;55.310187
X-APPLE-STRUCTURED-LOCATION;VALUE=URI;X-ADDRESS=Canopy by Hilton Dubai Al Seef Al Seef Street Umm Hurair 1 Dubai;X-APPLE-RADIUS=500;X-TITLE=Al Seef Street\, Umm Hurair 1:geo:55.310187,25.2558677
END:VEVENT
BEGIN:VEVENT
DTSTART;TZID=Asia/Dubai:20260118T190000
DTEND;TZID=Asia/Dubai:20260118T223000
DTSTAMP:20260424T032849
CREATED:20260115T102434Z
LAST-MODIFIED:20260115T102434Z
UID:10013294-1768762800-1768775400@magpie.ae
SUMMARY:Sunday Night Comedy
DESCRIPTION:Dubomedy’s standup night at Social Distrikt returns. This has become a bit of a fixture: good vibes\, good comedy\, and “you never know who will pop in”. Recommended. \nIt’s free\, but it’s popular\, so pre-booking is recommended to get a seat. And there’s a minimum spend of one drink or food item (which you were probably going to get anyhow).
URL:https://magpie.ae/event/sunday-night-comedy-4/
LOCATION:Social Distrikt\, The Pointe\, Palm Jumeirah\, Dubai
CATEGORIES:Comedy
GEO:25.1268007;55.1219323
X-APPLE-STRUCTURED-LOCATION;VALUE=URI;X-ADDRESS=Social Distrikt The Pointe Palm Jumeirah Dubai;X-APPLE-RADIUS=500;X-TITLE=The Pointe\, Palm Jumeirah:geo:55.1219323,25.1268007
END:VEVENT
BEGIN:VEVENT
DTSTART;TZID=Asia/Dubai:20260120T200000
DTEND;TZID=Asia/Dubai:20260120T233000
DTSTAMP:20260424T032849
CREATED:20260102T114040Z
LAST-MODIFIED:20260102T114040Z
UID:10013198-1768939200-1768951800@magpie.ae
SUMMARY:The Comedy Lab @ Easy Tiger
DESCRIPTION:MadCat’s standup team at its regular stop in the Easy Tiger bar in Abu Dhabi’s Al Ain Palace. The door price of AED 99 includes two drinks …
URL:https://magpie.ae/event/the-comedy-lab-easy-tiger-14/
LOCATION:Al Ain Palace Hotel\, Corniche Road\, Abu Dhabi
CATEGORIES:Comedy
GEO:24.4991661;54.3699819
X-APPLE-STRUCTURED-LOCATION;VALUE=URI;X-ADDRESS=Al Ain Palace Hotel Corniche Road Abu Dhabi;X-APPLE-RADIUS=500;X-TITLE=Corniche Road:geo:54.3699819,24.4991661
END:VEVENT
BEGIN:VEVENT
DTSTART;TZID=Asia/Dubai:20260122T180000
DTEND;TZID=Asia/Dubai:20260122T193000
DTSTAMP:20260424T032849
CREATED:20260113T171811Z
LAST-MODIFIED:20260113T171811Z
UID:10013275-1769104800-1769110200@magpie.ae
SUMMARY:Rob Beckett: Giraffe
DESCRIPTION:Rob Beckett is getting near to the end of a sell-out tour with his new show. The affable bloke-near-door of British comedy is known for his turns on shows like Would I Lie to You\, Celebs Go Dating\, 8 Out of 10 Cats\, and his TV double acts with Romesh Ranganathan\, and he’s been a fixture on the international comedy circuit for years – loud\, loveable\, completely (and often accidentally) unfiltered. He’s usually good value for money\, especially when he gets stuck into a story … \nNote that it’s an early start at 6pm. \n(There are no wild animals in the show\, so why Giraffe? Because it’s rhyming slang for laugh\, and because he always wanted to have a long neck.)
URL:https://magpie.ae/event/rob-beckett-giraffe/
LOCATION:Dubai Opera
CATEGORIES:Comedy
ATTACH;FMTTYPE=image/webp:https://magpie.ae/wp-content/uploads/2026/01/RobBeckett_Giraffe_Shot-28feat.webp
GEO:25.1928528;55.2789648
END:VEVENT
BEGIN:VEVENT
DTSTART;TZID=Asia/Dubai:20260122T200000
DTEND;TZID=Asia/Dubai:20260122T223000
DTSTAMP:20260424T032849
CREATED:20260102T114514Z
LAST-MODIFIED:20260102T114514Z
UID:10013203-1769112000-1769121000@magpie.ae
SUMMARY:The Comedy Lab
DESCRIPTION:MadCat Comedy’s regular stop in Silicon Oasis promises “insane laughs every week”. The door price of AED 99 includes two drinks.
URL:https://magpie.ae/event/the-comedy-lab-10/
LOCATION:Radisson Red\, Dubai Digital Park\, Dubai Silicon Oasis\, Dubai
CATEGORIES:Comedy
GEO:25.1210122;55.3761574
X-APPLE-STRUCTURED-LOCATION;VALUE=URI;X-ADDRESS=Radisson Red Dubai Digital Park Dubai Silicon Oasis Dubai;X-APPLE-RADIUS=500;X-TITLE=Dubai Digital Park\, Dubai Silicon Oasis:geo:55.3761574,25.1210122
END:VEVENT
BEGIN:VEVENT
DTSTART;TZID=Asia/Dubai:20260123T200000
DTEND;TZID=Asia/Dubai:20260123T233000
DTSTAMP:20260424T032849
CREATED:20260102T113336Z
LAST-MODIFIED:20260102T113336Z
UID:10013194-1769198400-1769211000@magpie.ae
SUMMARY:Politically Incorrect Comedy
DESCRIPTION:MadCat Comedy’s regular standup night at Xandros in Signature 1 Hotel\, TECOM. The cover charge of AED 80 includes one drink.
URL:https://magpie.ae/event/politically-incorrect-comedy-21/
LOCATION:Xandros\, Singature 1 Hotel\, Barsha Heights\, Dubai
CATEGORIES:Comedy
GEO:25.0965195;55.1738621
X-APPLE-STRUCTURED-LOCATION;VALUE=URI;X-ADDRESS=Xandros Singature 1 Hotel Barsha Heights Dubai;X-APPLE-RADIUS=500;X-TITLE=Singature 1 Hotel\, Barsha Heights:geo:55.1738621,25.0965195
END:VEVENT
BEGIN:VEVENT
DTSTART;TZID=Asia/Dubai:20260124T200000
DTEND;TZID=Asia/Dubai:20260124T233000
DTSTAMP:20260424T032849
CREATED:20260102T114848Z
LAST-MODIFIED:20260102T114848Z
UID:10013206-1769284800-1769297400@magpie.ae
SUMMARY:Joke Hub
DESCRIPTION:A regular MadCat Comedy night – “Dubai’s wildest comedy show on Saturday” (sic). The cover charge of AED 99 includes two F&B coupons.
URL:https://magpie.ae/event/joke-hub-16/
LOCATION:Canopy by Hilton Dubai Al Seef\, Al Seef Street\, Umm Hurair 1\, Dubai
CATEGORIES:Comedy
GEO:25.2558677;55.310187
X-APPLE-STRUCTURED-LOCATION;VALUE=URI;X-ADDRESS=Canopy by Hilton Dubai Al Seef Al Seef Street Umm Hurair 1 Dubai;X-APPLE-RADIUS=500;X-TITLE=Al Seef Street\, Umm Hurair 1:geo:55.310187,25.2558677
END:VEVENT
BEGIN:VEVENT
DTSTART;TZID=Asia/Dubai:20260127T200000
DTEND;TZID=Asia/Dubai:20260127T233000
DTSTAMP:20260424T032849
CREATED:20260102T114142Z
LAST-MODIFIED:20260102T114142Z
UID:10013199-1769544000-1769556600@magpie.ae
SUMMARY:The Comedy Lab @ Easy Tiger
DESCRIPTION:MadCat’s standup team at its regular stop in the Easy Tiger bar in Abu Dhabi’s Al Ain Palace. The door price of AED 99 includes two drinks …
URL:https://magpie.ae/event/the-comedy-lab-easy-tiger-15/
LOCATION:Al Ain Palace Hotel\, Corniche Road\, Abu Dhabi
CATEGORIES:Comedy
GEO:24.4991661;54.3699819
X-APPLE-STRUCTURED-LOCATION;VALUE=URI;X-ADDRESS=Al Ain Palace Hotel Corniche Road Abu Dhabi;X-APPLE-RADIUS=500;X-TITLE=Corniche Road:geo:54.3699819,24.4991661
END:VEVENT
BEGIN:VEVENT
DTSTART;TZID=Asia/Dubai:20260129T200000
DTEND;TZID=Asia/Dubai:20260129T223000
DTSTAMP:20260424T032849
CREATED:20260102T114602Z
LAST-MODIFIED:20260102T114602Z
UID:10013204-1769716800-1769725800@magpie.ae
SUMMARY:The Comedy Lab
DESCRIPTION:MadCat Comedy’s regular stop in Silicon Oasis promises “insane laughs every week”. The door price of AED 99 includes two drinks.
URL:https://magpie.ae/event/the-comedy-lab-11/
LOCATION:Radisson Red\, Dubai Digital Park\, Dubai Silicon Oasis\, Dubai
CATEGORIES:Comedy
GEO:25.1210122;55.3761574
X-APPLE-STRUCTURED-LOCATION;VALUE=URI;X-ADDRESS=Radisson Red Dubai Digital Park Dubai Silicon Oasis Dubai;X-APPLE-RADIUS=500;X-TITLE=Dubai Digital Park\, Dubai Silicon Oasis:geo:55.3761574,25.1210122
END:VEVENT
END:VCALENDAR