BEGIN:VCALENDAR
VERSION:2.0
PRODID:-//magpie - ECPv6.15.20//NONSGML v1.0//EN
CALSCALE:GREGORIAN
METHOD:PUBLISH
X-WR-CALNAME:magpie
X-ORIGINAL-URL:https://magpie.ae
X-WR-CALDESC:Events for magpie
REFRESH-INTERVAL;VALUE=DURATION:PT1H
X-Robots-Tag:noindex
X-PUBLISHED-TTL:PT1H
BEGIN:VTIMEZONE
TZID:Asia/Dubai
BEGIN:STANDARD
TZOFFSETFROM:+0400
TZOFFSETTO:+0400
TZNAME:+04
DTSTART:20250101T000000
END:STANDARD
END:VTIMEZONE
BEGIN:VEVENT
DTSTART;TZID=Asia/Dubai:20260423T210000
DTEND;TZID=Asia/Dubai:20260423T230000
DTSTAMP:20260423T101814
CREATED:20260422T085807Z
LAST-MODIFIED:20260422T085919Z
UID:10013657-1776978000-1776985200@magpie.ae
SUMMARY:The Comedy Lab
DESCRIPTION:Mad Cat Comedy’s regular Thursday stop in Silicon Oasis promises “insane laughs every week”.  The door price of AED 99 includes one drink and popcorn.
URL:https://magpie.ae/event/the-comedy-lab-16/
LOCATION:Radisson Red\, Dubai Digital Park\, Dubai Silicon Oasis\, Dubai
CATEGORIES:Comedy
GEO:25.1210122;55.3761574
X-APPLE-STRUCTURED-LOCATION;VALUE=URI;X-ADDRESS=Radisson Red Dubai Digital Park Dubai Silicon Oasis Dubai;X-APPLE-RADIUS=500;X-TITLE=Dubai Digital Park\, Dubai Silicon Oasis:geo:55.3761574,25.1210122
END:VEVENT
BEGIN:VEVENT
DTSTART;TZID=Asia/Dubai:20260424T200000
DTEND;TZID=Asia/Dubai:20260424T223000
DTSTAMP:20260423T101814
CREATED:20260422T090704Z
LAST-MODIFIED:20260422T090704Z
UID:10013659-1777060800-1777069800@magpie.ae
SUMMARY:Legendary Lineups
DESCRIPTION:The Mad Cat Comedy folk add another gig\, this one in Jumeirah at what is probably the best Russian restaurant in town (though obvs the performing is in the bar/lounge space – still\, catch the beef stroganoff if you have time). Looks like there will be five standups on the bill; the door price of AED 99 includes one drink.
URL:https://magpie.ae/event/legendary-lineups/
LOCATION:Suvoroff Restaurant & Lounge\, Dubai Marine Beach Resort & Spa\, Jumeirah Beach Rd\, Dubai
CATEGORIES:Comedy
GEO:25.2335346;55.2636221
X-APPLE-STRUCTURED-LOCATION;VALUE=URI;X-ADDRESS=Suvoroff Restaurant & Lounge Dubai Marine Beach Resort & Spa Jumeirah Beach Rd Dubai;X-APPLE-RADIUS=500;X-TITLE=Dubai Marine Beach Resort & Spa\, Jumeirah Beach Rd:geo:55.2636221,25.2335346
END:VEVENT
BEGIN:VEVENT
DTSTART;TZID=Asia/Dubai:20260424T200000
DTEND;TZID=Asia/Dubai:20260424T223000
DTSTAMP:20260423T101814
CREATED:20260422T090850Z
LAST-MODIFIED:20260422T090850Z
UID:10013660-1777060800-1777069800@magpie.ae
SUMMARY:Politically Incorrect Comedy
DESCRIPTION:Mad Cat Comedy’s regular standup night at Xandros in Signature 1 Hotel\, TECOM. The cover charge of AED 80 includes one drink.
URL:https://magpie.ae/event/politically-incorrect-comedy-27/
LOCATION:Xandros\, Singature 1 Hotel\, Barsha Heights\, Dubai
CATEGORIES:Comedy
GEO:25.0965195;55.1738621
X-APPLE-STRUCTURED-LOCATION;VALUE=URI;X-ADDRESS=Xandros Singature 1 Hotel Barsha Heights Dubai;X-APPLE-RADIUS=500;X-TITLE=Singature 1 Hotel\, Barsha Heights:geo:55.1738621,25.0965195
END:VEVENT
BEGIN:VEVENT
DTSTART;TZID=Asia/Dubai:20260425T210000
DTEND;TZID=Asia/Dubai:20260425T230000
DTSTAMP:20260423T101814
CREATED:20260422T091052Z
LAST-MODIFIED:20260422T091052Z
UID:10013661-1777150800-1777158000@magpie.ae
SUMMARY:Joke Hub
DESCRIPTION:A regular Mad Cat Comedy night – “Dubai’s wildest comedy show on Saturday” at “the first purpose built comedy room in the country”. The cover charge of AED 99 includes two F&B coupons.
URL:https://magpie.ae/event/joke-hub-21/
LOCATION:Canopy by Hilton Dubai Al Seef\, Al Seef Street\, Umm Hurair 1\, Dubai
CATEGORIES:Comedy
GEO:25.2558677;55.310187
X-APPLE-STRUCTURED-LOCATION;VALUE=URI;X-ADDRESS=Canopy by Hilton Dubai Al Seef Al Seef Street Umm Hurair 1 Dubai;X-APPLE-RADIUS=500;X-TITLE=Al Seef Street\, Umm Hurair 1:geo:55.310187,25.2558677
END:VEVENT
BEGIN:VEVENT
DTSTART;TZID=Asia/Dubai:20260426T190000
DTEND;TZID=Asia/Dubai:20260426T210000
DTSTAMP:20260423T101814
CREATED:20260422T091803Z
LAST-MODIFIED:20260422T091803Z
UID:10013662-1777230000-1777237200@magpie.ae
SUMMARY:Salman ZQ and Friends
DESCRIPTION:A Mad Cat Comedy Sunday night regular\, featuring the group’s main man and mates in “a night of ridiculous stand up comedy” at one of Al Quoz’s hidden gems (no alcohol\, but good mocktails and t brilliant shots). The cover charge of AED 99 includes one drink.
URL:https://magpie.ae/event/salman-zq-and-friends/
LOCATION:Bocasu Specialty Coffee\, Dubai
CATEGORIES:Comedy
GEO:25.2048493;55.2707828
END:VEVENT
BEGIN:VEVENT
DTSTART;TZID=Asia/Dubai:20260426T190000
DTEND;TZID=Asia/Dubai:20260426T213000
DTSTAMP:20260423T101814
CREATED:20260414T181837Z
LAST-MODIFIED:20260414T181852Z
UID:10013630-1777230000-1777239000@magpie.ae
SUMMARY:Sunday Night Comedy Prom
DESCRIPTION:Dubomedy’s highly successful Sunday gig at Hushh in Social Distrikt gets a bit of a makeover to celebrate its 18 years of comic activity in Dubai. We’re promised “a night of laughs\, fits\, and unforgettable vibes” with Stand-Up Comedy Game Show (the audience choose who wins AED 1\,000) plus celebrations\, prizes\, a DJ and after-party dancing\, and “Prom Photo Moments” … Sounds fun!
URL:https://magpie.ae/event/sunday-night-comedy-prom/
LOCATION:Social Distrikt\, The Pointe\, Palm Jumeirah\, Dubai
CATEGORIES:Comedy
GEO:25.1268007;55.1219323
X-APPLE-STRUCTURED-LOCATION;VALUE=URI;X-ADDRESS=Social Distrikt The Pointe Palm Jumeirah Dubai;X-APPLE-RADIUS=500;X-TITLE=The Pointe\, Palm Jumeirah:geo:55.1219323,25.1268007
END:VEVENT
BEGIN:VEVENT
DTSTART;TZID=Asia/Dubai:20260428T200000
DTEND;TZID=Asia/Dubai:20260428T233000
DTSTAMP:20260423T101814
CREATED:20260422T091926Z
LAST-MODIFIED:20260422T091926Z
UID:10013663-1777406400-1777419000@magpie.ae
SUMMARY:The Comedy Lab @ Easy Tiger
DESCRIPTION:Mad Cat’s standup team at their regular stop at the Easy Tiger bar in Abu Dhabi’s Al Ain Palace. The door price of AED 99 includes two drinks …
URL:https://magpie.ae/event/the-comedy-lab-easy-tiger-21/
LOCATION:Al Ain Palace Hotel\, Corniche Road\, Abu Dhabi
CATEGORIES:Comedy
GEO:24.4991661;54.3699819
X-APPLE-STRUCTURED-LOCATION;VALUE=URI;X-ADDRESS=Al Ain Palace Hotel Corniche Road Abu Dhabi;X-APPLE-RADIUS=500;X-TITLE=Corniche Road:geo:54.3699819,24.4991661
END:VEVENT
END:VCALENDAR