BEGIN:VCALENDAR
VERSION:2.0
PRODID:-//magpie - ECPv6.15.20//NONSGML v1.0//EN
CALSCALE:GREGORIAN
METHOD:PUBLISH
X-ORIGINAL-URL:https://magpie.ae
X-WR-CALDESC:Events for magpie
REFRESH-INTERVAL;VALUE=DURATION:PT1H
X-Robots-Tag:noindex
X-PUBLISHED-TTL:PT1H
BEGIN:VTIMEZONE
TZID:Asia/Dubai
BEGIN:STANDARD
TZOFFSETFROM:+0400
TZOFFSETTO:+0400
TZNAME:+04
DTSTART:20250101T000000
END:STANDARD
END:VTIMEZONE
BEGIN:VEVENT
DTSTART;TZID=Asia/Dubai:20260405T190000
DTEND;TZID=Asia/Dubai:20260405T213000
DTSTAMP:20260423T132339
CREATED:20260325T142339Z
LAST-MODIFIED:20260325T142339Z
UID:10013536-1775415600-1775424600@magpie.ae
SUMMARY:Sunday Night Comedy
DESCRIPTION:Dubomedy’s highly successful comedy gig at Hushh in Social Distrikt. We’re promised “a fantastic lineup of comedians\, laughter and levity\, and great vibes”; and indeed much of that seems to be the case … It’s free\, but there’s a minimum spend of one food or drink item.
URL:https://magpie.ae/event/sunday-night-comedy-9/
LOCATION:Social Distrikt\, The Pointe\, Palm Jumeirah\, Dubai
CATEGORIES:Comedy
GEO:25.1268007;55.1219323
X-APPLE-STRUCTURED-LOCATION;VALUE=URI;X-ADDRESS=Social Distrikt The Pointe Palm Jumeirah Dubai;X-APPLE-RADIUS=500;X-TITLE=The Pointe\, Palm Jumeirah:geo:55.1219323,25.1268007
END:VEVENT
BEGIN:VEVENT
DTSTART;TZID=Asia/Dubai:20260405T200000
DTEND;TZID=Asia/Dubai:20260405T220000
DTSTAMP:20260423T132339
CREATED:20260401T155609Z
LAST-MODIFIED:20260401T155609Z
UID:10013590-1775419200-1775426400@magpie.ae
SUMMARY:Jukebox Junction
DESCRIPTION:The Junction does comedy for two consecutive (but not repeated) nights on 4 and 5 April: “Jukebox Junction is where stand-up and improv collide for a night that’s fast\, unpredictable\, and seriously fun … Sharp written comedy meets completely unscripted chaos\, with performers bouncing between polished sets and off-the-cuff scenes that come to life in the moment. No two shows are ever the same and that’s exactly the point … This isn’t just a show you watch\, it’s one you feel. Fast-paced\, unpredictable\, and packed with performers ready to take big swings and bring the room with them …” That sets the bar pretty high. It’s free\, but book a seat in advance.
URL:https://magpie.ae/event/jukebox-junction-2/
LOCATION:The Junction\, Unit H72\, Alserkal Avenue\, Dubai\, United Arab Emirates
CATEGORIES:Comedy,Improv
GEO:25.1431157;55.2246127
X-APPLE-STRUCTURED-LOCATION;VALUE=URI;X-ADDRESS=The Junction Unit H72 Alserkal Avenue Dubai United Arab Emirates;X-APPLE-RADIUS=500;X-TITLE=Unit H72\, Alserkal Avenue:geo:55.2246127,25.1431157
END:VEVENT
END:VCALENDAR