BEGIN:VCALENDAR
VERSION:2.0
PRODID:-//magpie - ECPv6.15.20//NONSGML v1.0//EN
CALSCALE:GREGORIAN
METHOD:PUBLISH
X-WR-CALNAME:magpie
X-ORIGINAL-URL:https://magpie.ae
X-WR-CALDESC:Events for magpie
REFRESH-INTERVAL;VALUE=DURATION:PT1H
X-Robots-Tag:noindex
X-PUBLISHED-TTL:PT1H
BEGIN:VTIMEZONE
TZID:Asia/Dubai
BEGIN:STANDARD
TZOFFSETFROM:+0400
TZOFFSETTO:+0400
TZNAME:+04
DTSTART:20250101T000000
END:STANDARD
END:VTIMEZONE
BEGIN:VEVENT
DTSTART;TZID=Asia/Dubai:20260313T203000
DTEND;TZID=Asia/Dubai:20260313T220000
DTSTAMP:20260423T145750
CREATED:20260217T174423Z
LAST-MODIFIED:20260217T174423Z
UID:10013452-1773433800-1773439200@magpie.ae
SUMMARY:The Laughter Factory Premium Comedy Club
DESCRIPTION:The Laughter Factory is powering through Ramadan with a decent bill: \nAndrew Ryan Hard-working Irish standup with a sharp wit\, good observational comedy\, and a lovely warm voice for telling stories \nYash Bhardwaj The Dubai-based Indian comedian is a stalwart of the local comedy scene\, with quick wit and relatable humour \nRula Korban A magpie favourite – a highly colourful life provides much of her material\, and she really is talented \nThe final gig is 14 Mar Dukes The Palm \n 
URL:https://magpie.ae/event/the-laughter-factory-premium-comedy-club-87/
LOCATION:Radisson DAMAC Hills\, Hessa Street Dubailand\, Dubai
CATEGORIES:Comedy
GEO:25.0593526;55.2214882
X-APPLE-STRUCTURED-LOCATION;VALUE=URI;X-ADDRESS=Radisson DAMAC Hills Hessa Street Dubailand Dubai;X-APPLE-RADIUS=500;X-TITLE=Hessa Street Dubailand:geo:55.2214882,25.0593526
END:VEVENT
END:VCALENDAR