BEGIN:VCALENDAR
VERSION:2.0
PRODID:-//magpie - ECPv6.15.20//NONSGML v1.0//EN
CALSCALE:GREGORIAN
METHOD:PUBLISH
X-WR-CALNAME:magpie
X-ORIGINAL-URL:https://magpie.ae
X-WR-CALDESC:Events for magpie
REFRESH-INTERVAL;VALUE=DURATION:PT1H
X-Robots-Tag:noindex
X-PUBLISHED-TTL:PT1H
BEGIN:VTIMEZONE
TZID:Asia/Dubai
BEGIN:STANDARD
TZOFFSETFROM:+0400
TZOFFSETTO:+0400
TZNAME:+04
DTSTART:20250101T000000
END:STANDARD
END:VTIMEZONE
BEGIN:VEVENT
DTSTART;TZID=Asia/Dubai:20260122T180000
DTEND;TZID=Asia/Dubai:20260122T193000
DTSTAMP:20260423T180721
CREATED:20260113T171811Z
LAST-MODIFIED:20260113T171811Z
UID:10013275-1769104800-1769110200@magpie.ae
SUMMARY:Rob Beckett: Giraffe
DESCRIPTION:Rob Beckett is getting near to the end of a sell-out tour with his new show. The affable bloke-near-door of British comedy is known for his turns on shows like Would I Lie to You\, Celebs Go Dating\, 8 Out of 10 Cats\, and his TV double acts with Romesh Ranganathan\, and he’s been a fixture on the international comedy circuit for years – loud\, loveable\, completely (and often accidentally) unfiltered. He’s usually good value for money\, especially when he gets stuck into a story … \nNote that it’s an early start at 6pm. \n(There are no wild animals in the show\, so why Giraffe? Because it’s rhyming slang for laugh\, and because he always wanted to have a long neck.)
URL:https://magpie.ae/event/rob-beckett-giraffe/
LOCATION:Dubai Opera
CATEGORIES:Comedy
ATTACH;FMTTYPE=image/webp:https://magpie.ae/wp-content/uploads/2026/01/RobBeckett_Giraffe_Shot-28feat.webp
GEO:25.1928528;55.2789648
END:VEVENT
BEGIN:VEVENT
DTSTART;TZID=Asia/Dubai:20260122T200000
DTEND;TZID=Asia/Dubai:20260122T223000
DTSTAMP:20260423T180721
CREATED:20260102T114514Z
LAST-MODIFIED:20260102T114514Z
UID:10013203-1769112000-1769121000@magpie.ae
SUMMARY:The Comedy Lab
DESCRIPTION:MadCat Comedy’s regular stop in Silicon Oasis promises “insane laughs every week”. The door price of AED 99 includes two drinks.
URL:https://magpie.ae/event/the-comedy-lab-10/
LOCATION:Radisson Red\, Dubai Digital Park\, Dubai Silicon Oasis\, Dubai
CATEGORIES:Comedy
GEO:25.1210122;55.3761574
X-APPLE-STRUCTURED-LOCATION;VALUE=URI;X-ADDRESS=Radisson Red Dubai Digital Park Dubai Silicon Oasis Dubai;X-APPLE-RADIUS=500;X-TITLE=Dubai Digital Park\, Dubai Silicon Oasis:geo:55.3761574,25.1210122
END:VEVENT
END:VCALENDAR