BEGIN:VCALENDAR
VERSION:2.0
PRODID:-//magpie - ECPv6.15.20//NONSGML v1.0//EN
CALSCALE:GREGORIAN
METHOD:PUBLISH
X-WR-CALNAME:magpie
X-ORIGINAL-URL:https://magpie.ae
X-WR-CALDESC:Events for magpie
REFRESH-INTERVAL;VALUE=DURATION:PT1H
X-Robots-Tag:noindex
X-PUBLISHED-TTL:PT1H
BEGIN:VTIMEZONE
TZID:Asia/Dubai
BEGIN:STANDARD
TZOFFSETFROM:+0400
TZOFFSETTO:+0400
TZNAME:+04
DTSTART:20240101T000000
END:STANDARD
END:VTIMEZONE
BEGIN:VEVENT
DTSTART;TZID=Asia/Dubai:20251214T190000
DTEND;TZID=Asia/Dubai:20251214T220000
DTSTAMP:20260424T015349
CREATED:20251204T125839Z
LAST-MODIFIED:20251204T125839Z
UID:10013128-1765738800-1765749600@magpie.ae
SUMMARY:1 Minute to Krushit
DESCRIPTION:1M2K returns with the comedy game show where around 15 standups get just one minute to make you laugh – and you choose the winner too. Admission is free\, but there’s a minimum spend of AED 25 per person. \n  \n  \n  \n  \n 
URL:https://magpie.ae/event/1-minute-to-krushit-4/
LOCATION:TGIFriday’s at the Rove Hotel Downtown\, 312 Al Mustaqbal Street\, Dubai
CATEGORIES:Comedy
GEO:25.203029;55.2794215
X-APPLE-STRUCTURED-LOCATION;VALUE=URI;X-ADDRESS=TGIFriday’s at the Rove Hotel Downtown 312 Al Mustaqbal Street Dubai;X-APPLE-RADIUS=500;X-TITLE=312 Al Mustaqbal Street:geo:55.2794215,25.203029
END:VEVENT
END:VCALENDAR