BEGIN:VCALENDAR
VERSION:2.0
PRODID:-//magpie - ECPv6.15.20//NONSGML v1.0//EN
CALSCALE:GREGORIAN
METHOD:PUBLISH
X-ORIGINAL-URL:https://magpie.ae
X-WR-CALDESC:Events for magpie
REFRESH-INTERVAL;VALUE=DURATION:PT1H
X-Robots-Tag:noindex
X-PUBLISHED-TTL:PT1H
BEGIN:VTIMEZONE
TZID:Asia/Dubai
BEGIN:STANDARD
TZOFFSETFROM:+0400
TZOFFSETTO:+0400
TZNAME:+04
DTSTART:20240101T000000
END:STANDARD
END:VTIMEZONE
BEGIN:VEVENT
DTSTART;TZID=Asia/Dubai:20251206T200000
DTEND;TZID=Asia/Dubai:20251206T220000
DTSTAMP:20260423T193338
CREATED:20251203T130601Z
LAST-MODIFIED:20251203T130601Z
UID:10013124-1765051200-1765058400@magpie.ae
SUMMARY:Laughter Factory’s Christmas Party
DESCRIPTION:Last of three seasonal gigs for this shortened Laughter Factory tour\, featuring a strong lineup – Danny O’Brien (high-energy wit)\, Luca Cupani (quirky dry humour deriving in part from his dual Italian/British heritage) and home-grown favourite Imah (always reliably funny).
URL:https://magpie.ae/event/laughter-factorys-christmas-party-3/
LOCATION:The Club\, Al Mina\, Abu Dhabi
CATEGORIES:Comedy
GEO:24.5264943;54.3740483
X-APPLE-STRUCTURED-LOCATION;VALUE=URI;X-ADDRESS=The Club Al Mina Abu Dhabi;X-APPLE-RADIUS=500;X-TITLE=Al Mina:geo:54.3740483,24.5264943
END:VEVENT
BEGIN:VEVENT
DTSTART;TZID=Asia/Dubai:20251206T200000
DTEND;TZID=Asia/Dubai:20251206T233000
DTSTAMP:20260423T193338
CREATED:20251203T111423Z
LAST-MODIFIED:20251203T111423Z
UID:10013106-1765051200-1765063800@magpie.ae
SUMMARY:The Zero Apologies Show
DESCRIPTION:“A comedy show where you are the joke.” MadCat Comedy’s main man Miqdaad D pushes the boundaries … The cover charge of AED 99 includes two drinks.
URL:https://magpie.ae/event/the-zero-apologies-show-3/
LOCATION:Canopy by Hilton Dubai Al Seef\, Al Seef Street\, Umm Hurair 1\, Dubai
CATEGORIES:Comedy
GEO:25.2558677;55.310187
X-APPLE-STRUCTURED-LOCATION;VALUE=URI;X-ADDRESS=Canopy by Hilton Dubai Al Seef Al Seef Street Umm Hurair 1 Dubai;X-APPLE-RADIUS=500;X-TITLE=Al Seef Street\, Umm Hurair 1:geo:55.310187,25.2558677
END:VEVENT
END:VCALENDAR