BEGIN:VCALENDAR
VERSION:2.0
PRODID:-//magpie - ECPv6.15.20//NONSGML v1.0//EN
CALSCALE:GREGORIAN
METHOD:PUBLISH
X-WR-CALNAME:magpie
X-ORIGINAL-URL:https://magpie.ae
X-WR-CALDESC:Events for magpie
REFRESH-INTERVAL;VALUE=DURATION:PT1H
X-Robots-Tag:noindex
X-PUBLISHED-TTL:PT1H
BEGIN:VTIMEZONE
TZID:Asia/Dubai
BEGIN:STANDARD
TZOFFSETFROM:+0400
TZOFFSETTO:+0400
TZNAME:+04
DTSTART:20240101T000000
END:STANDARD
END:VTIMEZONE
BEGIN:VEVENT
DTSTART;TZID=Asia/Dubai:20251116T160000
DTEND;TZID=Asia/Dubai:20251116T183000
DTSTAMP:20260424T001644
CREATED:20251105T144407Z
LAST-MODIFIED:20251105T145215Z
UID:10013015-1763308800-1763317800@magpie.ae
SUMMARY:Improv' Comedy Show
DESCRIPTION:Well\, you can’t accuse Duboimedy of trying to fool us … this is indeed a Sunday afternoon of comic improv\, largely based on audience suggestions. It’s free\, but there is a minimum spend of one drink or one food item per person.
URL:https://magpie.ae/event/improv-comedy-show/
LOCATION:Social Distrikt\, The Pointe\, Palm Jumeirah\, Dubai
CATEGORIES:Comedy,Improv
GEO:25.1268007;55.1219323
X-APPLE-STRUCTURED-LOCATION;VALUE=URI;X-ADDRESS=Social Distrikt The Pointe Palm Jumeirah Dubai;X-APPLE-RADIUS=500;X-TITLE=The Pointe\, Palm Jumeirah:geo:55.1219323,25.1268007
END:VEVENT
BEGIN:VEVENT
DTSTART;TZID=Asia/Dubai:20251116T200000
DTEND;TZID=Asia/Dubai:20251116T220000
DTSTAMP:20260424T001644
CREATED:20250909T073440Z
LAST-MODIFIED:20250909T073440Z
UID:10012665-1763323200-1763330400@magpie.ae
SUMMARY:Bassem Youssef Live
DESCRIPTION:The top Egyptian American comedian and satirist returns to Dubai for a one-off show at Coca-Cola Arena with his characteristic blend of satire and storytelling “as he weaves his journey of cultural identity\, resilience\, and the absurdities of politics and everyday life”.
URL:https://magpie.ae/event/bassem-youssef-live/
LOCATION:Coca-Cola Arena\, City Walk\, Dubai
CATEGORIES:Comedy
ATTACH;FMTTYPE=image/webp:https://magpie.ae/wp-content/uploads/2025/09/bassem-youssef.webp
GEO:25.2074895;55.2625253
X-APPLE-STRUCTURED-LOCATION;VALUE=URI;X-ADDRESS=Coca-Cola Arena City Walk Dubai;X-APPLE-RADIUS=500;X-TITLE=City Walk:geo:55.2625253,25.2074895
END:VEVENT
END:VCALENDAR