BEGIN:VCALENDAR
VERSION:2.0
PRODID:-//magpie - ECPv6.15.20//NONSGML v1.0//EN
CALSCALE:GREGORIAN
METHOD:PUBLISH
X-ORIGINAL-URL:https://magpie.ae
X-WR-CALDESC:Events for magpie
REFRESH-INTERVAL;VALUE=DURATION:PT1H
X-Robots-Tag:noindex
X-PUBLISHED-TTL:PT1H
BEGIN:VTIMEZONE
TZID:Asia/Dubai
BEGIN:STANDARD
TZOFFSETFROM:+0400
TZOFFSETTO:+0400
TZNAME:+04
DTSTART:20240101T000000
END:STANDARD
END:VTIMEZONE
BEGIN:VEVENT
DTSTART;TZID=Asia/Dubai:20251115T200000
DTEND;TZID=Asia/Dubai:20251115T233000
DTSTAMP:20260424T033834
CREATED:20251105T160023Z
LAST-MODIFIED:20251105T160023Z
UID:10013028-1763236800-1763249400@magpie.ae
SUMMARY:Joke Hub
DESCRIPTION:A regular MadCat Comedy night – “Dubai’s wildest comedy show on Saturday” (sic). The cover charge of AED 99 includes two F&B coupons.
URL:https://magpie.ae/event/joke-hub-9/
LOCATION:Canopy by Hilton Dubai Al Seef\, Al Seef Street\, Umm Hurair 1\, Dubai
CATEGORIES:Comedy
GEO:25.2558677;55.310187
X-APPLE-STRUCTURED-LOCATION;VALUE=URI;X-ADDRESS=Canopy by Hilton Dubai Al Seef Al Seef Street Umm Hurair 1 Dubai;X-APPLE-RADIUS=500;X-TITLE=Al Seef Street\, Umm Hurair 1:geo:55.310187,25.2558677
END:VEVENT
BEGIN:VEVENT
DTSTART;TZID=Asia/Dubai:20251115T203000
DTEND;TZID=Asia/Dubai:20251115T220000
DTSTAMP:20260424T033834
CREATED:20251029T081631Z
LAST-MODIFIED:20251029T081631Z
UID:10012986-1763238600-1763244000@magpie.ae
SUMMARY:The Laughter Factory Premium Comedy Club
DESCRIPTION:The final gig for the November Laughter Factory tour. The acts: \nTom Elwes Sold out his Edinburgh Fringe show: expect high-energy storytelling and razor-sharp wit \nKate Barron One of the funniest things to come out of Canada (possibly) ever. “Fierce\, unfiltered\, and hilariously relatable” \nAbz Ali Fast-rising Emirati comedian\, surely destined for some kind of stardom \n 
URL:https://magpie.ae/event/the-laughter-factory-premium-comedy-club-74/
LOCATION:Dukes The Palm\, Palm Dubai\, Dubai
CATEGORIES:Comedy
GEO:25.1124317;55.138978
X-APPLE-STRUCTURED-LOCATION;VALUE=URI;X-ADDRESS=Dukes The Palm Palm Dubai Dubai;X-APPLE-RADIUS=500;X-TITLE=Palm Dubai:geo:55.138978,25.1124317
END:VEVENT
END:VCALENDAR