BEGIN:VCALENDAR
VERSION:2.0
PRODID:-//magpie - ECPv6.15.20//NONSGML v1.0//EN
CALSCALE:GREGORIAN
METHOD:PUBLISH
X-WR-CALNAME:magpie
X-ORIGINAL-URL:https://magpie.ae
X-WR-CALDESC:Events for magpie
REFRESH-INTERVAL;VALUE=DURATION:PT1H
X-Robots-Tag:noindex
X-PUBLISHED-TTL:PT1H
BEGIN:VTIMEZONE
TZID:Asia/Dubai
BEGIN:STANDARD
TZOFFSETFROM:+0400
TZOFFSETTO:+0400
TZNAME:+04
DTSTART:20240101T000000
END:STANDARD
END:VTIMEZONE
BEGIN:VEVENT
DTSTART;TZID=Asia/Dubai:20251113T200000
DTEND;TZID=Asia/Dubai:20251113T223000
DTSTAMP:20260423T224345
CREATED:20251105T162746Z
LAST-MODIFIED:20251105T162746Z
UID:10013035-1763064000-1763073000@magpie.ae
SUMMARY:Harsh Realities
DESCRIPTION:Harsh Kocher brings all his jokes to the Radisson Red for this MadCat’gig. The door price of AED 99 includes a drink and popcorn
URL:https://magpie.ae/event/harsh-realities/
LOCATION:Radisson Red\, Dubai Digital Park\, Dubai Silicon Oasis\, Dubai
CATEGORIES:Comedy
GEO:25.1210122;55.3761574
X-APPLE-STRUCTURED-LOCATION;VALUE=URI;X-ADDRESS=Radisson Red Dubai Digital Park Dubai Silicon Oasis Dubai;X-APPLE-RADIUS=500;X-TITLE=Dubai Digital Park\, Dubai Silicon Oasis:geo:55.3761574,25.1210122
END:VEVENT
BEGIN:VEVENT
DTSTART;TZID=Asia/Dubai:20251113T203000
DTEND;TZID=Asia/Dubai:20251113T220000
DTSTAMP:20260423T224345
CREATED:20251029T081440Z
LAST-MODIFIED:20251029T081440Z
UID:10012984-1763065800-1763071200@magpie.ae
SUMMARY:The Laughter Factory Premium Comedy Club
DESCRIPTION:The November Laughter Factory tour. The acts: \nTom Elwes Sold out his Edinburgh Fringe show: expect high-energy storytelling and razor-sharp wit \nKate Barron One of the funniest things to come out of Canada (possibly) ever. “Fierce\, unfiltered\, and hilariously relatable” \nAbz Ali Fast-rising Emirati comedian\, surely destined for some kind of stardom \nThe rest of the schedule: \n14 Nov Radisson DAMAC Hills\n15 Nov Dukes The Palm \n 
URL:https://magpie.ae/event/the-laughter-factory-premium-comedy-club-72/
LOCATION:The Bay\, Al Hamra Golf Club\, Al Hamra\, Ras Al Khaimah
CATEGORIES:Comedy
GEO:25.689375;55.7875436
X-APPLE-STRUCTURED-LOCATION;VALUE=URI;X-ADDRESS=The Bay Al Hamra Golf Club Al Hamra Ras Al Khaimah;X-APPLE-RADIUS=500;X-TITLE=Al Hamra:geo:55.7875436,25.689375
END:VEVENT
END:VCALENDAR