BEGIN:VCALENDAR
VERSION:2.0
PRODID:-//magpie - ECPv6.15.20//NONSGML v1.0//EN
CALSCALE:GREGORIAN
METHOD:PUBLISH
X-ORIGINAL-URL:https://magpie.ae
X-WR-CALDESC:Events for magpie
REFRESH-INTERVAL;VALUE=DURATION:PT1H
X-Robots-Tag:noindex
X-PUBLISHED-TTL:PT1H
BEGIN:VTIMEZONE
TZID:Asia/Dubai
BEGIN:STANDARD
TZOFFSETFROM:+0400
TZOFFSETTO:+0400
TZNAME:+04
DTSTART:20240101T000000
END:STANDARD
END:VTIMEZONE
BEGIN:VEVENT
DTSTART;TZID=Asia/Dubai:20251109T180000
DTEND;TZID=Asia/Dubai:20251109T193000
DTSTAMP:20260423T224918
CREATED:20251105T144921Z
LAST-MODIFIED:20251105T144945Z
UID:10013016-1762711200-1762716600@magpie.ae
SUMMARY:Dubomedy's Stand-up Showcase 1
DESCRIPTION:First of two stand-up sessions today by Dubomedy’s finest – graduates of Dubomedy’s Fall Stand-up Workshops plus special guests perform fresh new material. Free\, but (a) pre-register because spaces are limited and go fast; and (b) there’s a minimum spend of one drink or one food item per person.
URL:https://magpie.ae/event/dubomedys-stand-up-showcase-2/
LOCATION:Social Distrikt\, The Pointe\, Palm Jumeirah\, Dubai
CATEGORIES:Comedy
GEO:25.1268007;55.1219323
X-APPLE-STRUCTURED-LOCATION;VALUE=URI;X-ADDRESS=Social Distrikt The Pointe Palm Jumeirah Dubai;X-APPLE-RADIUS=500;X-TITLE=The Pointe\, Palm Jumeirah:geo:55.1219323,25.1268007
END:VEVENT
BEGIN:VEVENT
DTSTART;TZID=Asia/Dubai:20251109T190000
DTEND;TZID=Asia/Dubai:20251109T210000
DTSTAMP:20260423T224918
CREATED:20251029T081400Z
LAST-MODIFIED:20251029T081400Z
UID:10012983-1762714800-1762722000@magpie.ae
SUMMARY:The Laughter Factory Premium Comedy Club
DESCRIPTION:The November Laughter Factory tour. The acts: \nTom Elwes Sold out his Edinburgh Fringe show: expect high-energy storytelling and razor-sharp wit \nKate Barron One of the funniest things to come out of Canada (possibly) ever. “Fierce\, unfiltered\, and hilariously relatable” \nAbz Ali Fast-rising Emirati comedian\, surely destined for some kind of stardom \nThe rest of the schedule: \n13 Nov The Bay\, Al Hamra Golf Club RAK (8pm start)\n14 Nov Radisson DAMAC Hills\n15 Nov Dukes The Palm \n 
URL:https://magpie.ae/event/the-laughter-factory-premium-comedy-club-71/
LOCATION:The Club\, Al Mina\, Abu Dhabi
CATEGORIES:Comedy
GEO:24.5264943;54.3740483
X-APPLE-STRUCTURED-LOCATION;VALUE=URI;X-ADDRESS=The Club Al Mina Abu Dhabi;X-APPLE-RADIUS=500;X-TITLE=Al Mina:geo:54.3740483,24.5264943
END:VEVENT
BEGIN:VEVENT
DTSTART;TZID=Asia/Dubai:20251109T200000
DTEND;TZID=Asia/Dubai:20251109T220000
DTSTAMP:20260423T224918
CREATED:20251105T145120Z
LAST-MODIFIED:20251105T145120Z
UID:10013017-1762718400-1762725600@magpie.ae
SUMMARY:Dubomedy's Stand-up Showcase 2
DESCRIPTION:Second of two stand-up sessions this evening by Dubomedy’s finest – graduates of Dubomedy’s Fall Stand-up Workshops plus special guests perform fresh new material. Free\, but (a) pre-register because spaces are limited and go fast; and (b) there’s a minimum spend of one drink or one food item per person.
URL:https://magpie.ae/event/dubomedys-stand-up-showcase-2-3/
LOCATION:Social Distrikt\, The Pointe\, Palm Jumeirah\, Dubai
CATEGORIES:Comedy
GEO:25.1268007;55.1219323
X-APPLE-STRUCTURED-LOCATION;VALUE=URI;X-ADDRESS=Social Distrikt The Pointe Palm Jumeirah Dubai;X-APPLE-RADIUS=500;X-TITLE=The Pointe\, Palm Jumeirah:geo:55.1219323,25.1268007
END:VEVENT
END:VCALENDAR