BEGIN:VCALENDAR
VERSION:2.0
PRODID:-//magpie - ECPv6.15.20//NONSGML v1.0//EN
CALSCALE:GREGORIAN
METHOD:PUBLISH
X-WR-CALNAME:magpie
X-ORIGINAL-URL:https://magpie.ae
X-WR-CALDESC:Events for magpie
REFRESH-INTERVAL;VALUE=DURATION:PT1H
X-Robots-Tag:noindex
X-PUBLISHED-TTL:PT1H
BEGIN:VTIMEZONE
TZID:Asia/Dubai
BEGIN:STANDARD
TZOFFSETFROM:+0400
TZOFFSETTO:+0400
TZNAME:+04
DTSTART:20240101T000000
END:STANDARD
END:VTIMEZONE
BEGIN:VEVENT
DTSTART;TZID=Asia/Dubai:20251031T200000
DTEND;TZID=Asia/Dubai:20251031T220000
DTSTAMP:20260424T033004
CREATED:20251020T152600Z
LAST-MODIFIED:20251020T152600Z
UID:10012943-1761940800-1761948000@magpie.ae
SUMMARY:Halloween Special – Theatresports: Battle of the Houses
DESCRIPTION:A second bout of competitive improv between teams representing the legendary wizarding houses from Harry Potter. The audience cheers\, scores\, and helps decide who will triumph … \nAs always at Courtyard improv events it’s free\, but you need to put your name on the guestlist (via the website) – it’s first-come first-served\, so get there early enough to grab a seat.
URL:https://magpie.ae/event/halloween-special-theatresports-battle-of-the-houses-2/
LOCATION:Courtyard Playhouse\, Street 4B\, Al Quoz 1\, Dubai\, United Arab Emirates
CATEGORIES:Comedy,Improv
GEO:25.177696;55.2504958
X-APPLE-STRUCTURED-LOCATION;VALUE=URI;X-ADDRESS=Courtyard Playhouse Street 4B Al Quoz 1 Dubai United Arab Emirates;X-APPLE-RADIUS=500;X-TITLE=Street 4B\, Al Quoz 1:geo:55.2504958,25.177696
END:VEVENT
END:VCALENDAR