BEGIN:VCALENDAR
VERSION:2.0
PRODID:-//magpie - ECPv6.15.20//NONSGML v1.0//EN
CALSCALE:GREGORIAN
METHOD:PUBLISH
X-WR-CALNAME:magpie
X-ORIGINAL-URL:https://magpie.ae
X-WR-CALDESC:Events for magpie
REFRESH-INTERVAL;VALUE=DURATION:PT1H
X-Robots-Tag:noindex
X-PUBLISHED-TTL:PT1H
BEGIN:VTIMEZONE
TZID:Asia/Dubai
BEGIN:STANDARD
TZOFFSETFROM:+0400
TZOFFSETTO:+0400
TZNAME:+04
DTSTART:20240101T000000
END:STANDARD
END:VTIMEZONE
BEGIN:VEVENT
DTSTART;TZID=Asia/Dubai:20251030T200000
DTEND;TZID=Asia/Dubai:20251030T220000
DTSTAMP:20260424T033012
CREATED:20251020T152440Z
LAST-MODIFIED:20251020T152440Z
UID:10012942-1761854400-1761861600@magpie.ae
SUMMARY:Halloween Special – Theatresports: Battle of the Houses
DESCRIPTION:Competitive improv: teams representing the legendary wizarding houses from Harry Potter franchise face off in a fast-paced tournament of wit\, wizardry\, and wild imagination. Expect magical mayhem\, enchanted audience suggestions\, and fierce loyalty as Gryffindor\, Hufflepuff\, Ravenclaw\, and Slytherin go head-to-head in a theatrical duel for the coveted House Cup of Improv Glory. The audience cheers\, scores\, and helps decide which house will triumph … \nAs always at Courtyard improv events it’s free\, but you need to put your name on the guestlist (via the website) – it’s first-come first-served\, so get there early enough to grab a seat.
URL:https://magpie.ae/event/halloween-special-theatresports-battle-of-the-houses/
LOCATION:Courtyard Playhouse\, Street 4B\, Al Quoz 1\, Dubai\, United Arab Emirates
CATEGORIES:Comedy,Improv
GEO:25.177696;55.2504958
X-APPLE-STRUCTURED-LOCATION;VALUE=URI;X-ADDRESS=Courtyard Playhouse Street 4B Al Quoz 1 Dubai United Arab Emirates;X-APPLE-RADIUS=500;X-TITLE=Street 4B\, Al Quoz 1:geo:55.2504958,25.177696
END:VEVENT
END:VCALENDAR