BEGIN:VCALENDAR
VERSION:2.0
PRODID:-//magpie - ECPv6.15.20//NONSGML v1.0//EN
CALSCALE:GREGORIAN
METHOD:PUBLISH
X-WR-CALNAME:magpie
X-ORIGINAL-URL:https://magpie.ae
X-WR-CALDESC:Events for magpie
REFRESH-INTERVAL;VALUE=DURATION:PT1H
X-Robots-Tag:noindex
X-PUBLISHED-TTL:PT1H
BEGIN:VTIMEZONE
TZID:Asia/Dubai
BEGIN:STANDARD
TZOFFSETFROM:+0400
TZOFFSETTO:+0400
TZNAME:+04
DTSTART:20240101T000000
END:STANDARD
END:VTIMEZONE
BEGIN:VEVENT
DTSTART;TZID=Asia/Dubai:20251019T193000
DTEND;TZID=Asia/Dubai:20251019T230000
DTSTAMP:20260424T000746
CREATED:20251007T162712Z
LAST-MODIFIED:20251007T163919Z
UID:10012877-1760902200-1760914800@magpie.ae
SUMMARY:Mina and Friends Go Pink
DESCRIPTION:Dubomedy’s 15th annual gig in support of Breast Cancer Awareness Month promises “a STELLAR ensemble of performing artists” curated and hosted by Mina Liccione. They include poet Nathalia Khawand\, singer La Rudche\, Beatbox Ray with Shilpa Ananth\, and Dubomedy’s own Funny Girls: Valentina Danubio\, Daria Magdalena\, Sameera Kahn\, and Jouhayna Al Mheiri. Space is limited\, so get an RSVP in as quick as you can …
URL:https://magpie.ae/event/mina-and-friends-go-pink/
LOCATION:Social Distrikt\, The Pointe\, Palm Jumeirah\, Dubai
CATEGORIES:Comedy,Performance
GEO:25.1268007;55.1219323
X-APPLE-STRUCTURED-LOCATION;VALUE=URI;X-ADDRESS=Social Distrikt The Pointe Palm Jumeirah Dubai;X-APPLE-RADIUS=500;X-TITLE=The Pointe\, Palm Jumeirah:geo:55.1219323,25.1268007
END:VEVENT
BEGIN:VEVENT
DTSTART;TZID=Asia/Dubai:20251019T210000
DTEND;TZID=Asia/Dubai:20251019T224500
DTSTAMP:20260424T000746
CREATED:20250811T105056Z
LAST-MODIFIED:20250811T105056Z
UID:10012634-1760907600-1760913900@magpie.ae
SUMMARY:Sugar Sammy
DESCRIPTION:A second show by the Canadian comic\, a veteran of the international stand-up circuit whose comedy still comes across as fresh and fearless “with a talent for provoking both laughter and outrage” (New York Times) – his crowdwork is especially good\, too. His act tends to focus on cultural\, social\, and political themes\, which adds some meat to the show … Recommended.
URL:https://magpie.ae/event/sugar-sammy-2/
LOCATION:Zabeel Theatre\, Jumeirah Zabeel Saray\, Palm Jumeirah West Crescent\, Dubai
CATEGORIES:Comedy
GEO:25.0977637;55.1249239
X-APPLE-STRUCTURED-LOCATION;VALUE=URI;X-ADDRESS=Zabeel Theatre Jumeirah Zabeel Saray Palm Jumeirah West Crescent Dubai;X-APPLE-RADIUS=500;X-TITLE=Jumeirah Zabeel Saray\, Palm Jumeirah West Crescent:geo:55.1249239,25.0977637
END:VEVENT
END:VCALENDAR