BEGIN:VCALENDAR
VERSION:2.0
PRODID:-//magpie - ECPv6.15.20//NONSGML v1.0//EN
CALSCALE:GREGORIAN
METHOD:PUBLISH
X-ORIGINAL-URL:https://magpie.ae
X-WR-CALDESC:Events for magpie
REFRESH-INTERVAL;VALUE=DURATION:PT1H
X-Robots-Tag:noindex
X-PUBLISHED-TTL:PT1H
BEGIN:VTIMEZONE
TZID:Asia/Dubai
BEGIN:STANDARD
TZOFFSETFROM:+0400
TZOFFSETTO:+0400
TZNAME:+04
DTSTART:20240101T000000
END:STANDARD
END:VTIMEZONE
BEGIN:VEVENT
DTSTART;TZID=Asia/Dubai:20251018T203000
DTEND;TZID=Asia/Dubai:20251018T220000
DTSTAMP:20260424T015942
CREATED:20250930T115227Z
LAST-MODIFIED:20250930T115227Z
UID:10012780-1760819400-1760824800@magpie.ae
SUMMARY:The Laughter Factory Premium Comedy Club
DESCRIPTION:The final gig for the October Laughter Factory tour. The acts: \nJimmy McGhie Gold-plated comedy from a UK standup who’s performed all round the world (he’s been a hit in Dubai too). Highly recommended \nKaren Bayley Well-established (over a decade on the circuit) and particularly good with a smallish crowd: “saucy yet smart\, warm yet wicked\, she balances playful charm with a spiky edge that wins over men and women alike” \nTabarak Dubai-based comedic firecracker. Expect high-octane energy and “unfiltered charm” … \n 
URL:https://magpie.ae/event/the-laughter-factory-premium-comedy-club-68/
LOCATION:Dukes The Palm\, Palm Dubai\, Dubai
CATEGORIES:Comedy
GEO:25.1124317;55.138978
X-APPLE-STRUCTURED-LOCATION;VALUE=URI;X-ADDRESS=Dukes The Palm Palm Dubai Dubai;X-APPLE-RADIUS=500;X-TITLE=Palm Dubai:geo:55.138978,25.1124317
END:VEVENT
BEGIN:VEVENT
DTSTART;TZID=Asia/Dubai:20251018T210000
DTEND;TZID=Asia/Dubai:20251018T224500
DTSTAMP:20260424T015942
CREATED:20250811T104944Z
LAST-MODIFIED:20250811T105002Z
UID:10012633-1760821200-1760827500@magpie.ae
SUMMARY:Sugar Sammy
DESCRIPTION:A welcome visit from the Canadian comic known to his mum as Samir Khullar\, a veteran of the international stand-up circuit whose comedy still comes across as fresh and fearless “with a talent for provoking both laughter and outrage” (New York Times) – his crowdwork is especially good\, too. His act tends to focus on cultural\, social\, and political themes\, which adds some meat to the show … Recommended. \nThere’s a second show tomorrow (19 October).
URL:https://magpie.ae/event/sugar-sammy/
LOCATION:Zabeel Theatre\, Jumeirah Zabeel Saray\, Palm Jumeirah West Crescent\, Dubai
CATEGORIES:Comedy
ATTACH;FMTTYPE=image/webp:https://magpie.ae/wp-content/uploads/2025/08/sugar-sammy.webp
GEO:25.0977637;55.1249239
X-APPLE-STRUCTURED-LOCATION;VALUE=URI;X-ADDRESS=Zabeel Theatre Jumeirah Zabeel Saray Palm Jumeirah West Crescent Dubai;X-APPLE-RADIUS=500;X-TITLE=Jumeirah Zabeel Saray\, Palm Jumeirah West Crescent:geo:55.1249239,25.0977637
END:VEVENT
END:VCALENDAR