BEGIN:VCALENDAR
VERSION:2.0
PRODID:-//magpie - ECPv6.15.20//NONSGML v1.0//EN
CALSCALE:GREGORIAN
METHOD:PUBLISH
X-ORIGINAL-URL:https://magpie.ae
X-WR-CALDESC:Events for magpie
REFRESH-INTERVAL;VALUE=DURATION:PT1H
X-Robots-Tag:noindex
X-PUBLISHED-TTL:PT1H
BEGIN:VTIMEZONE
TZID:Asia/Dubai
BEGIN:STANDARD
TZOFFSETFROM:+0400
TZOFFSETTO:+0400
TZNAME:+04
DTSTART:20240101T000000
END:STANDARD
END:VTIMEZONE
BEGIN:VEVENT
DTSTART;TZID=Asia/Dubai:20251013T203000
DTEND;TZID=Asia/Dubai:20251013T223000
DTSTAMP:20260424T033915
CREATED:20250930T114408Z
LAST-MODIFIED:20250930T114941Z
UID:10012776-1760387400-1760394600@magpie.ae
SUMMARY:The Laughter Factory Premium Comedy Club
DESCRIPTION:The October Laughter Factory tour looks a good one. The acts: \nJimmy McGhie Gold-plated comedy from a UK standup who’s performed all round the world (he’s been a hit in Dubai too). Highly recommended \nKaren Bayley Well-established (over a decade on the circuit) and particularly good with a smallish crowd: “saucy yet smart\, warm yet wicked\, she balances playful charm with a spiky edge that wins over men and women alike” \nTabarak Dubai-based comedic firecracker. Expect high-octane energy and “unfiltered charm” … \nThe rest of the schedule: \n15 Oct The Strand\n16 Oct The Bay\, Al Hamra Golf Club RAK\n17 Oct Radisson DAMAC Hills\n18 Oct Dukes The Palm \n 
URL:https://magpie.ae/event/the-laughter-factory-premium-comedy-club-64/
LOCATION:Aura Skypool\, Palm Tower 50th floor\, Palm Jumeirah\, Dubai
CATEGORIES:Comedy
GEO:25.1137853;55.1399566
X-APPLE-STRUCTURED-LOCATION;VALUE=URI;X-ADDRESS=Aura Skypool Palm Tower 50th floor Palm Jumeirah Dubai;X-APPLE-RADIUS=500;X-TITLE=Palm Tower 50th floor\, Palm Jumeirah:geo:55.1399566,25.1137853
END:VEVENT
END:VCALENDAR