BEGIN:VCALENDAR
VERSION:2.0
PRODID:-//magpie - ECPv6.15.20//NONSGML v1.0//EN
CALSCALE:GREGORIAN
METHOD:PUBLISH
X-WR-CALNAME:magpie
X-ORIGINAL-URL:https://magpie.ae
X-WR-CALDESC:Events for magpie
REFRESH-INTERVAL;VALUE=DURATION:PT1H
X-Robots-Tag:noindex
X-PUBLISHED-TTL:PT1H
BEGIN:VTIMEZONE
TZID:Asia/Dubai
BEGIN:STANDARD
TZOFFSETFROM:+0400
TZOFFSETTO:+0400
TZNAME:+04
DTSTART:20240101T000000
END:STANDARD
END:VTIMEZONE
BEGIN:VEVENT
DTSTART;TZID=Asia/Dubai:20251012T110000
DTEND;TZID=Asia/Dubai:20251012T113000
DTSTAMP:20260424T001641
CREATED:20251002T103949Z
LAST-MODIFIED:20251002T104122Z
UID:10012836-1760266800-1760268600@magpie.ae
SUMMARY:Matty Grey: 101 Ways to Annoy Your Parents and Other Really Old People
DESCRIPTION:A second outing for Matty Grey’s award-winning show for the Dubai Comedy Festival. We’re promised outrageously funny antics\, gross-out games\, and “hilarious tips on how to drive grown-ups crazy (in the best way)”.
URL:https://magpie.ae/event/matty-grey-101-ways-to-annoy-your-parents-and-other-really-old-people-2/
LOCATION:New Covent Garden Theatre\, Mall of the Emirates\, Dubai
CATEGORIES:Comedy,Family/kids
GEO:25.118107;55.200608
X-APPLE-STRUCTURED-LOCATION;VALUE=URI;X-ADDRESS=New Covent Garden Theatre Mall of the Emirates Dubai;X-APPLE-RADIUS=500;X-TITLE=Mall of the Emirates:geo:55.200608,25.118107
END:VEVENT
BEGIN:VEVENT
DTSTART;TZID=Asia/Dubai:20251012T113000
DTEND;TZID=Asia/Dubai:20251012T123000
DTSTAMP:20260424T001641
CREATED:20251002T105102Z
LAST-MODIFIED:20251002T105128Z
UID:10012838-1760268600-1760272200@magpie.ae
SUMMARY:Jonny Awsum: The Kids Show
DESCRIPTION:Another performance of this feel-good musical comedy for the Dubai Comedy Festival\, “guaranteed to get all ages singing and laughing along”. Each show finishes with a meet-and-greet session with Jonny and a photo opportunity with the bowler hats from ‘This is a Musical’ …
URL:https://magpie.ae/event/jonny-awsum-the-kids-show-2/
LOCATION:New Covent Garden Theatre\, Mall of the Emirates\, Dubai
CATEGORIES:Comedy,Family/kids
GEO:25.118107;55.200608
X-APPLE-STRUCTURED-LOCATION;VALUE=URI;X-ADDRESS=New Covent Garden Theatre Mall of the Emirates Dubai;X-APPLE-RADIUS=500;X-TITLE=Mall of the Emirates:geo:55.200608,25.118107
END:VEVENT
BEGIN:VEVENT
DTSTART;TZID=Asia/Dubai:20251012T170000
DTEND;TZID=Asia/Dubai:20251012T193000
DTSTAMP:20260424T001641
CREATED:20251001T135008Z
LAST-MODIFIED:20251001T135008Z
UID:10012822-1760288400-1760297400@magpie.ae
SUMMARY:Imah Dumagay: Rice and Sand
DESCRIPTION:A mash-up of expat life\, identity crises\, marriage survival\, and the everyday chaos of being too polite and too tired at the same time\, the funniest Filipina in Dubai dives deep into what it means to be a woman navigating life between where she’s from and where she’s hustling. This Dubai Comedy Festival gig is recommended.
URL:https://magpie.ae/event/imah-dumagay-rice-and-sand/
LOCATION:Playhouse Studio Theatre\, New Covent Garden\, Mall of the Emirates\, Dubai
CATEGORIES:Comedy
ATTACH;FMTTYPE=image/webp:https://magpie.ae/wp-content/uploads/2025/10/imah_dumagay_1656-mobile1689329438.webp
GEO:25.118107;55.200608
X-APPLE-STRUCTURED-LOCATION;VALUE=URI;X-ADDRESS=Playhouse Studio Theatre New Covent Garden Mall of the Emirates Dubai;X-APPLE-RADIUS=500;X-TITLE=New Covent Garden\, Mall of the Emirates:geo:55.200608,25.118107
END:VEVENT
BEGIN:VEVENT
DTSTART;TZID=Asia/Dubai:20251012T180000
DTEND;TZID=Asia/Dubai:20251012T193000
DTSTAMP:20260424T001641
CREATED:20251002T105538Z
LAST-MODIFIED:20251008T115620Z
UID:10012840-1760292000-1760297400@magpie.ae
SUMMARY:Laser Kiwi: Rise of the Olive
DESCRIPTION:A second Dubai Comedy Festival performance for “the world’s only surreal sketch circus”. Expect world-record bounce juggling\, jaw-dropping aerial acts\, Jenga stunts\, and plenty of pimento-stuffed olives in a wildly inventive show that blends next-level circus skills with a lot of laughs … Recommended.
URL:https://magpie.ae/event/laser-kiwi-2/
LOCATION:New Covent Garden Theatre\, Mall of the Emirates\, Dubai
CATEGORIES:Comedy
GEO:25.118107;55.200608
X-APPLE-STRUCTURED-LOCATION;VALUE=URI;X-ADDRESS=New Covent Garden Theatre Mall of the Emirates Dubai;X-APPLE-RADIUS=500;X-TITLE=Mall of the Emirates:geo:55.200608,25.118107
END:VEVENT
BEGIN:VEVENT
DTSTART;TZID=Asia/Dubai:20251012T180000
DTEND;TZID=Asia/Dubai:20251012T200000
DTSTAMP:20260424T001641
CREATED:20251001T140352Z
LAST-MODIFIED:20251001T140352Z
UID:10012824-1760292000-1760299200@magpie.ae
SUMMARY:Riaad Moosa & Joey Rasdien: Brother from Another Mother
DESCRIPTION:The South African comedy reunite on stage for this Dubai Comedy Festival show. Expect witty takes on identity\, politics\, and family\, with contrasting styles that make for very good on-stage chemistry …
URL:https://magpie.ae/event/riaad-moosa-joey-rasdien-brother-from-another-mother/
LOCATION:Dubai Opera
CATEGORIES:Comedy
ATTACH;FMTTYPE=image/webp:https://magpie.ae/wp-content/uploads/2025/10/Riaad-Moosa-Joey-Rasdien-1.webp
GEO:25.1928528;55.2789648
END:VEVENT
BEGIN:VEVENT
DTSTART;TZID=Asia/Dubai:20251012T190000
DTEND;TZID=Asia/Dubai:20251012T213000
DTSTAMP:20260424T001641
CREATED:20250930T114102Z
LAST-MODIFIED:20250930T114951Z
UID:10012775-1760295600-1760304600@magpie.ae
SUMMARY:The Laughter Factory Premium Comedy Club
DESCRIPTION:The October Laughter Factory tour looks a good one. The acts: \nJimmy McGhie Gold-plated comedy from a UK standup who’s performed all round the world (he’s been a hit in Dubai too). Highly recommended \nKaren Bayley Well-established (over a decade on the circuit) and particularly good with a smallish crowd: “saucy yet smart\, warm yet wicked\, she balances playful charm with a spiky edge that wins over men and women alike” \nTabarak Dubai-based comedic firecracker. Expect high-octane energy and “unfiltered charm” … \nThe rest of the schedule: \n13 Oct Aura Skypool\n15 Oct The Strand\n16 Oct The Bay\, Al Hamra Golf Club RAK\n17 Oct Radisson DAMAC Hills\n18 Oct Dukes The Palm \n 
URL:https://magpie.ae/event/the-laughter-factory-premium-comedy-club-63/
LOCATION:Studio One Hotel\, Dubai Studio City\, Dubai
CATEGORIES:Comedy
GEO:25.0346728;55.2397317
X-APPLE-STRUCTURED-LOCATION;VALUE=URI;X-ADDRESS=Studio One Hotel Dubai Studio City Dubai;X-APPLE-RADIUS=500;X-TITLE=Dubai Studio City:geo:55.2397317,25.0346728
END:VEVENT
BEGIN:VEVENT
DTSTART;TZID=Asia/Dubai:20251012T213000
DTEND;TZID=Asia/Dubai:20251012T230000
DTSTAMP:20260424T001641
CREATED:20251001T135536Z
LAST-MODIFIED:20251001T135536Z
UID:10012823-1760304600-1760310000@magpie.ae
SUMMARY:Redouane Bougheraba
DESCRIPTION:French comedy icon Redouane Bougheraba is back in Dubai\, headlining a Dubai Opera show for the Dubai Comedy festival. French comedy doesn’t get much better than this …
URL:https://magpie.ae/event/redouane-bougheraba/
LOCATION:Dubai Opera
CATEGORIES:Comedy
ATTACH;FMTTYPE=image/webp:https://magpie.ae/wp-content/uploads/2025/10/Redouane-Bougheraba.webp
GEO:25.1928528;55.2789648
END:VEVENT
END:VCALENDAR