BEGIN:VCALENDAR
VERSION:2.0
PRODID:-//magpie - ECPv6.15.20//NONSGML v1.0//EN
CALSCALE:GREGORIAN
METHOD:PUBLISH
X-WR-CALNAME:magpie
X-ORIGINAL-URL:https://magpie.ae
X-WR-CALDESC:Events for magpie
REFRESH-INTERVAL;VALUE=DURATION:PT1H
X-Robots-Tag:noindex
X-PUBLISHED-TTL:PT1H
BEGIN:VTIMEZONE
TZID:Asia/Dubai
BEGIN:STANDARD
TZOFFSETFROM:+0400
TZOFFSETTO:+0400
TZNAME:+04
DTSTART:20240101T000000
END:STANDARD
END:VTIMEZONE
BEGIN:VEVENT
DTSTART;TZID=Asia/Dubai:20251011T110000
DTEND;TZID=Asia/Dubai:20251011T113000
DTSTAMP:20260424T000855
CREATED:20251002T103902Z
LAST-MODIFIED:20251002T104114Z
UID:10012835-1760180400-1760182200@magpie.ae
SUMMARY:Matty Grey: 101 Ways to Annoy Your Parents and Other Really Old People
DESCRIPTION:Matty Grey’s award-winning show for the Dubai Comedy Festival has a dangerousy seductive title. We’re promised outrageously funny antics\, gross-out games\, and “hilarious tips on how to drive grown-ups crazy (in the best way)”. There’s a second show tomorrow (12 October).
URL:https://magpie.ae/event/matty-grey-101-ways-to-annoy-your-parents-and-other-really-old-people/
LOCATION:New Covent Garden Theatre\, Mall of the Emirates\, Dubai
CATEGORIES:Comedy,Family/kids
GEO:25.118107;55.200608
X-APPLE-STRUCTURED-LOCATION;VALUE=URI;X-ADDRESS=New Covent Garden Theatre Mall of the Emirates Dubai;X-APPLE-RADIUS=500;X-TITLE=Mall of the Emirates:geo:55.200608,25.118107
END:VEVENT
BEGIN:VEVENT
DTSTART;TZID=Asia/Dubai:20251011T113000
DTEND;TZID=Asia/Dubai:20251011T123000
DTSTAMP:20260424T000855
CREATED:20251002T104327Z
LAST-MODIFIED:20251002T104327Z
UID:10012837-1760182200-1760185800@magpie.ae
SUMMARY:Jonny Awsum: The Kids Show
DESCRIPTION:Feel-good musical comedy for the Dubai Comedy Festival\, “guaranteed to get all ages singing and laughing along”. Each show finishes with a meet and greet session with Jonny and a photo opportunity with the bowler hats from ‘This is a Musical’ … There’s a second show tomorrow (12 October).
URL:https://magpie.ae/event/jonny-awsum-the-kids-show/
LOCATION:New Covent Garden Theatre\, Mall of the Emirates\, Dubai
CATEGORIES:Comedy,Family/kids
GEO:25.118107;55.200608
X-APPLE-STRUCTURED-LOCATION;VALUE=URI;X-ADDRESS=New Covent Garden Theatre Mall of the Emirates Dubai;X-APPLE-RADIUS=500;X-TITLE=Mall of the Emirates:geo:55.200608,25.118107
END:VEVENT
BEGIN:VEVENT
DTSTART;TZID=Asia/Dubai:20251011T180000
DTEND;TZID=Asia/Dubai:20251011T193000
DTSTAMP:20260424T000855
CREATED:20251001T134011Z
LAST-MODIFIED:20251001T134011Z
UID:10012820-1760205600-1760211000@magpie.ae
SUMMARY:Amer Zahr
DESCRIPTION:The Palestinian-American comedian (and author\, political activist and adjunct professor at University of Detroit Mercy School of Law) brings more than 10 years of comedy experience to this Dubai Comedy festival gig. He was great at last year’s Festival\, too\, and is well worth the price of admission …
URL:https://magpie.ae/event/amer-zahr/
LOCATION:Dubai Opera
CATEGORIES:Comedy
ATTACH;FMTTYPE=image/png:https://magpie.ae/wp-content/uploads/2024/03/amer_zahr.png
GEO:25.1928528;55.2789648
END:VEVENT
BEGIN:VEVENT
DTSTART;TZID=Asia/Dubai:20251011T180000
DTEND;TZID=Asia/Dubai:20251011T193000
DTSTAMP:20260424T000855
CREATED:20251002T105357Z
LAST-MODIFIED:20251008T115328Z
UID:10012839-1760205600-1760211000@magpie.ae
SUMMARY:Laser Kiwi: Rise of the Olive
DESCRIPTION:“The world’s only surreal sketch circus” comes to the Dubai Comedy Festival. This award-winning trio brings world-record bounce juggling\, jaw-dropping aerial acts\, Jenga stunts\, and plenty of pimento-stuffed olives in a wildly inventive show that blends next-level circus skills with a lot of laughs … Recommended\, and there’s a second show tomorrow (12 October).
URL:https://magpie.ae/event/laser-kiwi/
LOCATION:New Covent Garden Theatre\, Mall of the Emirates\, Dubai
CATEGORIES:Comedy
ATTACH;FMTTYPE=image/webp:https://magpie.ae/wp-content/uploads/2025/10/Laser-Kiwi.webp
GEO:25.118107;55.200608
X-APPLE-STRUCTURED-LOCATION;VALUE=URI;X-ADDRESS=New Covent Garden Theatre Mall of the Emirates Dubai;X-APPLE-RADIUS=500;X-TITLE=Mall of the Emirates:geo:55.200608,25.118107
END:VEVENT
BEGIN:VEVENT
DTSTART;TZID=Asia/Dubai:20251011T203000
DTEND;TZID=Asia/Dubai:20251011T220000
DTSTAMP:20260424T000855
CREATED:20250930T114030Z
LAST-MODIFIED:20250930T114958Z
UID:10012774-1760214600-1760220000@magpie.ae
SUMMARY:The Laughter Factory Premium Comedy Club
DESCRIPTION:The October Laughter Factory tour looks a good one. The acts: \nJimmy McGhie Gold-plated comedy from a UK standup who’s performed all round the world (he’s been a hit in Dubai too). Highly recommended \nKaren Bayley Well-established (over a decade on the circuit) and particularly good with a smallish crowd: “saucy yet smart\, warm yet wicked\, she balances playful charm with a spiky edge that wins over men and women alike” \nTabarak Dubai-based comedic firecracker. Expect high-octane energy and “unfiltered charm” … \nThe rest of the schedule: \n12 Oct The Club Abu Dhabi (7pm start)\n13 Oct Aura Skypool\n15 Oct The Strand\n16 Oct The Bay\, Al Hamra Golf Club RAK\n17 Oct Radisson DAMAC Hills\n18 Oct Dukes The Palm \n 
URL:https://magpie.ae/event/the-laughter-factory-premium-comedy-club-62/
LOCATION:Studio One Hotel\, Dubai Studio City\, Dubai
CATEGORIES:Comedy
GEO:25.0346728;55.2397317
X-APPLE-STRUCTURED-LOCATION;VALUE=URI;X-ADDRESS=Studio One Hotel Dubai Studio City Dubai;X-APPLE-RADIUS=500;X-TITLE=Dubai Studio City:geo:55.2397317,25.0346728
END:VEVENT
END:VCALENDAR