BEGIN:VCALENDAR
VERSION:2.0
PRODID:-//magpie - ECPv6.15.20//NONSGML v1.0//EN
CALSCALE:GREGORIAN
METHOD:PUBLISH
X-ORIGINAL-URL:https://magpie.ae
X-WR-CALDESC:Events for magpie
REFRESH-INTERVAL;VALUE=DURATION:PT1H
X-Robots-Tag:noindex
X-PUBLISHED-TTL:PT1H
BEGIN:VTIMEZONE
TZID:Asia/Dubai
BEGIN:STANDARD
TZOFFSETFROM:+0400
TZOFFSETTO:+0400
TZNAME:+04
DTSTART:20240101T000000
END:STANDARD
END:VTIMEZONE
BEGIN:VEVENT
DTSTART;VALUE=DATE:20251010
DTEND;VALUE=DATE:20251011
DTSTAMP:20260424T001057
CREATED:20251001T132827Z
LAST-MODIFIED:20251001T133149Z
UID:10012818-1760054400-1760140799@magpie.ae
SUMMARY:Mo Amer
DESCRIPTION:Second of two Dubai Comedy Festival nights with two shows per night (6.30 and 9.30m) for the Palestinian-American stand-up and writer. Expect reflections on family\, fresh takes on fatherhood\, and candid insights on today’s world. \n 
URL:https://magpie.ae/event/mo-amer-2/
LOCATION:Dubai Opera
CATEGORIES:Comedy
GEO:25.1928528;55.2789648
END:VEVENT
BEGIN:VEVENT
DTSTART;VALUE=DATE:20251010
DTEND;VALUE=DATE:20251011
DTSTAMP:20260424T001057
CREATED:20251001T133621Z
LAST-MODIFIED:20251001T133621Z
UID:10012819-1760054400-1760140799@magpie.ae
SUMMARY:Paul Taylor
DESCRIPTION:Offbeat expat anecdotes of being a Brit in France from a British comedian who has made a name for himself there by creating\, writing\, and starring in the hit TV show WTF France. He also claims to be the first comedian in France to perform bilingual stand-up … A Dubai Comedy Festival gig. \n 
URL:https://magpie.ae/event/paul-taylor/
LOCATION:New Covent Garden Theatre\, Mall of the Emirates\, Dubai
CATEGORIES:Comedy
ATTACH;FMTTYPE=image/webp:https://magpie.ae/wp-content/uploads/2025/10/paul-taylor.webp
GEO:25.118107;55.200608
X-APPLE-STRUCTURED-LOCATION;VALUE=URI;X-ADDRESS=New Covent Garden Theatre Mall of the Emirates Dubai;X-APPLE-RADIUS=500;X-TITLE=Mall of the Emirates:geo:55.200608,25.118107
END:VEVENT
BEGIN:VEVENT
DTSTART;TZID=Asia/Dubai:20251010T203000
DTEND;TZID=Asia/Dubai:20251010T220000
DTSTAMP:20260424T001057
CREATED:20250930T113710Z
LAST-MODIFIED:20250930T115005Z
UID:10012772-1760128200-1760133600@magpie.ae
SUMMARY:The Laughter Factory Premium Comedy Club
DESCRIPTION:The October Laughter Factory tour\, billed as “Arena-Quality Comedy in an Intimate Setting”; it’s certainly a good one this time round. The acts: \nJimmy McGhie Gold-plated comedy from a UK standup who’s performed all round the world (he’s been a hit in Dubai too). Highly recommended \nKaren Bayley Well-established (over a decade on the circuit) and particularly good with a smallish crowd: “saucy yet smart\, warm yet wicked\, she balances playful charm with a spiky edge that wins over men and women alike” \nTabarak Dubai-based comedic firecracker. Expect high-octane energy and “unfiltered charm” … \nThey’re working hard this time round\, with the week packed with gigs thanks to a couple of new venues. Here’s the rest of the schedule: \n11 Oct Studio One Hotel\n12 Oct The Club Abu Dhabi (7pm start)\n13 Oct Aura Skypool\n15 Oct The Strand\n16 Oct The Bay\, Al Hamra Golf Club RAK\n17 Oct Radisson DAMAC Hills\n18 Oct Dukes The Palm \n 
URL:https://magpie.ae/event/the-laughter-factory-premium-comedy-club-61/
LOCATION:The Agenda\, Abdullah Omran Taryam St\, Media City\, Dubai
CATEGORIES:Comedy
GEO:25.0992611;55.1679863
X-APPLE-STRUCTURED-LOCATION;VALUE=URI;X-ADDRESS=The Agenda Abdullah Omran Taryam St Media City Dubai;X-APPLE-RADIUS=500;X-TITLE=Abdullah Omran Taryam St\, Media City:geo:55.1679863,25.0992611
END:VEVENT
END:VCALENDAR