BEGIN:VCALENDAR
VERSION:2.0
PRODID:-//magpie - ECPv6.15.20//NONSGML v1.0//EN
CALSCALE:GREGORIAN
METHOD:PUBLISH
X-WR-CALNAME:magpie
X-ORIGINAL-URL:https://magpie.ae
X-WR-CALDESC:Events for magpie
REFRESH-INTERVAL;VALUE=DURATION:PT1H
X-Robots-Tag:noindex
X-PUBLISHED-TTL:PT1H
BEGIN:VTIMEZONE
TZID:Asia/Dubai
BEGIN:STANDARD
TZOFFSETFROM:+0400
TZOFFSETTO:+0400
TZNAME:+04
DTSTART:20240101T000000
END:STANDARD
END:VTIMEZONE
BEGIN:VEVENT
DTSTART;VALUE=DATE:20251009
DTEND;VALUE=DATE:20251010
DTSTAMP:20260424T015524
CREATED:20251001T132749Z
LAST-MODIFIED:20251001T133138Z
UID:10012817-1759968000-1760054399@magpie.ae
SUMMARY:Mo Amer
DESCRIPTION:First of two Dubai Comedy Festival nights with two shows per night (6.30 and 9.30m) for the Palestinian-American stand-up and writer. Expect reflections on family\, fresh takes on fatherhood\, and candid insights on today’s world. \n 
URL:https://magpie.ae/event/mo-amer/
LOCATION:Dubai Opera
CATEGORIES:Comedy
ATTACH;FMTTYPE=image/webp:https://magpie.ae/wp-content/uploads/2025/10/Mo-Amer-credit-Mathieu-Bitton-e1618359796449-copy.webp
GEO:25.1928528;55.2789648
END:VEVENT
BEGIN:VEVENT
DTSTART;TZID=Asia/Dubai:20251009T190000
DTEND;TZID=Asia/Dubai:20251009T213000
DTSTAMP:20260424T015524
CREATED:20251001T132040Z
LAST-MODIFIED:20251001T132040Z
UID:10012816-1760036400-1760045400@magpie.ae
SUMMARY:Masood Boomgaard
DESCRIPTION:The rather good South African / Indian comedian is back for a Dubai Comedy festival gig with his alter ego\, Self-Help Singh\, alternative life coach and de-motivational speaker (who apparently “first appeared to Boomgaard in a vision after he fell and hit his head while rushing to the bathroom in an attempt to outrun the gastric consequences of bad lamb vindaloo”). It’s fast\, funny\, and packed with sharp takes on modern life: recommended.
URL:https://magpie.ae/event/masood-boomgaard/
LOCATION:New Covent Garden Theatre\, Mall of the Emirates\, Dubai
CATEGORIES:Comedy
ATTACH;FMTTYPE=image/webp:https://magpie.ae/wp-content/uploads/2025/10/Masood-Boomgaard.webp
GEO:25.118107;55.200608
X-APPLE-STRUCTURED-LOCATION;VALUE=URI;X-ADDRESS=New Covent Garden Theatre Mall of the Emirates Dubai;X-APPLE-RADIUS=500;X-TITLE=Mall of the Emirates:geo:55.200608,25.118107
END:VEVENT
BEGIN:VEVENT
DTSTART;TZID=Asia/Dubai:20251009T213000
DTEND;TZID=Asia/Dubai:20251009T230000
DTSTAMP:20260424T015524
CREATED:20251001T165810Z
LAST-MODIFIED:20251001T165921Z
UID:10012834-1760045400-1760050800@magpie.ae
SUMMARY:German Laugh Club
DESCRIPTION:Benaissa Lamroubal\, Khalid Bounouar\, and Salim Samatou – three big names in German stand-up – are bringing an evening of sharp wit\, bold stories\, and non-stop laughs to the Dubai Comedy Festival And it’s all in German\, which is something of a rarity in Dubai …
URL:https://magpie.ae/event/german-laugh-club/
LOCATION:New Covent Garden Theatre\, Mall of the Emirates\, Dubai
CATEGORIES:Comedy
GEO:25.118107;55.200608
X-APPLE-STRUCTURED-LOCATION;VALUE=URI;X-ADDRESS=New Covent Garden Theatre Mall of the Emirates Dubai;X-APPLE-RADIUS=500;X-TITLE=Mall of the Emirates:geo:55.200608,25.118107
END:VEVENT
END:VCALENDAR