BEGIN:VCALENDAR
VERSION:2.0
PRODID:-//magpie - ECPv6.15.20//NONSGML v1.0//EN
CALSCALE:GREGORIAN
METHOD:PUBLISH
X-WR-CALNAME:magpie
X-ORIGINAL-URL:https://magpie.ae
X-WR-CALDESC:Events for magpie
REFRESH-INTERVAL;VALUE=DURATION:PT1H
X-Robots-Tag:noindex
X-PUBLISHED-TTL:PT1H
BEGIN:VTIMEZONE
TZID:Asia/Dubai
BEGIN:STANDARD
TZOFFSETFROM:+0400
TZOFFSETTO:+0400
TZNAME:+04
DTSTART:20240101T000000
END:STANDARD
END:VTIMEZONE
BEGIN:VEVENT
DTSTART;TZID=Asia/Dubai:20251005T110000
DTEND;TZID=Asia/Dubai:20251005T123000
DTSTAMP:20260424T032947
CREATED:20251001T164331Z
LAST-MODIFIED:20251001T164331Z
UID:10012828-1759662000-1759667400@magpie.ae
SUMMARY:Stuff!
DESCRIPTION:A second show for “Melbourne’s goofiest duo”\, aka Jon & Jero\,  in a hilarious tale of two bumbling brothers on a mission to recover their stolen stuff. Venturing across strange and wonderful lands and encountering a whirlwind of silly antics\, quirky characters\, and unexpected twists\, the audience is encouraged to lend the pair a helping hand along the way …
URL:https://magpie.ae/event/stuff-2/
LOCATION:New Covent Garden Theatre\, Mall of the Emirates\, Dubai
CATEGORIES:Comedy
GEO:25.118107;55.200608
X-APPLE-STRUCTURED-LOCATION;VALUE=URI;X-ADDRESS=New Covent Garden Theatre Mall of the Emirates Dubai;X-APPLE-RADIUS=500;X-TITLE=Mall of the Emirates:geo:55.200608,25.118107
END:VEVENT
BEGIN:VEVENT
DTSTART;TZID=Asia/Dubai:20251005T150000
DTEND;TZID=Asia/Dubai:20251005T160000
DTSTAMP:20260424T032947
CREATED:20251001T163954Z
LAST-MODIFIED:20251001T163954Z
UID:10012826-1759676400-1759680000@magpie.ae
SUMMARY:Sam Wills: Tape Face
DESCRIPTION:A second Dubai Comedy Festival\, show for Tape Face\, a silent\, eccentric character whose comedy transcends the boundaries of age\, language\, and culture; taking inspiration from silent film\, mime\, magic\, and puppetry\, Sam Wills’ character makes shoes sing\, empty dresses dance\, and electrical tape blossom into roses …
URL:https://magpie.ae/event/sam-wills-tape-face-2/
LOCATION:New Covent Garden Theatre\, Mall of the Emirates\, Dubai
CATEGORIES:Comedy
GEO:25.118107;55.200608
X-APPLE-STRUCTURED-LOCATION;VALUE=URI;X-ADDRESS=New Covent Garden Theatre Mall of the Emirates Dubai;X-APPLE-RADIUS=500;X-TITLE=Mall of the Emirates:geo:55.200608,25.118107
END:VEVENT
BEGIN:VEVENT
DTSTART;TZID=Asia/Dubai:20251005T153000
DTEND;TZID=Asia/Dubai:20251005T170000
DTSTAMP:20260424T032947
CREATED:20251001T164817Z
LAST-MODIFIED:20251001T164817Z
UID:10012831-1759678200-1759683600@magpie.ae
SUMMARY:Con Coutis
DESCRIPTION:A second performance for this wildly original Dubai Comedy Festival show flips traditional comedy on its head\, delivering a futuristic\, sonically charged\, hilariously unexpected experience: 50 years after a meteor has wiped out every comedian but one\, the Government revives the last-known comic\, Con Coutis\, from cryosleep in a final attempt to bring laughter back to the world … \n 
URL:https://magpie.ae/event/con-coutis-2/
LOCATION:Playhouse Studio Theatre\, New Covent Garden\, Mall of the Emirates\, Dubai
CATEGORIES:Comedy
GEO:25.118107;55.200608
X-APPLE-STRUCTURED-LOCATION;VALUE=URI;X-ADDRESS=Playhouse Studio Theatre New Covent Garden Mall of the Emirates Dubai;X-APPLE-RADIUS=500;X-TITLE=New Covent Garden\, Mall of the Emirates:geo:55.200608,25.118107
END:VEVENT
BEGIN:VEVENT
DTSTART;TZID=Asia/Dubai:20251005T180000
DTEND;TZID=Asia/Dubai:20251005T190000
DTSTAMP:20260424T032947
CREATED:20251001T165141Z
LAST-MODIFIED:20251001T165141Z
UID:10012832-1759687200-1759690800@magpie.ae
SUMMARY:MUSH
DESCRIPTION:A second performance of this “weird but wonderful” ‘kids show for adults’ at the Dubai Comedy Festival – expect plenty of clown antics\, character work\, and audience interaction. \n  \n 
URL:https://magpie.ae/event/mush-2/
LOCATION:Playhouse Studio Theatre\, New Covent Garden\, Mall of the Emirates\, Dubai
CATEGORIES:Comedy
GEO:25.118107;55.200608
X-APPLE-STRUCTURED-LOCATION;VALUE=URI;X-ADDRESS=Playhouse Studio Theatre New Covent Garden Mall of the Emirates Dubai;X-APPLE-RADIUS=500;X-TITLE=New Covent Garden\, Mall of the Emirates:geo:55.200608,25.118107
END:VEVENT
BEGIN:VEVENT
DTSTART;TZID=Asia/Dubai:20251005T180000
DTEND;TZID=Asia/Dubai:20251005T193000
DTSTAMP:20260424T032947
CREATED:20251001T125643Z
LAST-MODIFIED:20251001T125643Z
UID:10012812-1759687200-1759692600@magpie.ae
SUMMARY:Omid Djalili: NAMASTE
DESCRIPTION:An early-evening Dubai Comedy Festival gig for the British-Iranian funnyman – 30 years in comedy\, and despite the Hollywood cameos and TV roles the live stage has always felt his true home. Acid wit and self-deprecating anecdotes plus belly laughs aplenty; what’s not to like? He’s in mid-tour with this critically acclaimed new show\, featuring “a torrent of comedic vitriol” unleashed on the current state of this dangerously messed up planet … Recommended.
URL:https://magpie.ae/event/omid-djalili-namaste/
LOCATION:Dubai Opera
CATEGORIES:Comedy
ATTACH;FMTTYPE=image/webp:https://magpie.ae/wp-content/uploads/2025/10/omid.webp
GEO:25.1928528;55.2789648
END:VEVENT
BEGIN:VEVENT
DTSTART;TZID=Asia/Dubai:20251005T200000
DTEND;TZID=Asia/Dubai:20251005T213000
DTSTAMP:20260424T032947
CREATED:20251001T124437Z
LAST-MODIFIED:20251001T124456Z
UID:10012811-1759694400-1759699800@magpie.ae
SUMMARY:Shawn Chidiac aka My Parents are Divorced
DESCRIPTION:A second Dubai Comedy Festival gig  for the Lebanese-Canadian comedian\, a genuine rising star known for his sharp wit blended with raw\, relatable humour. \nSOLD OUT but there may be returns
URL:https://magpie.ae/event/shawn-chidiac-aka-my-parents-are-divorced-2/
LOCATION:New Covent Garden Theatre\, Mall of the Emirates\, Dubai
CATEGORIES:Comedy
GEO:25.118107;55.200608
X-APPLE-STRUCTURED-LOCATION;VALUE=URI;X-ADDRESS=New Covent Garden Theatre Mall of the Emirates Dubai;X-APPLE-RADIUS=500;X-TITLE=Mall of the Emirates:geo:55.200608,25.118107
END:VEVENT
BEGIN:VEVENT
DTSTART;TZID=Asia/Dubai:20251005T210000
DTEND;TZID=Asia/Dubai:20251005T223000
DTSTAMP:20260424T032947
CREATED:20251001T130207Z
LAST-MODIFIED:20251001T130307Z
UID:10012813-1759698000-1759703400@magpie.ae
SUMMARY:Akaash Singh
DESCRIPTION:In addition to his podcast success – Flagrant\, with fellow comedian Andrew Schulz – and a burgeoning acting career\, Akaash Sing is proving to be a canny and funny stand-up: he self-produced and directed his first stand-up special\, Bring Back Apu\, which clocked up over a million views in its first week\, and followed that just a month later with the successful Crowdwork Special. This is a Dubai Comedy Festival gig.
URL:https://magpie.ae/event/akaash-singh/
LOCATION:Dubai Opera
CATEGORIES:Comedy
GEO:25.1928528;55.2789648
END:VEVENT
END:VCALENDAR