BEGIN:VCALENDAR
VERSION:2.0
PRODID:-//magpie - ECPv6.15.20//NONSGML v1.0//EN
CALSCALE:GREGORIAN
METHOD:PUBLISH
X-WR-CALNAME:magpie
X-ORIGINAL-URL:https://magpie.ae
X-WR-CALDESC:Events for magpie
REFRESH-INTERVAL;VALUE=DURATION:PT1H
X-Robots-Tag:noindex
X-PUBLISHED-TTL:PT1H
BEGIN:VTIMEZONE
TZID:Asia/Dubai
BEGIN:STANDARD
TZOFFSETFROM:+0400
TZOFFSETTO:+0400
TZNAME:+04
DTSTART:20240101T000000
END:STANDARD
END:VTIMEZONE
BEGIN:VEVENT
DTSTART;TZID=Asia/Dubai:20250926T200000
DTEND;TZID=Asia/Dubai:20250926T233000
DTSTAMP:20260424T032701
CREATED:20250919T084749Z
LAST-MODIFIED:20250919T084749Z
UID:10012718-1758916800-1758929400@magpie.ae
SUMMARY:Politically Incorrect Comedy
DESCRIPTION:MadCat Comedy’s regular night at the Clavichord in TECOM with “raw\, unfiltered\, hilarious” standup. The cover charge of AED 80 includes one drink.
URL:https://magpie.ae/event/politically-incorrect-comedy-10/
LOCATION:The Clavichord\, Signature Hotel\, Barsha Heights\, Dubai
CATEGORIES:Comedy
GEO:25.0960225;55.1744349
X-APPLE-STRUCTURED-LOCATION;VALUE=URI;X-ADDRESS=The Clavichord Signature Hotel Barsha Heights Dubai;X-APPLE-RADIUS=500;X-TITLE=Signature Hotel\, Barsha Heights:geo:55.1744349,25.0960225
END:VEVENT
END:VCALENDAR