BEGIN:VCALENDAR
VERSION:2.0
PRODID:-//magpie - ECPv6.15.20//NONSGML v1.0//EN
CALSCALE:GREGORIAN
METHOD:PUBLISH
X-ORIGINAL-URL:https://magpie.ae
X-WR-CALDESC:Events for magpie
REFRESH-INTERVAL;VALUE=DURATION:PT1H
X-Robots-Tag:noindex
X-PUBLISHED-TTL:PT1H
BEGIN:VTIMEZONE
TZID:Asia/Dubai
BEGIN:STANDARD
TZOFFSETFROM:+0400
TZOFFSETTO:+0400
TZNAME:+04
DTSTART:20240101T000000
END:STANDARD
END:VTIMEZONE
BEGIN:VEVENT
DTSTART;TZID=Asia/Dubai:20250925T200000
DTEND;TZID=Asia/Dubai:20250925T213000
DTSTAMP:20260424T074625
CREATED:20250923T115834Z
LAST-MODIFIED:20250923T115834Z
UID:10012742-1758830400-1758835800@magpie.ae
SUMMARY:PowerPointless Networking Night
DESCRIPTION:Back for a new season\, it’s one of the most consistently funny of the Courtyard’s classic improv gigs: the speakers have to give a presentation on a slide deck they’ve never seen before\, with the topic determined at random by the Wheel of Destiny. Each presentation will be rated by a panel of judges and the winner applauded as the PowerPointless champion. Afterwards there’s a chance to mingle with the presenters and the Courtyard’s Corporate Team for an iftar (and a chance to find out more about the Courtyard’s Corporate Academy). \nIt’s free\,but you need to put your name on the guestlist via the website. It’s first-come first-served\, so get there early to grab a seat. \n 
URL:https://magpie.ae/event/powerpointless-networking-night-5/
LOCATION:Courtyard Playhouse\, Street 4B\, Al Quoz 1\, Dubai\, United Arab Emirates
CATEGORIES:Comedy,Improv
GEO:25.177696;55.2504958
X-APPLE-STRUCTURED-LOCATION;VALUE=URI;X-ADDRESS=Courtyard Playhouse Street 4B Al Quoz 1 Dubai United Arab Emirates;X-APPLE-RADIUS=500;X-TITLE=Street 4B\, Al Quoz 1:geo:55.2504958,25.177696
END:VEVENT
BEGIN:VEVENT
DTSTART;TZID=Asia/Dubai:20250925T200000
DTEND;TZID=Asia/Dubai:20250925T223000
DTSTAMP:20260424T074625
CREATED:20250919T084558Z
LAST-MODIFIED:20250919T084558Z
UID:10012717-1758830400-1758839400@magpie.ae
SUMMARY:The Comedy Lab
DESCRIPTION:Mad Cat’s regular Thursday stop in Silicon Oasis promises “Dubai’s wildest comedy night”. The door price of AED 99 includes two drinks\, a decent exchange …
URL:https://magpie.ae/event/the-comedy-lab-2/
LOCATION:Radisson Red\, Dubai Digital Park\, Dubai Silicon Oasis\, Dubai
CATEGORIES:Comedy
GEO:25.1210122;55.3761574
X-APPLE-STRUCTURED-LOCATION;VALUE=URI;X-ADDRESS=Radisson Red Dubai Digital Park Dubai Silicon Oasis Dubai;X-APPLE-RADIUS=500;X-TITLE=Dubai Digital Park\, Dubai Silicon Oasis:geo:55.3761574,25.1210122
END:VEVENT
END:VCALENDAR