BEGIN:VCALENDAR
VERSION:2.0
PRODID:-//magpie - ECPv6.15.20//NONSGML v1.0//EN
CALSCALE:GREGORIAN
METHOD:PUBLISH
X-ORIGINAL-URL:https://magpie.ae
X-WR-CALDESC:Events for magpie
REFRESH-INTERVAL;VALUE=DURATION:PT1H
X-Robots-Tag:noindex
X-PUBLISHED-TTL:PT1H
BEGIN:VTIMEZONE
TZID:Asia/Dubai
BEGIN:STANDARD
TZOFFSETFROM:+0400
TZOFFSETTO:+0400
TZNAME:+04
DTSTART:20240101T000000
END:STANDARD
END:VTIMEZONE
BEGIN:VEVENT
DTSTART;TZID=Asia/Dubai:20250924T200000
DTEND;TZID=Asia/Dubai:20250924T233000
DTSTAMP:20260424T075154
CREATED:20250919T084341Z
LAST-MODIFIED:20250919T084341Z
UID:10012715-1758744000-1758756600@magpie.ae
SUMMARY:Comedy Trios
DESCRIPTION:A MadCat gig promising “Dubai’s top comedians – ALL HEADLINERS” but also “a comedy whirlwind\,  featuring a revolving lineup of Dubai’s best comedians and fresh faces” which implies that they’re not all headliners … Still\, let’s not be picky: MadCat does do good nights out. The door price of AED 99 includes one drink.
URL:https://magpie.ae/event/comedy-trios/
LOCATION:Blacksmith Bar\, The First Collection Business Bay\, Al A'amal Street\, Dubai
CATEGORIES:Comedy
GEO:25.1783788;55.2679776
X-APPLE-STRUCTURED-LOCATION;VALUE=URI;X-ADDRESS=Blacksmith Bar The First Collection Business Bay Al A'amal Street Dubai;X-APPLE-RADIUS=500;X-TITLE=The First Collection Business Bay\, Al A'amal Street:geo:55.2679776,25.1783788
END:VEVENT
END:VCALENDAR