BEGIN:VCALENDAR
VERSION:2.0
PRODID:-//magpie - ECPv6.15.20//NONSGML v1.0//EN
CALSCALE:GREGORIAN
METHOD:PUBLISH
X-ORIGINAL-URL:https://magpie.ae
X-WR-CALDESC:Events for magpie
REFRESH-INTERVAL;VALUE=DURATION:PT1H
X-Robots-Tag:noindex
X-PUBLISHED-TTL:PT1H
BEGIN:VTIMEZONE
TZID:Asia/Dubai
BEGIN:STANDARD
TZOFFSETFROM:+0400
TZOFFSETTO:+0400
TZNAME:+04
DTSTART:20250101T000000
END:STANDARD
END:VTIMEZONE
BEGIN:VEVENT
DTSTART;TZID=Asia/Dubai:20260201T190000
DTEND;TZID=Asia/Dubai:20260201T223000
DTSTAMP:20260423T151034
CREATED:20260126T091849Z
LAST-MODIFIED:20260126T091849Z
UID:10013349-1769972400-1769985000@magpie.ae
SUMMARY:Sunday Night Comedy
DESCRIPTION:Dubomedy’s standup night at Social Distrikt returns. This has become a bit of a fixture: good vibes\, good comedy\, and “you never know who will pop in”. Recommended. \nIt’s free\, but it’s popular\, so pre-booking is recommended to get a seat. And there’s a minimum spend of one drink or food item (which you were probably going to get anyhow).
URL:https://magpie.ae/event/sunday-night-comedy-5/
LOCATION:Social Distrikt\, The Pointe\, Palm Jumeirah\, Dubai
CATEGORIES:Comedy
GEO:25.1268007;55.1219323
X-APPLE-STRUCTURED-LOCATION;VALUE=URI;X-ADDRESS=Social Distrikt The Pointe Palm Jumeirah Dubai;X-APPLE-RADIUS=500;X-TITLE=The Pointe\, Palm Jumeirah:geo:55.1219323,25.1268007
END:VEVENT
BEGIN:VEVENT
DTSTART;TZID=Asia/Dubai:20260202T200000
DTEND;TZID=Asia/Dubai:20260202T213000
DTSTAMP:20260423T151034
CREATED:20260116T105711Z
LAST-MODIFIED:20260116T105855Z
UID:10013307-1770062400-1770067800@magpie.ae
SUMMARY:Theatresports – Battle of the Sexes
DESCRIPTION:A one-night special where male and female teams go head-to-head in fast\, improvised games. No scripts\, no planning — expect fierce rivalry\, loads of mischief and some serious acting moves as the judges score each round. By the end of the night\, bragging rights are on the line for one team or the other … \nIt’s free\, but you need to put your name on the guestlist via the website. It’s first-come first-served\, so get there early to grab a seat. \n 
URL:https://magpie.ae/event/theatresports-battle-of-the-sexes/
LOCATION:Courtyard Playhouse\, Street 4B\, Al Quoz 1\, Dubai\, United Arab Emirates
CATEGORIES:Comedy,Improv
GEO:25.177696;55.2504958
X-APPLE-STRUCTURED-LOCATION;VALUE=URI;X-ADDRESS=Courtyard Playhouse Street 4B Al Quoz 1 Dubai United Arab Emirates;X-APPLE-RADIUS=500;X-TITLE=Street 4B\, Al Quoz 1:geo:55.2504958,25.177696
END:VEVENT
BEGIN:VEVENT
DTSTART;TZID=Asia/Dubai:20260206T190000
DTEND;TZID=Asia/Dubai:20260206T220000
DTSTAMP:20260423T151034
CREATED:20260204T130034Z
LAST-MODIFIED:20260204T130034Z
UID:10013406-1770404400-1770415200@magpie.ae
SUMMARY:Friday Night Comedy | Abu Dhabi
DESCRIPTION:Dubomedy’s Friday Night Comedy format comes to Abu Dhabi. “Audiences can expect big laughs\, rotating killer line-ups\, and a weekly comedy experience done right …”
URL:https://magpie.ae/event/friday-night-comedy-abu-dhabi-2/
LOCATION:Nalu\, Surf Abu Dhabi\, Al Hudayriyat Island\, Abu Dhabi
CATEGORIES:Comedy
GEO:24.4237846;54.3327684
X-APPLE-STRUCTURED-LOCATION;VALUE=URI;X-ADDRESS=Nalu Surf Abu Dhabi Al Hudayriyat Island Abu Dhabi;X-APPLE-RADIUS=500;X-TITLE=Surf Abu Dhabi\, Al Hudayriyat Island:geo:54.3327684,24.4237846
END:VEVENT
BEGIN:VEVENT
DTSTART;TZID=Asia/Dubai:20260206T203000
DTEND;TZID=Asia/Dubai:20260206T220000
DTSTAMP:20260423T151034
CREATED:20260128T111926Z
LAST-MODIFIED:20260128T111926Z
UID:10013357-1770409800-1770415200@magpie.ae
SUMMARY:The Laughter Factory Premium Comedy Club
DESCRIPTION:The Laughter Factory bookers are on a bit of a roll right now\, which might be enough to justify the door price hike (from AED 160 to 175). The February tour has another good collection of standups: \nPaul Tonkinson Terrific live performer with an effervescent style and some great caricatures in his repertoire. A former (double winner) Time Out Comedian of the Year \nPierre Hollins Another circuit favourite\, likeable and easy-going … most of the time. Former comedy acrobat and unicyclist\, about to publish his first novel. “Always enjoyable\, often inspired” \nLiz Bains Dubai-based comedy club regular. Very funny about being in Dubai and a woman; a magpie favourite \nThe rest of the schedule: \n7 Feb Studio One Hotel\n8 Feb The Club Abu Dhabi (7pm start)\n11 Feb The Strand\, Palm Dubai (8pm start)\n13 Feb Radisson DAMAC Hills\n14 Feb Dukes The Palm \n 
URL:https://magpie.ae/event/the-laughter-factory-premium-comedy-club-78/
LOCATION:The Agenda\, Abdullah Omran Taryam St\, Media City\, Dubai
CATEGORIES:Comedy
GEO:25.0992611;55.1679863
X-APPLE-STRUCTURED-LOCATION;VALUE=URI;X-ADDRESS=The Agenda Abdullah Omran Taryam St Media City Dubai;X-APPLE-RADIUS=500;X-TITLE=Abdullah Omran Taryam St\, Media City:geo:55.1679863,25.0992611
END:VEVENT
BEGIN:VEVENT
DTSTART;TZID=Asia/Dubai:20260207T203000
DTEND;TZID=Asia/Dubai:20260207T220000
DTSTAMP:20260423T151034
CREATED:20260128T112143Z
LAST-MODIFIED:20260128T112143Z
UID:10013358-1770496200-1770501600@magpie.ae
SUMMARY:The Laughter Factory Premium Comedy Club
DESCRIPTION:The February Laughter Factory tour has another good collection of standups: \nPaul Tonkinson Terrific live performer with an effervescent style and some great caricatures in his repertoire. A former (double winner) Time Out Comedian of the Year \nPierre Hollins Another circuit favourite\, likeable and easy-going … most of the time. Former comedy acrobat and unicyclist\, about to publish his first novel. “Always enjoyable\, often inspired” \nLiz Bains Dubai-based comedy club regular. Very funny about being in Dubai and a woman; a magpie favourite \nThe rest of the schedule: \n8 Feb The Club Abu Dhabi (7pm start)\n11 Feb The Strand\, Palm Dubai (8pm start)\n13 Feb Radisson DAMAC Hills\n14 Feb Dukes The Palm \n 
URL:https://magpie.ae/event/the-laughter-factory-premium-comedy-club-79/
LOCATION:Studio One Hotel\, Dubai Studio City\, Dubai
CATEGORIES:Comedy
GEO:25.0346728;55.2397317
X-APPLE-STRUCTURED-LOCATION;VALUE=URI;X-ADDRESS=Studio One Hotel Dubai Studio City Dubai;X-APPLE-RADIUS=500;X-TITLE=Dubai Studio City:geo:55.2397317,25.0346728
END:VEVENT
BEGIN:VEVENT
DTSTART;TZID=Asia/Dubai:20260208T190000
DTEND;TZID=Asia/Dubai:20260208T210000
DTSTAMP:20260423T151034
CREATED:20260128T112551Z
LAST-MODIFIED:20260128T112551Z
UID:10013361-1770577200-1770584400@magpie.ae
SUMMARY:The Laughter Factory Premium Comedy Club
DESCRIPTION:The February Laughter Factory tour has another good collection of standups: \nPaul Tonkinson Terrific live performer with an effervescent style and some great caricatures in his repertoire. A former (double winner) Time Out Comedian of the Year \nPierre Hollins Another circuit favourite\, likeable and easy-going … most of the time. Former comedy acrobat and unicyclist\, about to publish his first novel. “Always enjoyable\, often inspired” \nLiz Bains Dubai-based comedy club regular. Very funny about being in Dubai and a woman; a magpie favourite \nThe rest of the schedule: \n11 Feb The Strand\, Palm Dubai (8pm start)\n13 Feb Radisson DAMAC Hills\n14 Feb Dukes The Palm \n 
URL:https://magpie.ae/event/the-laughter-factory-premium-comedy-club-82/
LOCATION:The Club\, Al Mina\, Abu Dhabi
CATEGORIES:Comedy
GEO:24.5264943;54.3740483
X-APPLE-STRUCTURED-LOCATION;VALUE=URI;X-ADDRESS=The Club Al Mina Abu Dhabi;X-APPLE-RADIUS=500;X-TITLE=Al Mina:geo:54.3740483,24.5264943
END:VEVENT
BEGIN:VEVENT
DTSTART;TZID=Asia/Dubai:20260208T190000
DTEND;TZID=Asia/Dubai:20260208T223000
DTSTAMP:20260423T151034
CREATED:20260126T092017Z
LAST-MODIFIED:20260126T092017Z
UID:10013350-1770577200-1770589800@magpie.ae
SUMMARY:Sunday Night Comedy
DESCRIPTION:Dubomedy’s standup night at Social Distrikt – good vibes\, good comedy\, and “you never know who will pop in”. Recommended. \nIt’s free\, but it’s popular\, so pre-booking is recommended to get a seat. And there’s a minimum spend of one drink or food item (which you were probably going to get anyhow).
URL:https://magpie.ae/event/sunday-night-comedy-6/
LOCATION:Social Distrikt\, The Pointe\, Palm Jumeirah\, Dubai
CATEGORIES:Comedy
GEO:25.1268007;55.1219323
X-APPLE-STRUCTURED-LOCATION;VALUE=URI;X-ADDRESS=Social Distrikt The Pointe Palm Jumeirah Dubai;X-APPLE-RADIUS=500;X-TITLE=The Pointe\, Palm Jumeirah:geo:55.1219323,25.1268007
END:VEVENT
BEGIN:VEVENT
DTSTART;TZID=Asia/Dubai:20260210T200000
DTEND;TZID=Asia/Dubai:20260210T233000
DTSTAMP:20260423T151034
CREATED:20260210T102304Z
LAST-MODIFIED:20260210T102304Z
UID:10013417-1770753600-1770766200@magpie.ae
SUMMARY:The Comedy Lab @ Easy Tiger
DESCRIPTION:MadCat’s standup team at their regular stop at the Easy Tiger bar in Abu Dhabi’s Al Ain Palace. The door price of AED 99 includes two drinks …
URL:https://magpie.ae/event/the-comedy-lab-easy-tiger-18/
LOCATION:Al Ain Palace Hotel\, Corniche Road\, Abu Dhabi
CATEGORIES:Comedy
GEO:24.4991661;54.3699819
X-APPLE-STRUCTURED-LOCATION;VALUE=URI;X-ADDRESS=Al Ain Palace Hotel Corniche Road Abu Dhabi;X-APPLE-RADIUS=500;X-TITLE=Corniche Road:geo:54.3699819,24.4991661
END:VEVENT
BEGIN:VEVENT
DTSTART;TZID=Asia/Dubai:20260211T200000
DTEND;TZID=Asia/Dubai:20260211T220000
DTSTAMP:20260423T151034
CREATED:20260128T112646Z
LAST-MODIFIED:20260128T112646Z
UID:10013362-1770840000-1770847200@magpie.ae
SUMMARY:The Laughter Factory Premium Comedy Club
DESCRIPTION:The February Laughter Factory tour has another good collection of standups: \nPaul Tonkinson Terrific live performer with an effervescent style and some great caricatures in his repertoire. A former (double winner) Time Out Comedian of the Year \nPierre Hollins Another circuit favourite\, likeable and easy-going … most of the time. Former comedy acrobat and unicyclist\, about to publish his first novel. “Always enjoyable\, often inspired” \nLiz Bains Dubai-based comedy club regular. Very funny about being in Dubai and a woman; a magpie favourite \nThe rest of the schedule: \n13 Feb Radisson DAMAC Hills\n14 Feb Dukes The Palm \n 
URL:https://magpie.ae/event/the-laughter-factory-premium-comedy-club-83/
LOCATION:The Strand\, Palm Wesy Views\, Palm Jumeirah\, Dubai
CATEGORIES:Comedy
GEO:25.11555;55.13518
X-APPLE-STRUCTURED-LOCATION;VALUE=URI;X-ADDRESS=The Strand Palm Wesy Views Palm Jumeirah Dubai;X-APPLE-RADIUS=500;X-TITLE=Palm Wesy Views\, Palm Jumeirah:geo:55.13518,25.11555
END:VEVENT
BEGIN:VEVENT
DTSTART;TZID=Asia/Dubai:20260211T200000
DTEND;TZID=Asia/Dubai:20260211T233000
DTSTAMP:20260423T151034
CREATED:20260210T102939Z
LAST-MODIFIED:20260210T102939Z
UID:10013418-1770840000-1770852600@magpie.ae
SUMMARY:Stupid Funny
DESCRIPTION:Madcat brings “Dubai’s wildest comedy night” to the Fanzone Sports Bar on Palm Jumeirah– “insane laughs” are promised. The door price of AED 99 includes two drinks …
URL:https://magpie.ae/event/stupid-funny/
LOCATION:Fanzone\, Mileo The Pam Hotel\, West Beach\, Palm Jumeirah\, Dubai
CATEGORIES:Comedy
GEO:25.1073468;55.1445603
X-APPLE-STRUCTURED-LOCATION;VALUE=URI;X-ADDRESS=Fanzone Mileo The Pam Hotel West Beach Palm Jumeirah Dubai;X-APPLE-RADIUS=500;X-TITLE=Mileo The Pam Hotel\, West Beach\, Palm Jumeirah:geo:55.1445603,25.1073468
END:VEVENT
BEGIN:VEVENT
DTSTART;TZID=Asia/Dubai:20260212T210000
DTEND;TZID=Asia/Dubai:20260212T230000
DTSTAMP:20260423T151034
CREATED:20260210T103928Z
LAST-MODIFIED:20260210T104047Z
UID:10013420-1770930000-1770937200@magpie.ae
SUMMARY:The Comedy Lab
DESCRIPTION:MadCat Comedy’s regular stop in Silicon Oasis promises “insane laughs every week”\, with a Ramadan-friendly later-than-usual start. The door price of AED 99 includes one drink and popcorn.
URL:https://magpie.ae/event/the-comedy-lab-late-night-laughs/
LOCATION:Radisson Red\, Dubai Digital Park\, Dubai Silicon Oasis\, Dubai
CATEGORIES:Comedy
GEO:25.1210122;55.3761574
X-APPLE-STRUCTURED-LOCATION;VALUE=URI;X-ADDRESS=Radisson Red Dubai Digital Park Dubai Silicon Oasis Dubai;X-APPLE-RADIUS=500;X-TITLE=Dubai Digital Park\, Dubai Silicon Oasis:geo:55.3761574,25.1210122
END:VEVENT
BEGIN:VEVENT
DTSTART;TZID=Asia/Dubai:20260213T203000
DTEND;TZID=Asia/Dubai:20260213T220000
DTSTAMP:20260423T151034
CREATED:20260128T112326Z
LAST-MODIFIED:20260128T112326Z
UID:10013359-1771014600-1771020000@magpie.ae
SUMMARY:The Laughter Factory Premium Comedy Club
DESCRIPTION:The February Laughter Factory tour has another good collection of standups: \nPaul Tonkinson Terrific live performer with an effervescent style and some great caricatures in his repertoire. A former (double winner) Time Out Comedian of the Year \nPierre Hollins Another circuit favourite\, likeable and easy-going … most of the time. Former comedy acrobat and unicyclist\, about to publish his first novel. “Always enjoyable\, often inspired” \nLiz Bains Dubai-based comedy club regular. Very funny about being in Dubai and a woman; a magpie favourite \nThe final gig is tomorrow (14 Feb) at Dukes The Palm. \n 
URL:https://magpie.ae/event/the-laughter-factory-premium-comedy-club-80/
LOCATION:Radisson DAMAC Hills\, Hessa Street Dubailand\, Dubai
CATEGORIES:Comedy
GEO:25.0593526;55.2214882
X-APPLE-STRUCTURED-LOCATION;VALUE=URI;X-ADDRESS=Radisson DAMAC Hills Hessa Street Dubailand Dubai;X-APPLE-RADIUS=500;X-TITLE=Hessa Street Dubailand:geo:55.2214882,25.0593526
END:VEVENT
BEGIN:VEVENT
DTSTART;TZID=Asia/Dubai:20260213T210000
DTEND;TZID=Asia/Dubai:20260213T230000
DTSTAMP:20260423T151034
CREATED:20260210T104455Z
LAST-MODIFIED:20260210T104603Z
UID:10013423-1771016400-1771023600@magpie.ae
SUMMARY:Politically Incorrect Comedy
DESCRIPTION:MadCat Comedy’s regular standup night at Xandros in Signature 1 Hotel\, TECOM. The cover charge of AED 80 includes one drink.
URL:https://magpie.ae/event/politically-incorrect-comedy-23/
LOCATION:Xandros\, Singature 1 Hotel\, Barsha Heights\, Dubai
CATEGORIES:Comedy
GEO:25.0965195;55.1738621
X-APPLE-STRUCTURED-LOCATION;VALUE=URI;X-ADDRESS=Xandros Singature 1 Hotel Barsha Heights Dubai;X-APPLE-RADIUS=500;X-TITLE=Singature 1 Hotel\, Barsha Heights:geo:55.1738621,25.0965195
END:VEVENT
BEGIN:VEVENT
DTSTART;TZID=Asia/Dubai:20260214T203000
DTEND;TZID=Asia/Dubai:20260214T220000
DTSTAMP:20260423T151034
CREATED:20260128T112440Z
LAST-MODIFIED:20260128T112440Z
UID:10013360-1771101000-1771106400@magpie.ae
SUMMARY:The Laughter Factory Premium Comedy Club
DESCRIPTION:The final stop for the February Laughter Factory tour: \nPaul Tonkinson Terrific live performer with an effervescent style and some great caricatures in his repertoire. A former (double winner) Time Out Comedian of the Year \nPierre Hollins Another circuit favourite\, likeable and easy-going … most of the time. Former comedy acrobat and unicyclist\, about to publish his first novel. “Always enjoyable\, often inspired” \nLiz Bains Dubai-based comedy club regular. Very funny about being in Dubai and a woman; a magpie favourite \n 
URL:https://magpie.ae/event/the-laughter-factory-premium-comedy-club-81/
LOCATION:Dukes The Palm\, Palm Dubai\, Dubai
CATEGORIES:Comedy
GEO:25.1124317;55.138978
X-APPLE-STRUCTURED-LOCATION;VALUE=URI;X-ADDRESS=Dukes The Palm Palm Dubai Dubai;X-APPLE-RADIUS=500;X-TITLE=Palm Dubai:geo:55.138978,25.1124317
END:VEVENT
BEGIN:VEVENT
DTSTART;TZID=Asia/Dubai:20260214T210000
DTEND;TZID=Asia/Dubai:20260214T223000
DTSTAMP:20260423T151034
CREATED:20260210T105204Z
LAST-MODIFIED:20260210T105303Z
UID:10013427-1771102800-1771108200@magpie.ae
SUMMARY:Joke Hub
DESCRIPTION:A regular MadCat Comedy night – “Dubai’s wildest comedy show on Saturday” at “the first purpose built comedy room in the country” (whatever that means). The content might just be influenced by the fact that it’s Valentine’s Day … The cover charge of AED 99 includes two F&B coupons.
URL:https://magpie.ae/event/joke-hub-18/
LOCATION:Canopy by Hilton Dubai Al Seef\, Al Seef Street\, Umm Hurair 1\, Dubai
CATEGORIES:Comedy
GEO:25.2558677;55.310187
X-APPLE-STRUCTURED-LOCATION;VALUE=URI;X-ADDRESS=Canopy by Hilton Dubai Al Seef Al Seef Street Umm Hurair 1 Dubai;X-APPLE-RADIUS=500;X-TITLE=Al Seef Street\, Umm Hurair 1:geo:55.310187,25.2558677
END:VEVENT
BEGIN:VEVENT
DTSTART;TZID=Asia/Dubai:20260215T173000
DTEND;TZID=Asia/Dubai:20260215T193000
DTSTAMP:20260423T151034
CREATED:20260204T131347Z
LAST-MODIFIED:20260204T131347Z
UID:10013407-1771176600-1771183800@magpie.ae
SUMMARY:Dubomedy's Stand-up Showcase 1
DESCRIPTION:First of two stand-up sessions by Dubomedy’s finest – graduates of Dubomedy’s Fall Stand-up Workshops plus special guests perform fresh new material. Free\, but (a) pre-register because spaces are limited and go fast; and (b) there’s a minimum spend of one drink or one food item per person.
URL:https://magpie.ae/event/dubomedys-stand-up-showcase-1/
LOCATION:Social Distrikt\, The Pointe\, Palm Jumeirah\, Dubai
CATEGORIES:Comedy
GEO:25.1268007;55.1219323
X-APPLE-STRUCTURED-LOCATION;VALUE=URI;X-ADDRESS=Social Distrikt The Pointe Palm Jumeirah Dubai;X-APPLE-RADIUS=500;X-TITLE=The Pointe\, Palm Jumeirah:geo:55.1219323,25.1268007
END:VEVENT
BEGIN:VEVENT
DTSTART;TZID=Asia/Dubai:20260215T200000
DTEND;TZID=Asia/Dubai:20260215T220000
DTSTAMP:20260423T151034
CREATED:20260204T131451Z
LAST-MODIFIED:20260204T131451Z
UID:10013408-1771185600-1771192800@magpie.ae
SUMMARY:Dubomedy's Stand-up Showcase 2
DESCRIPTION:Second of two stand-up sessions this evening by Dubomedy’s finest – graduates of Dubomedy’s Fall Stand-up Workshops plus special guests perform fresh new material. Free\, but (a) pre-register because spaces are limited and go fast; and (b) there’s a minimum spend of one drink or one food item per person.
URL:https://magpie.ae/event/dubomedys-stand-up-showcase-2-4/
LOCATION:Social Distrikt\, The Pointe\, Palm Jumeirah\, Dubai
CATEGORIES:Comedy
GEO:25.1268007;55.1219323
X-APPLE-STRUCTURED-LOCATION;VALUE=URI;X-ADDRESS=Social Distrikt The Pointe Palm Jumeirah Dubai;X-APPLE-RADIUS=500;X-TITLE=The Pointe\, Palm Jumeirah:geo:55.1219323,25.1268007
END:VEVENT
BEGIN:VEVENT
DTSTART;TZID=Asia/Dubai:20260216T200000
DTEND;TZID=Asia/Dubai:20260216T233000
DTSTAMP:20260423T151034
CREATED:20260210T101857Z
LAST-MODIFIED:20260210T101857Z
UID:10013416-1771272000-1771284600@magpie.ae
SUMMARY:The Comedy Lab @ Easy Tiger
DESCRIPTION:MadCat’s standup team at their regular stop at the Easy Tiger bar in Abu Dhabi’s Al Ain Palace. The door price of AED 99 includes two drinks …
URL:https://magpie.ae/event/the-comedy-lab-easy-tiger-17/
LOCATION:Al Ain Palace Hotel\, Corniche Road\, Abu Dhabi
CATEGORIES:Comedy
GEO:24.4991661;54.3699819
X-APPLE-STRUCTURED-LOCATION;VALUE=URI;X-ADDRESS=Al Ain Palace Hotel Corniche Road Abu Dhabi;X-APPLE-RADIUS=500;X-TITLE=Corniche Road:geo:54.3699819,24.4991661
END:VEVENT
BEGIN:VEVENT
DTSTART;TZID=Asia/Dubai:20260218T200000
DTEND;TZID=Asia/Dubai:20260218T233000
DTSTAMP:20260423T151034
CREATED:20260210T103036Z
LAST-MODIFIED:20260210T103036Z
UID:10013419-1771444800-1771457400@magpie.ae
SUMMARY:Stupid Funny
DESCRIPTION:Madcat brings “Dubai’s wildest comedy night” to the Fanzone Sports Bar on Palm Jumeirah– “insane laughs” are promised. The door price of AED 99 includes two drinks …
URL:https://magpie.ae/event/stupid-funny-2/
LOCATION:Fanzone\, Mileo The Pam Hotel\, West Beach\, Palm Jumeirah\, Dubai
CATEGORIES:Comedy
GEO:25.1073468;55.1445603
X-APPLE-STRUCTURED-LOCATION;VALUE=URI;X-ADDRESS=Fanzone Mileo The Pam Hotel West Beach Palm Jumeirah Dubai;X-APPLE-RADIUS=500;X-TITLE=Mileo The Pam Hotel\, West Beach\, Palm Jumeirah:geo:55.1445603,25.1073468
END:VEVENT
BEGIN:VEVENT
DTSTART;TZID=Asia/Dubai:20260219T210000
DTEND;TZID=Asia/Dubai:20260219T230000
DTSTAMP:20260423T151034
CREATED:20260210T104202Z
LAST-MODIFIED:20260210T104202Z
UID:10013421-1771534800-1771542000@magpie.ae
SUMMARY:The Comedy Lab
DESCRIPTION:MadCat Comedy’s regular stop in Silicon Oasis promises “insane laughs every week”\, with a Ramadan-friendly later-than-usual start. The door price of AED 99 includes one drink and popcorn.
URL:https://magpie.ae/event/the-comedy-lab-12/
LOCATION:Radisson Red\, Dubai Digital Park\, Dubai Silicon Oasis\, Dubai
CATEGORIES:Comedy
GEO:25.1210122;55.3761574
X-APPLE-STRUCTURED-LOCATION;VALUE=URI;X-ADDRESS=Radisson Red Dubai Digital Park Dubai Silicon Oasis Dubai;X-APPLE-RADIUS=500;X-TITLE=Dubai Digital Park\, Dubai Silicon Oasis:geo:55.3761574,25.1210122
END:VEVENT
BEGIN:VEVENT
DTSTART;TZID=Asia/Dubai:20260220T203000
DTEND;TZID=Asia/Dubai:20260220T230000
DTSTAMP:20260423T151034
CREATED:20260217T095653Z
LAST-MODIFIED:20260217T095653Z
UID:10013441-1771619400-1771628400@magpie.ae
SUMMARY:Friday Night Comedy and Suhoor | Abu Dhabi
DESCRIPTION:Dubomedy’s Friday Night Comedy format on Al Hudayriyat. “Audiences can expect big laughs\, rotating killer line-ups\, and a weekly comedy experience done right …”
URL:https://magpie.ae/event/friday-night-comedy-and-suhoor-abu-dhabi/
LOCATION:Nalu\, Surf Abu Dhabi\, Al Hudayriyat Island\, Abu Dhabi
CATEGORIES:Comedy
GEO:24.4237846;54.3327684
X-APPLE-STRUCTURED-LOCATION;VALUE=URI;X-ADDRESS=Nalu Surf Abu Dhabi Al Hudayriyat Island Abu Dhabi;X-APPLE-RADIUS=500;X-TITLE=Surf Abu Dhabi\, Al Hudayriyat Island:geo:54.3327684,24.4237846
END:VEVENT
BEGIN:VEVENT
DTSTART;TZID=Asia/Dubai:20260220T210000
DTEND;TZID=Asia/Dubai:20260220T230000
DTSTAMP:20260423T151034
CREATED:20260210T104546Z
LAST-MODIFIED:20260210T104546Z
UID:10013424-1771621200-1771628400@magpie.ae
SUMMARY:Politically Incorrect Comedy
DESCRIPTION:MadCat Comedy’s regular standup night at Xandros in Signature 1 Hotel\, TECOM. The cover charge of AED 80 includes one drink.
URL:https://magpie.ae/event/politically-incorrect-comedy-24/
LOCATION:Xandros\, Singature 1 Hotel\, Barsha Heights\, Dubai
CATEGORIES:Comedy
GEO:25.0965195;55.1738621
X-APPLE-STRUCTURED-LOCATION;VALUE=URI;X-ADDRESS=Xandros Singature 1 Hotel Barsha Heights Dubai;X-APPLE-RADIUS=500;X-TITLE=Singature 1 Hotel\, Barsha Heights:geo:55.1738621,25.0965195
END:VEVENT
BEGIN:VEVENT
DTSTART;VALUE=DATE:20260221
DTEND;VALUE=DATE:20260222
DTSTAMP:20260423T151034
CREATED:20260202T171103Z
LAST-MODIFIED:20260202T172643Z
UID:10013366-1771632000-1771718399@magpie.ae
SUMMARY:Jimmy Carr: Laughs Funny
DESCRIPTION:The marmite comedian is back in town with his latest touring show (a stop between dates in Europe and Australia). It’s his trademark up-yours to civility – if he hasn’t amended the setlist for Dubai you should expect a flurry of gags about abortion\, sex\, identity politics\, domestic abuse\, murder\, paedophilia\, parenthood\, and Harry and Meghan. And he does have a funny laugh … He’s doing two shows\, at 6.30 and 9.30pm (“one for me\, one for the taxman” as he riposted to a heckle at one of the UK shows).
URL:https://magpie.ae/event/jimmy-carr-laughs-funny/
LOCATION:Dubai Opera
CATEGORIES:Comedy
ATTACH;FMTTYPE=image/webp:https://magpie.ae/wp-content/uploads/2026/02/JimmyCarr.webp
GEO:25.1928528;55.2789648
END:VEVENT
BEGIN:VEVENT
DTSTART;TZID=Asia/Dubai:20260222T203000
DTEND;TZID=Asia/Dubai:20260222T230000
DTSTAMP:20260423T151034
CREATED:20260217T100120Z
LAST-MODIFIED:20260218T125344Z
UID:10013442-1771792200-1771801200@magpie.ae
SUMMARY:Sunday Night Comedy and Suhoor
DESCRIPTION:Dubomedy’s highly successful comedy gig at Hushh in Social Distrikt\, later than usual because of Ramadan. “Fantastic lineups\, big laughs\, and great vibes … Come hungry\, leave happy.”
URL:https://magpie.ae/event/friday-night-comedy-and-suhoor/
LOCATION:Social Distrikt\, The Pointe\, Palm Jumeirah\, Dubai
CATEGORIES:Comedy
GEO:25.1268007;55.1219323
X-APPLE-STRUCTURED-LOCATION;VALUE=URI;X-ADDRESS=Social Distrikt The Pointe Palm Jumeirah Dubai;X-APPLE-RADIUS=500;X-TITLE=The Pointe\, Palm Jumeirah:geo:55.1219323,25.1268007
END:VEVENT
BEGIN:VEVENT
DTSTART;TZID=Asia/Dubai:20260223T200000
DTEND;TZID=Asia/Dubai:20260223T233000
DTSTAMP:20260423T151034
CREATED:20260210T101700Z
LAST-MODIFIED:20260210T102049Z
UID:10013200-1771876800-1771889400@magpie.ae
SUMMARY:The Comedy Lab @ Easy Tiger
DESCRIPTION:MadCat’s standup team at their regular stop at the Easy Tiger bar in Abu Dhabi’s Al Ain Palace. The door price of AED 99 includes two drinks …
URL:https://magpie.ae/event/the-comedy-lab-easy-tiger-16/
LOCATION:Al Ain Palace Hotel\, Corniche Road\, Abu Dhabi
CATEGORIES:Comedy
GEO:24.4991661;54.3699819
X-APPLE-STRUCTURED-LOCATION;VALUE=URI;X-ADDRESS=Al Ain Palace Hotel Corniche Road Abu Dhabi;X-APPLE-RADIUS=500;X-TITLE=Corniche Road:geo:54.3699819,24.4991661
END:VEVENT
BEGIN:VEVENT
DTSTART;TZID=Asia/Dubai:20260226T200000
DTEND;TZID=Asia/Dubai:20260226T213000
DTSTAMP:20260423T151034
CREATED:20260116T105401Z
LAST-MODIFIED:20260116T105401Z
UID:10013306-1772136000-1772141400@magpie.ae
SUMMARY:PowerPointless Networking Night
DESCRIPTION:Back for a new season\, it’s one of the most consistently funny of the Courtyard’s classic improv gigs: the speakers have to give a presentation on a slide deck they’ve never seen before\, with the topic determined at random by the Wheel of Destiny. Each presentation will be rated by a panel of judges and the winner applauded as the PowerPointless champion. Afterwards there’s a chance to mingle with the presenters and the Courtyard’s Corporate Team (and a chance to find out more about the Courtyard’s Corporate Academy). \nIt’s free\, but you need to put your name on the guestlist via the website. It’s first-come first-served\, so get there early to grab a seat. \n 
URL:https://magpie.ae/event/powerpointless-networking-night-7/
LOCATION:Courtyard Playhouse\, Street 4B\, Al Quoz 1\, Dubai\, United Arab Emirates
CATEGORIES:Comedy,Improv
GEO:25.177696;55.2504958
X-APPLE-STRUCTURED-LOCATION;VALUE=URI;X-ADDRESS=Courtyard Playhouse Street 4B Al Quoz 1 Dubai United Arab Emirates;X-APPLE-RADIUS=500;X-TITLE=Street 4B\, Al Quoz 1:geo:55.2504958,25.177696
END:VEVENT
BEGIN:VEVENT
DTSTART;TZID=Asia/Dubai:20260226T200000
DTEND;TZID=Asia/Dubai:20260226T223000
DTSTAMP:20260423T151034
CREATED:20260225T092434Z
LAST-MODIFIED:20260225T092434Z
UID:10013479-1772136000-1772145000@magpie.ae
SUMMARY:Comedy Lounge
DESCRIPTION:We came late to Yash Bhardwaj’s Flamingo Live comedy club\, which we now regret: the man himself is a mainstay of the Dubai comedy scene (appearing this month with the Laughter factory tour)\, the acts are generally good\, and this venue is handy for south Dubai … The door price includes two drinks (and it’s Happy Hour all night).
URL:https://magpie.ae/event/comedy-lounge/
LOCATION:The Coterie\, Level 2\, Ibn Battuta Mall\, Jebel Ali\, Dubai
CATEGORIES:Comedy
GEO:25.0445472;55.1202972
X-APPLE-STRUCTURED-LOCATION;VALUE=URI;X-ADDRESS=The Coterie Level 2 Ibn Battuta Mall Jebel Ali Dubai;X-APPLE-RADIUS=500;X-TITLE=Level 2\, Ibn Battuta Mall\, Jebel Ali:geo:55.1202972,25.0445472
END:VEVENT
BEGIN:VEVENT
DTSTART;TZID=Asia/Dubai:20260226T210000
DTEND;TZID=Asia/Dubai:20260226T230000
DTSTAMP:20260423T151034
CREATED:20260210T104235Z
LAST-MODIFIED:20260210T104235Z
UID:10013422-1772139600-1772146800@magpie.ae
SUMMARY:The Comedy Lab
DESCRIPTION:MadCat Comedy’s regular stop in Silicon Oasis promises “insane laughs every week”\, with a Ramadan-friendly later-than-usual start. The door price of AED 99 includes one drink and popcorn.
URL:https://magpie.ae/event/the-comedy-lab-13/
LOCATION:Radisson Red\, Dubai Digital Park\, Dubai Silicon Oasis\, Dubai
CATEGORIES:Comedy
GEO:25.1210122;55.3761574
X-APPLE-STRUCTURED-LOCATION;VALUE=URI;X-ADDRESS=Radisson Red Dubai Digital Park Dubai Silicon Oasis Dubai;X-APPLE-RADIUS=500;X-TITLE=Dubai Digital Park\, Dubai Silicon Oasis:geo:55.3761574,25.1210122
END:VEVENT
BEGIN:VEVENT
DTSTART;TZID=Asia/Dubai:20260227T210000
DTEND;TZID=Asia/Dubai:20260227T223000
DTSTAMP:20260423T151034
CREATED:20260210T105621Z
LAST-MODIFIED:20260221T085719Z
UID:10013428-1772226000-1772231400@magpie.ae
SUMMARY:Ramadan Showcase with Mercedes-Benz Brand Center Dubai
DESCRIPTION:Post-iftar comedy with the MadCat crew – which in this case means Luca Capani\, Roxy Yekta\, Denise Alexe\, Ahmed Kasid and MadCat’s main man Miqdaad D. The AED 75 per person door price is redeemable on F&B at AMG Kaffeehaus. \n 
URL:https://magpie.ae/event/ramadan-showcase-with-mercedes-benz-brand-center-dubai/
LOCATION:Mercedes-Benz Brand Center\, Dubai Design District\, Dubai
CATEGORIES:Comedy
GEO:25.1866742;55.3019726
X-APPLE-STRUCTURED-LOCATION;VALUE=URI;X-ADDRESS=Mercedes-Benz Brand Center Dubai Design District Dubai;X-APPLE-RADIUS=500;X-TITLE=Dubai Design District:geo:55.3019726,25.1866742
END:VEVENT
BEGIN:VEVENT
DTSTART;TZID=Asia/Dubai:20260227T210000
DTEND;TZID=Asia/Dubai:20260227T230000
DTSTAMP:20260423T151034
CREATED:20260210T104725Z
LAST-MODIFIED:20260210T104725Z
UID:10013425-1772226000-1772233200@magpie.ae
SUMMARY:Politically Incorrect Comedy
DESCRIPTION:MadCat Comedy’s regular standup night at Xandros in Signature 1 Hotel\, TECOM. The cover charge of AED 80 includes one drink.
URL:https://magpie.ae/event/politically-incorrect-comedy-25/
LOCATION:Xandros\, Singature 1 Hotel\, Barsha Heights\, Dubai
CATEGORIES:Comedy
GEO:25.0965195;55.1738621
X-APPLE-STRUCTURED-LOCATION;VALUE=URI;X-ADDRESS=Xandros Singature 1 Hotel Barsha Heights Dubai;X-APPLE-RADIUS=500;X-TITLE=Singature 1 Hotel\, Barsha Heights:geo:55.1738621,25.0965195
END:VEVENT
END:VCALENDAR