BEGIN:VCALENDAR
VERSION:2.0
PRODID:-//magpie - ECPv6.15.20//NONSGML v1.0//EN
CALSCALE:GREGORIAN
METHOD:PUBLISH
X-WR-CALNAME:magpie
X-ORIGINAL-URL:https://magpie.ae
X-WR-CALDESC:Events for magpie
REFRESH-INTERVAL;VALUE=DURATION:PT1H
X-Robots-Tag:noindex
X-PUBLISHED-TTL:PT1H
BEGIN:VTIMEZONE
TZID:Asia/Dubai
BEGIN:STANDARD
TZOFFSETFROM:+0400
TZOFFSETTO:+0400
TZNAME:+04
DTSTART:20240101T000000
END:STANDARD
END:VTIMEZONE
BEGIN:VEVENT
DTSTART;TZID=Asia/Dubai:20250511T170000
DTEND;TZID=Asia/Dubai:20250511T183000
DTSTAMP:20260424T120221
CREATED:20250424T130712Z
LAST-MODIFIED:20250424T130712Z
UID:10011967-1746982800-1746988200@magpie.ae
SUMMARY:Gravity & Other Myths: The Pulse
DESCRIPTION:The final chance to see this performance of modern circus at its best from a top Australian company. An award-winning creative team of director Darcy Grant\, designer Geoff Cobham and composer Ekrem Eli Phoenix have extended and amplified the signature spirit of this rather unique company: visceral\, poetic\, heart-stopping feats with seemingly impossible levels of cooperation create an intricate\, organic synchronicity of human movement and sound …
URL:https://magpie.ae/event/gravity-other-myths-the-pulse-3/
LOCATION:Dubai Opera
CATEGORIES:Circus
GEO:25.1928528;55.2789648
END:VEVENT
END:VCALENDAR