BEGIN:VCALENDAR
VERSION:2.0
PRODID:-//magpie - ECPv6.15.20//NONSGML v1.0//EN
CALSCALE:GREGORIAN
METHOD:PUBLISH
X-ORIGINAL-URL:https://magpie.ae
X-WR-CALDESC:Events for magpie
REFRESH-INTERVAL;VALUE=DURATION:PT1H
X-Robots-Tag:noindex
X-PUBLISHED-TTL:PT1H
BEGIN:VTIMEZONE
TZID:Asia/Dubai
BEGIN:STANDARD
TZOFFSETFROM:+0400
TZOFFSETTO:+0400
TZNAME:+04
DTSTART:20240101T000000
END:STANDARD
END:VTIMEZONE
BEGIN:VEVENT
DTSTART;VALUE=DATE:20250418
DTEND;VALUE=DATE:20250421
DTSTAMP:20260422T202141
CREATED:20250404T142546Z
LAST-MODIFIED:20250404T142546Z
UID:10011887-1744934400-1745193599@magpie.ae
SUMMARY:April Acts 2025: to carry new formations
DESCRIPTION:The inaugural edition of April Acts\, a weekend initiative expanding on the curatorial framework of Sharjah Biennial 16 and held across various  SB16 venues\, has the title to carry new formations – an extesion of SB16’s theme\, to carry. The April Acts programme “endeavours to build constellations of gathering and dialogue across multiple positions\, societal experiences and ongoing transitions … How can we reimagine and critically investigate our current situations or positions to construct and manifest new approaches to resistance\, reciprocity\, communal networks and life-enabling systems and structures?” \nThrough guided walks\, panel discussions\, artist talks\, participatory workshops\, film screenings and live music\, April Acts aims to create “a polyphonous space that invites multiple perspectives to co-exist and thrive”. Among the offerings are a listening session with Singing Wells; self-publishing workshops using several printing techniques such as Risograph\, including one led by Bhumika Saraswati and Siddhesh Gautam (founders of the magazine All That Blue); discussions with artists such as Brian Martin\, Yhonnie Scarce and Megan Cope; and a screening of First Horse (2024) by Awanui Simich-Pene. \nBaşak Günak\, Berke Can Özcan\, Sandy Chamun and Hauptmeier I Recker will collaborate in a performance based on their sound installation in the Biennial; Koleka Putuma will offer a performance titled WATER (reprise); and there will also be a series of performances based on the SB16 work He Kōrero Pūrākau mō te Awanui o te Motu: Story of a New Zealand river (2011). \nIt’s free\, but pre-register via this link. \n 
URL:https://magpie.ae/event/april-acts-2025-to-carry-new-formations/
LOCATION:vrs SB16 locations\, Sharjah
CATEGORIES:Art,Biennial,Performance,Workshop
GEO:25.3561698;55.427211
END:VEVENT
BEGIN:VEVENT
DTSTART;VALUE=DATE:20250206
DTEND;VALUE=DATE:20250210
DTSTAMP:20260422T202141
CREATED:20250128T092847Z
LAST-MODIFIED:20250128T093009Z
UID:10011306-1738800000-1739145599@magpie.ae
SUMMARY:Sharjah Biennial 16 opening programme
DESCRIPTION:Curated by Alia Swastika\, Amal Khalaf\, Megan Tamati-Quennell\, Natasha Ginwala and Zeynep Öz\, Sharjah Biennial 16 features works by more than 190 participants\, including over 200 new commissions. \nThe SB16 Opening Programme weekend\, which runs at locations in Sharjah City\, Al Hamriyah\, Al Dhaid\, Kalba\, Al Madam and other venues across Sharjah\, will give us a chance to see how the curators have approached their theme – ‘to carry’. That’s described as “a multivocal and open-ended proposition … The ever-expanding list of what to carry\, and how to carry it\, is an invitation to encounter the different formations and positions of the five curators as well as the constellation of resonances they have gathered”.  What do we carry when it is time to travel\, flee or move on? What are the passages that we form as we migrate between territories and across time? What do we carry when we remain? What do we carry when we survive? \nSo sB16 curatorial projects reflect on what it means to carry change and its technological\, societal\, animistic or ritualistic possibilities. “As carriers of different processes and offerings\, the curators have cultivated their projects together and apart\, allowing room for listening\, mutual support and the sharing of resources.” \nSB16 runs to 15 June. Here’s the opening programme: \n\n6 February \n10an-10.20am Official Opening Al Mureijah Square  \nWelcome remarks by Sheikha Hoor Al Qasimi\, President and Director of Sharjah Art Foundation\, followed by an introduction to Sharjah Biennial 16 by the curators \n10.20am-12pm \nTour: Galleries 1–6 and heritage houses Al Mureijah Square\nPerformance/Activation: Michael Parekōwhai Gallery 3\nPerformance/Activation: John Clang Bait Hussein Makrani\nActivation: Jorge González Santos Bait Haider Abadi \n12.30pm–1.30pm \nTour: Calligraphy Square \n1 pm–1.30 pm \nPerformance: Reetu Sattar Calligraphy Museum \n1.45 pm–2.15 pm \nTour: Bank Street Building \n2.30pm-3.30pm \nLunch Bait Obaid Al Shamsi \n3.30pm-5.30pm \nTour: Arts Square Bait Al Serkal\, Majlis\, Bait Obaid Al Shamsi\, Sharjah Art Museum \n3.30pm–4.00pm \nPerformance. Sancintya Mohini Simpson Bait Obaid Al Shamsi \n4.00pm–4.30pm \nPerformance. Rully Shabara  Arts Square \n4.45pm–5.30pm \nPerformance. Mila Turajlić Collections Building \n\n7 February \n9am-10am The Flying Saucer / Al Madam / Al Dhaid \nTour:  Flying Saucer \n11.30am–12.30pm \nTour. Al Madam Buried Village Al Madam \n1.30pm–3.00pm \nLunch Old Al Dhaid Clinic \n3.00pm–5.30pm \nTour. Al Dhaid venues Old Al Dhaid Clinic\, Arts Palace and Farm \n3.30pm–4.00pm \nPerformance. Luana Vitra Old Al Dhaid Clinic \n4.30pm–5.00pm \nPerformance. Joe Namy Arts Palace and Farm\, Al Dhaid \n\n8 February\n10.00am–1.00pm \nTour: Al Hamriyah Al Hamriyah Studios\, Old Al Diwan Alamiri \n12.00pm–1.00pm \nLunch Old Al Diwan Alamiri \n2.00pm–3.30pm \nTour. Old Al Jubail Vegetable Market \n3.00pm–3.30pm \nPerformance. Ellen Pau Old Al Jubail Vegetable Market \n4.00pm–7.00pm \nTour. Al Qasimiyah School \n4.30pm–6.00pm \nPerformance. Bilna’es Al Qasimiyah School \n8.00pm–9.00pm \nFilm. Roy Samaha Mirage City Cinema\, Al Mureijah Square \n\n9 February\n10.00am–12.00pm \nTour. Kalba Ice Factory \n10.30am–11.00am \nPerformance: Septina Layan Kalba Ice Factory \n12.00pm–1.30pm \nLunch: Fen Café & Restaurant\, Kalba Ice Factory \n3.00pm–4.00pm \nTour: Buhais Geology Park \n5.00pm–6.00pm \nTour. House of Wisdom\, Sharjah \n7.00pm–8.00pm \nPerformance. Tishani Doshi Sharjah Performing Arts Academy \n\nSome performances are seated and spaces may be limited. Check the programme – you may be need to preregister separately. \n 
URL:https://magpie.ae/event/sharjah-biennial-16-opening-programme/
LOCATION:vrs Sharjah locations
CATEGORIES:Art,Biennial
END:VEVENT
END:VCALENDAR