BEGIN:VCALENDAR
VERSION:2.0
PRODID:-//magpie - ECPv6.15.20//NONSGML v1.0//EN
CALSCALE:GREGORIAN
METHOD:PUBLISH
X-WR-CALNAME:magpie
X-ORIGINAL-URL:https://magpie.ae
X-WR-CALDESC:Events for magpie
REFRESH-INTERVAL;VALUE=DURATION:PT1H
X-Robots-Tag:noindex
X-PUBLISHED-TTL:PT1H
BEGIN:VTIMEZONE
TZID:Asia/Dubai
BEGIN:STANDARD
TZOFFSETFROM:+0400
TZOFFSETTO:+0400
TZNAME:+04
DTSTART:20240101T000000
END:STANDARD
END:VTIMEZONE
BEGIN:VEVENT
DTSTART;VALUE=DATE:20251219
DTEND;VALUE=DATE:20251220
DTSTAMP:20260423T015119
CREATED:20251118T173609Z
LAST-MODIFIED:20251118T173609Z
UID:10013080-1766102400-1766188799@magpie.ae
SUMMARY:The Nutcracker
DESCRIPTION:Two further performances (at 2pm and 8pm) for the seasonal favourite\, delivered by the Astrakhan Theater Opera and Ballet in a suitably classical manner and of course featuring some of the best-loved music that Tchaikovsky ever wrote … \nThere are further performances as follows: \n20 December 2pm and 8pm21 December 2pm and 8pm \n  \n  \n  \n  \n 
URL:https://magpie.ae/event/the-nutcracker-12/
LOCATION:Dubai Opera
CATEGORIES:Ballet
GEO:25.1928528;55.2789648
END:VEVENT
END:VCALENDAR