BEGIN:VCALENDAR
VERSION:2.0
PRODID:-//magpie - ECPv6.15.20//NONSGML v1.0//EN
CALSCALE:GREGORIAN
METHOD:PUBLISH
X-WR-CALNAME:magpie
X-ORIGINAL-URL:https://magpie.ae
X-WR-CALDESC:Events for magpie
REFRESH-INTERVAL;VALUE=DURATION:PT1H
X-Robots-Tag:noindex
X-PUBLISHED-TTL:PT1H
BEGIN:VTIMEZONE
TZID:Asia/Dubai
BEGIN:STANDARD
TZOFFSETFROM:+0400
TZOFFSETTO:+0400
TZNAME:+04
DTSTART:20240101T000000
END:STANDARD
END:VTIMEZONE
BEGIN:VEVENT
DTSTART;TZID=Asia/Dubai:20251218T200000
DTEND;TZID=Asia/Dubai:20251218T220000
DTSTAMP:20260423T015106
CREATED:20251118T171211Z
LAST-MODIFIED:20251118T173639Z
UID:10013079-1766088000-1766095200@magpie.ae
SUMMARY:The Nutcracker
DESCRIPTION:Tchaikovsky’s all-time seasonal favourite is a Dubai Opera staple for the time of year\, delivered on this occasion by the Astrakhan Theater Opera and Ballet – one of the newer Russian classical companies\, but one with a decent reputation for traditional works danced in the classical manner. Besides\, you can’t really go wrong with the cute story of Clara and her enchanted Nutcracker Prince journeying through snow-covered kingdoms and the Land of Sweets to some of the best-loved music that Tchaikovsky ever wrote … \nThere are further performances as follows: \n19 December 8pm20 December 2pm and 8pm21 December 2pm and 8pm \n  \n  \n  \n  \n 
URL:https://magpie.ae/event/the-nutcracker-11/
LOCATION:Dubai Opera
CATEGORIES:Ballet
GEO:25.1928528;55.2789648
END:VEVENT
END:VCALENDAR