BEGIN:VCALENDAR
VERSION:2.0
PRODID:-//magpie - ECPv6.15.20//NONSGML v1.0//EN
CALSCALE:GREGORIAN
METHOD:PUBLISH
X-ORIGINAL-URL:https://magpie.ae
X-WR-CALDESC:Events for magpie
REFRESH-INTERVAL;VALUE=DURATION:PT1H
X-Robots-Tag:noindex
X-PUBLISHED-TTL:PT1H
BEGIN:VTIMEZONE
TZID:Asia/Dubai
BEGIN:STANDARD
TZOFFSETFROM:+0400
TZOFFSETTO:+0400
TZNAME:+04
DTSTART:20240101T000000
END:STANDARD
END:VTIMEZONE
BEGIN:VEVENT
DTSTART;TZID=Asia/Dubai:20250404T200000
DTEND;TZID=Asia/Dubai:20250404T220000
DTSTAMP:20260425T030723
CREATED:20250401T152750Z
LAST-MODIFIED:20250402T164301Z
UID:10011835-1743796800-1743804000@magpie.ae
SUMMARY:A Thousand Tales
DESCRIPTION:The third visit to Dubai for this spectacular ballet performance based on characters from classic fairy tales (though probably not a thousand of them). It is danced by the Alberta Ballet Canada to choreography by Francesco Ventriglia and a score by Alexey Shor. We’re promised “a truly unforgettable experience for audiences of all ages”. \nThere’s a second performance on 5 April.
URL:https://magpie.ae/event/a-thousand-tales-3/
LOCATION:Dubai Opera
CATEGORIES:Ballet
GEO:25.1928528;55.2789648
END:VEVENT
END:VCALENDAR