BEGIN:VCALENDAR
VERSION:2.0
PRODID:-//magpie - ECPv6.15.20//NONSGML v1.0//EN
CALSCALE:GREGORIAN
METHOD:PUBLISH
X-ORIGINAL-URL:https://magpie.ae
X-WR-CALDESC:Events for magpie
REFRESH-INTERVAL;VALUE=DURATION:PT1H
X-Robots-Tag:noindex
X-PUBLISHED-TTL:PT1H
BEGIN:VTIMEZONE
TZID:Asia/Dubai
BEGIN:STANDARD
TZOFFSETFROM:+0400
TZOFFSETTO:+0400
TZNAME:+04
DTSTART:20250101T000000
END:STANDARD
END:VTIMEZONE
BEGIN:VEVENT
DTSTART;TZID=Asia/Dubai:20260109T200000
DTEND;TZID=Asia/Dubai:20260109T220000
DTSTAMP:20260422T113304
CREATED:20251209T120152Z
LAST-MODIFIED:20251209T121501Z
UID:10013136-1767988800-1767996000@magpie.ae
SUMMARY:Romeo and Juliet
DESCRIPTION:This is a true classic of ballet\, and it is always danced best by a company that follows the classical tradition rigorously – which is what you traditionally get from Russian companies\, of course. This production is not from the Moscow State Ballet\, despite what the publicity claims; it is however from the Russian State Ballet Mari El\, a company based in Mari El republic; established in the early 2000s\, the company is known for its commitment to classical ballet technique and has gained a reputation for the quality and accessibility of its performances; so this one should be on the button. Music by Sergei Prokofiev\, classic choreography by Konstantin Ivanov – a former Bolshoi soloist who is the State Ballet Mari El’s creative and administrative director.
URL:https://magpie.ae/event/romeo-and-juliet-3/
LOCATION:Cultural Foundation\, Sheikh Rashid bin Saeed Al Maktoum Street\, Abu Dhabi
CATEGORIES:Ballet
GEO:24.4856096;54.357172
X-APPLE-STRUCTURED-LOCATION;VALUE=URI;X-ADDRESS=Cultural Foundation Sheikh Rashid bin Saeed Al Maktoum Street Abu Dhabi;X-APPLE-RADIUS=500;X-TITLE=Sheikh Rashid bin Saeed Al Maktoum Street:geo:54.357172,24.4856096
END:VEVENT
BEGIN:VEVENT
DTSTART;TZID=Asia/Dubai:20260110T180000
DTEND;TZID=Asia/Dubai:20260110T200000
DTSTAMP:20260422T113304
CREATED:20251209T121325Z
LAST-MODIFIED:20251209T121325Z
UID:10013138-1768068000-1768075200@magpie.ae
SUMMARY:Cinderella
DESCRIPTION:A second performance by the Russian State Ballet Mari El\, again Prokofiev and again one of the classics. We’re promised magnificent costumes and sets plus the dancers’ skill and classical technique.
URL:https://magpie.ae/event/cinderella/
LOCATION:Cultural Foundation\, Sheikh Rashid bin Saeed Al Maktoum Street\, Abu Dhabi
CATEGORIES:Ballet
GEO:24.4856096;54.357172
X-APPLE-STRUCTURED-LOCATION;VALUE=URI;X-ADDRESS=Cultural Foundation Sheikh Rashid bin Saeed Al Maktoum Street Abu Dhabi;X-APPLE-RADIUS=500;X-TITLE=Sheikh Rashid bin Saeed Al Maktoum Street:geo:54.357172,24.4856096
END:VEVENT
BEGIN:VEVENT
DTSTART;VALUE=DATE:20260111
DTEND;VALUE=DATE:20260112
DTSTAMP:20260422T113304
CREATED:20251209T171035Z
LAST-MODIFIED:20251209T171035Z
UID:10013143-1768089600-1768175999@magpie.ae
SUMMARY:The Nutcracker
DESCRIPTION:The Russian State Ballet Mari El is touring a selection of classic ballets around the UAE this week. This time it’s Tchaikovsky’s evergreen seasonal favourite “in a dazzling production that blends classic choreography with fresh expression”. There are shows at 2pm and 7pm\, which sounds like hard work for the corps de ballet … As usual with Zabeel Theatre shows\, ticket holders get a 20% discount on food and drink at the Jumeirah Zabeel Saray.
URL:https://magpie.ae/event/the-nutcracker-6/
LOCATION:Zabeel Theatre\, Jumeirah Zabeel Saray\, Palm Jumeirah West Crescent\, Dubai
CATEGORIES:Ballet
GEO:25.0977637;55.1249239
X-APPLE-STRUCTURED-LOCATION;VALUE=URI;X-ADDRESS=Zabeel Theatre Jumeirah Zabeel Saray Palm Jumeirah West Crescent Dubai;X-APPLE-RADIUS=500;X-TITLE=Jumeirah Zabeel Saray\, Palm Jumeirah West Crescent:geo:55.1249239,25.0977637
END:VEVENT
BEGIN:VEVENT
DTSTART;TZID=Asia/Dubai:20260112T200000
DTEND;TZID=Asia/Dubai:20260112T220000
DTSTAMP:20260422T113304
CREATED:20251209T175837Z
LAST-MODIFIED:20251209T175837Z
UID:10013149-1768248000-1768255200@magpie.ae
SUMMARY:Romeo and Juliet
DESCRIPTION:The Russian State Ballet Mari El\, a company known for its commitment to classical ballet technique\, is touring a repertoire of ballet standards in the UAE. It has gained a reputation for the quality and accessibility of its performances; so this one should be on the button. Music by Sergei Prokofiev\, classic choreography by Konstantin Ivanov – a former Bolshoi soloist who is the State Ballet Mari El’s creative and administrative director.
URL:https://magpie.ae/event/romeo-and-juliet-5/
LOCATION:Zabeel Theatre\, Jumeirah Zabeel Saray\, Palm Jumeirah West Crescent\, Dubai
CATEGORIES:Ballet
GEO:25.0977637;55.1249239
X-APPLE-STRUCTURED-LOCATION;VALUE=URI;X-ADDRESS=Zabeel Theatre Jumeirah Zabeel Saray Palm Jumeirah West Crescent Dubai;X-APPLE-RADIUS=500;X-TITLE=Jumeirah Zabeel Saray\, Palm Jumeirah West Crescent:geo:55.1249239,25.0977637
END:VEVENT
END:VCALENDAR