BEGIN:VCALENDAR
VERSION:2.0
PRODID:-//magpie - ECPv6.15.20//NONSGML v1.0//EN
CALSCALE:GREGORIAN
METHOD:PUBLISH
X-WR-CALNAME:magpie
X-ORIGINAL-URL:https://magpie.ae
X-WR-CALDESC:Events for magpie
REFRESH-INTERVAL;VALUE=DURATION:PT1H
X-Robots-Tag:noindex
X-PUBLISHED-TTL:PT1H
BEGIN:VTIMEZONE
TZID:Asia/Dubai
BEGIN:STANDARD
TZOFFSETFROM:+0400
TZOFFSETTO:+0400
TZNAME:+04
DTSTART:20240101T000000
END:STANDARD
END:VTIMEZONE
BEGIN:VEVENT
DTSTART;TZID=Asia/Dubai:20251106T200000
DTEND;TZID=Asia/Dubai:20251106T220000
DTSTAMP:20260422T144558
CREATED:20251020T161747Z
LAST-MODIFIED:20251020T162438Z
UID:10012949-1762459200-1762466400@magpie.ae
SUMMARY:Roberto Bolle and Friends
DESCRIPTION:A production that has become one of the most acclaimed dance galas in the world; Roberto Bolle\, recognised as one of the great ballet stars of his time\, is not only the leading performer of the evening but also its Artistic Director; he aims to select only the best dancers to take part in his gala. \nThis extraordinary event is presented by his company\, ArteDanza\, with sponsorship from Mapei and the support of the Italian Embassy.
URL:https://magpie.ae/event/roberto-bolle-and-friends/
LOCATION:Dubai Opera
CATEGORIES:Ballet
ATTACH;FMTTYPE=image/webp:https://magpie.ae/wp-content/uploads/2025/10/Bolle.webp
GEO:25.1928528;55.2789648
END:VEVENT
END:VCALENDAR