BEGIN:VCALENDAR
VERSION:2.0
PRODID:-//magpie - ECPv6.15.20//NONSGML v1.0//EN
CALSCALE:GREGORIAN
METHOD:PUBLISH
X-ORIGINAL-URL:https://magpie.ae
X-WR-CALDESC:Events for magpie
REFRESH-INTERVAL;VALUE=DURATION:PT1H
X-Robots-Tag:noindex
X-PUBLISHED-TTL:PT1H
BEGIN:VTIMEZONE
TZID:Asia/Dubai
BEGIN:STANDARD
TZOFFSETFROM:+0400
TZOFFSETTO:+0400
TZNAME:+04
DTSTART:20240101T000000
END:STANDARD
END:VTIMEZONE
BEGIN:VEVENT
DTSTART;TZID=Asia/Dubai:20250925T200000
DTEND;TZID=Asia/Dubai:20250925T220000
DTSTAMP:20260422T194735
CREATED:20250919T094817Z
LAST-MODIFIED:20250919T094817Z
UID:10012722-1758830400-1758837600@magpie.ae
SUMMARY:Swan Lake
DESCRIPTION:A proper classic\, done in the classic style: Tchaikovsky’s Swan Lake earned its initial reputation because of the choreography by Marius Petipa and Lev Ivanov\, and this production by the Hungarian National Ballet with the Hungarian National Opera Orchestra – which has a sold-out run at Dubai Opera in 2023\, with more than 8\,000 seats sold – follows that tradition\, with revisions to the original choreography by Rudi van Dantzig and Toer van Schayk. \nThere are further performances as follows: \nFri 26 Sep 8pm\nSat 27 Sep 2pm and 8pm\nSun 28 Sep 1pm and 7pm
URL:https://magpie.ae/event/swan-lake-2/
LOCATION:Dubai Opera
CATEGORIES:Ballet
ATTACH;FMTTYPE=image/webp:https://magpie.ae/wp-content/uploads/2025/09/swan-lake.webp
GEO:25.1928528;55.2789648
END:VEVENT
BEGIN:VEVENT
DTSTART;TZID=Asia/Dubai:20250926T200000
DTEND;TZID=Asia/Dubai:20250926T220000
DTSTAMP:20260422T194735
CREATED:20250919T095037Z
LAST-MODIFIED:20250919T095037Z
UID:10012723-1758916800-1758924000@magpie.ae
SUMMARY:Swan Lake
DESCRIPTION:Another evening performance for the classic Tchaikovsky ballet\, done in the classic style by the Hungarian National Ballet with the Hungarian National Opera Orchestra. There are further performances as follows: \nSat 27 Sep 2pm and 8pm\nSun 28 Sep 1pm and 7pm
URL:https://magpie.ae/event/swan-lake-3/
LOCATION:Dubai Opera
CATEGORIES:Ballet
GEO:25.1928528;55.2789648
END:VEVENT
BEGIN:VEVENT
DTSTART;VALUE=DATE:20250927
DTEND;VALUE=DATE:20250928
DTSTAMP:20260422T194735
CREATED:20250919T095212Z
LAST-MODIFIED:20250919T095212Z
UID:10012724-1758931200-1759017599@magpie.ae
SUMMARY:Swan Lake
DESCRIPTION:Two performances today – 2pm and 8pm – for the classic Tchaikovsky ballet\, done in the classic style by the Hungarian National Ballet with the Hungarian National Opera Orchestra. There are final performances tomorrow (Sunday 28 September) at 1pm and 7pm.
URL:https://magpie.ae/event/swan-lake-4/
LOCATION:Dubai Opera
CATEGORIES:Ballet
GEO:25.1928528;55.2789648
END:VEVENT
BEGIN:VEVENT
DTSTART;VALUE=DATE:20250928
DTEND;VALUE=DATE:20250929
DTSTAMP:20260422T194735
CREATED:20250919T095259Z
LAST-MODIFIED:20250919T095343Z
UID:10012725-1759017600-1759103999@magpie.ae
SUMMARY:Swan Lake
DESCRIPTION:The final performances today for the classic Tchaikovsky ballet\, done in the classic style by the Hungarian National Ballet with the Hungarian National Opera Orchestra\, are at 1pm and 7pm.
URL:https://magpie.ae/event/swan-lake-7/
LOCATION:Dubai Opera
CATEGORIES:Ballet
GEO:25.1928528;55.2789648
END:VEVENT
END:VCALENDAR