BEGIN:VCALENDAR
VERSION:2.0
PRODID:-//magpie - ECPv6.15.20//NONSGML v1.0//EN
CALSCALE:GREGORIAN
METHOD:PUBLISH
X-WR-CALNAME:magpie
X-ORIGINAL-URL:https://magpie.ae
X-WR-CALDESC:Events for magpie
REFRESH-INTERVAL;VALUE=DURATION:PT1H
X-Robots-Tag:noindex
X-PUBLISHED-TTL:PT1H
BEGIN:VTIMEZONE
TZID:Asia/Dubai
BEGIN:STANDARD
TZOFFSETFROM:+0400
TZOFFSETTO:+0400
TZNAME:+04
DTSTART:20240101T000000
END:STANDARD
END:VTIMEZONE
BEGIN:VEVENT
DTSTART;TZID=Asia/Dubai:20250404T200000
DTEND;TZID=Asia/Dubai:20250404T220000
DTSTAMP:20260425T012005
CREATED:20250401T152750Z
LAST-MODIFIED:20250402T164301Z
UID:10011835-1743796800-1743804000@magpie.ae
SUMMARY:A Thousand Tales
DESCRIPTION:The third visit to Dubai for this spectacular ballet performance based on characters from classic fairy tales (though probably not a thousand of them). It is danced by the Alberta Ballet Canada to choreography by Francesco Ventriglia and a score by Alexey Shor. We’re promised “a truly unforgettable experience for audiences of all ages”. \nThere’s a second performance on 5 April.
URL:https://magpie.ae/event/a-thousand-tales-3/
LOCATION:Dubai Opera
CATEGORIES:Ballet
GEO:25.1928528;55.2789648
END:VEVENT
BEGIN:VEVENT
DTSTART;TZID=Asia/Dubai:20250405T200000
DTEND;TZID=Asia/Dubai:20250405T220000
DTSTAMP:20260425T012005
CREATED:20250401T152929Z
LAST-MODIFIED:20250402T164314Z
UID:10011836-1743883200-1743890400@magpie.ae
SUMMARY:A Thousand Tales
DESCRIPTION:The second and final performance of this spectacular ballet based on characters from classic fairy tales (though probably not a thousand of them). It is danced by the Alberta Ballet Canada to choreography by Francesco Ventriglia; the set is by Roberta Guidi di Bagno\, the score is by Alexey Shor\, and we’re promised “a truly unforgettable experience for audiences of all ages”.
URL:https://magpie.ae/event/a-thousand-tales-4/
LOCATION:Dubai Opera
CATEGORIES:Ballet
GEO:25.1928528;55.2789648
END:VEVENT
BEGIN:VEVENT
DTSTART;TZID=Asia/Dubai:20250405T200000
DTEND;TZID=Asia/Dubai:20250405T220000
DTSTAMP:20260425T012005
CREATED:20250401T162854Z
LAST-MODIFIED:20250401T162854Z
UID:10011842-1743883200-1743890400@magpie.ae
SUMMARY:Stars of Russian Ballet Gala
DESCRIPTION:Classic dances from favourite ballets including Swan Lake\, Don Quixote\, Sleeping Beauty\, The Nutcracker\, and The Flame of Paris by virtuoso Russian ballet dancers from Russia’s foremost companies: the Bolshoi\, Mariinsky\, Stanislavsky and Nemirovich-Danchenko\, and the D. Hvorostovsky Krasnoyarsk Opera and Ballet Theater. As usual at this venue\, the ticket price includes a 20 percent discount on food and drinks at Jumeirah Zabeel Saray.
URL:https://magpie.ae/event/stars-of-russian-ballet-gala/
LOCATION:Zabeel Theatre\, Jumeirah Zabeel Saray\, Palm Jumeirah West Crescent\, Dubai
CATEGORIES:Ballet
GEO:25.0977637;55.1249239
X-APPLE-STRUCTURED-LOCATION;VALUE=URI;X-ADDRESS=Zabeel Theatre Jumeirah Zabeel Saray Palm Jumeirah West Crescent Dubai;X-APPLE-RADIUS=500;X-TITLE=Jumeirah Zabeel Saray\, Palm Jumeirah West Crescent:geo:55.1249239,25.0977637
END:VEVENT
BEGIN:VEVENT
DTSTART;TZID=Asia/Dubai:20250422T193000
DTEND;TZID=Asia/Dubai:20250422T210000
DTSTAMP:20260425T012005
CREATED:20250403T153543Z
LAST-MODIFIED:20250403T153543Z
UID:10011875-1745350200-1745355600@magpie.ae
SUMMARY:All Star Ballet Gala 
DESCRIPTION:Abu Dhabi Festival’s ballet gala features some of the world’s most celebrated dancers from some of its top companies – Jinhao Zhang and Madison Young of Bayerisches Staatsballett (both Prix de Lausanne winners)\, Stuttgart Ballet’s Principals Martí Paixà and Elisa Badenes (Youth America Grand Prix)\, and\, from the Royal Ballet\, Principal Dancer Ryoichi Hirano (Prix de Lausanne) and First Soloist Melissa Hamilton (Youth America Grand Prix). such as the Royal Ballet\, Bayerisches Staatsballett\, and Stuttgart Ballet. The program offers a mix of the classical repertoire and contemporary masterpieces.
URL:https://magpie.ae/event/all-star-ballet-gala/
LOCATION:The Arts Center @ NYUAD\, NYUAD Campus\, Saadiyat Island\, Abu Dhabi\, United Arab Emirates
CATEGORIES:Ballet
GEO:24.5238948;54.4345558
X-APPLE-STRUCTURED-LOCATION;VALUE=URI;X-ADDRESS=The Arts Center @ NYUAD NYUAD Campus Saadiyat Island Abu Dhabi United Arab Emirates;X-APPLE-RADIUS=500;X-TITLE=NYUAD Campus\, Saadiyat Island:geo:54.4345558,24.5238948
END:VEVENT
END:VCALENDAR