BEGIN:VCALENDAR
VERSION:2.0
PRODID:-//magpie - ECPv6.15.20//NONSGML v1.0//EN
CALSCALE:GREGORIAN
METHOD:PUBLISH
X-WR-CALNAME:magpie
X-ORIGINAL-URL:https://magpie.ae
X-WR-CALDESC:Events for magpie
REFRESH-INTERVAL;VALUE=DURATION:PT1H
X-Robots-Tag:noindex
X-PUBLISHED-TTL:PT1H
BEGIN:VTIMEZONE
TZID:Asia/Dubai
BEGIN:STANDARD
TZOFFSETFROM:+0400
TZOFFSETTO:+0400
TZNAME:+04
DTSTART:20250101T000000
END:STANDARD
END:VTIMEZONE
BEGIN:VEVENT
DTSTART;VALUE=DATE:20260211
DTEND;VALUE=DATE:20260216
DTSTAMP:20260423T122513
CREATED:20260112T174839Z
LAST-MODIFIED:20260112T174839Z
UID:10013226-1770768000-1771199999@magpie.ae
SUMMARY:Animenia Abu Dhabi
DESCRIPTION:Animenia returns to Manarat Al Saadiyat with five days of cosplay\, music\, food\, and J-pop culture – “step inside a world inspired by the hidden corners of Neo-Tokyo\, where glowing signs\, colourful characters\, and offbeat discoveries bring anime culture to life … An unmissable anime celebration unlike anything fans have experienced before …” There’s a cosplay competition with big prizes\, an ‘artists alley’ where people will try to sell you stuff like rare collectibles\, “delicious bites inspired by authentic Japanese street food” (so not actual authentic Japanese street food then and the chance to find “creators whose work has already taken over your feed”. The last Animenia was a load of fun\, if you like this kind of thing. \nIt’s open 4pm to midnight (3pm-midnight on Saturday and Sunday) with single day entry costing AED 95 (AED 145 on 13 and 14 Feb). A five-day Festival Pass is AED 495.
URL:https://magpie.ae/event/animenia-abu-dhabi/
LOCATION:Manarat al Saadiyat\, Abu Dhabi\, United Arab Emirates
CATEGORIES:Anime,Festival
ATTACH;FMTTYPE=image/webp:https://magpie.ae/wp-content/uploads/2026/01/Animenia-Abu-Dhabi.webp
END:VEVENT
END:VCALENDAR