BEGIN:VCALENDAR
VERSION:2.0
PRODID:-//magpie - ECPv6.15.20//NONSGML v1.0//EN
CALSCALE:GREGORIAN
METHOD:PUBLISH
X-WR-CALNAME:magpie
X-ORIGINAL-URL:https://magpie.ae
X-WR-CALDESC:Events for magpie
REFRESH-INTERVAL;VALUE=DURATION:PT1H
X-Robots-Tag:noindex
X-PUBLISHED-TTL:PT1H
BEGIN:VTIMEZONE
TZID:Asia/Dubai
BEGIN:STANDARD
TZOFFSETFROM:+0400
TZOFFSETTO:+0400
TZNAME:+04
DTSTART:20250101T000000
END:STANDARD
END:VTIMEZONE
BEGIN:VEVENT
DTSTART;TZID=Asia/Dubai:20260421T110000
DTEND;TZID=Asia/Dubai:20260421T123000
DTSTAMP:20260421T014251
CREATED:20260417T113009Z
LAST-MODIFIED:20260420T155501Z
UID:10013638-1776769200-1776774600@magpie.ae
SUMMARY:Behind the Scenes of Museums: From Conservation to Communication
DESCRIPTION:A lecture by Elsie El Deek Bou Jaoude\, art historian and Director of the USEK Archaeological Museum\, that promises “a rare glimpse into the unseen work of museums\, exploring how conservation\, research\, and collaboration shape collections beyond what is visible to the public”. It draws on case studies from the USEK Museum\, which is something of a hidden gem in Jounieh\, Lebanon\, that showcases the country’s rich heritage.
URL:https://magpie.ae/event/behind-the-scenes-of-museums-from-conservation-to-communication/
LOCATION:Bassam Freiha Art Foundation\, Cultural District Saadiyat Island\, Abu Dhabi
CATEGORIES:Museums
GEO:24.5335392;54.4095952
X-APPLE-STRUCTURED-LOCATION;VALUE=URI;X-ADDRESS=Bassam Freiha Art Foundation Cultural District Saadiyat Island Abu Dhabi;X-APPLE-RADIUS=500;X-TITLE=Cultural District Saadiyat Island:geo:54.4095952,24.5335392
END:VEVENT
END:VCALENDAR